BEGIN:VCALENDAR
VERSION:2.0
PRODID:IEEE vTools.Events//EN
CALSCALE:GREGORIAN
BEGIN:VTIMEZONE
TZID:America/New_York
BEGIN:DAYLIGHT
DTSTART:20250309T030000
TZOFFSETFROM:-0500
TZOFFSETTO:-0400
RRULE:FREQ=YEARLY;BYDAY=2SU;BYMONTH=3
TZNAME:EDT
END:DAYLIGHT
BEGIN:STANDARD
DTSTART:20241103T010000
TZOFFSETFROM:-0400
TZOFFSETTO:-0500
RRULE:FREQ=YEARLY;BYDAY=1SU;BYMONTH=11
TZNAME:EST
END:STANDARD
END:VTIMEZONE
BEGIN:VEVENT
DTSTAMP:20241124T182505Z
UID:251F2505-6321-4E9E-85A6-FCB7CAA0DD9F
DTSTART;TZID=America/New_York:20241119T110000
DTEND;TZID=America/New_York:20241119T130000
DESCRIPTION:We are delighted to announce the launch of the French-English l
 exicon &quot;101 mots de la photonique&quot;\n\nYou can consult the online version h
 ere: [DataFranca Lexique](https://datafranca.org/wiki/Cat%C3%A9gorie:Photo
 nique)\, where you are invited to suggest any missing terms.\n\nYou can al
 so [leaf through the pages directly here](https://www.calameo.com/read/007
 172346eacc04131aa4?page=1.)\n\nAttendees will receive a printed copy.\n\nT
 his glossary represents an effort to highlight the importance of advances 
 in photonics engineering\, while introducing younger generations to the fi
 eld. We are pleased to make it available free of charge and plan to distri
 bute copies to high schools and cégeps (community colleges).\n\nCo-sponso
 red by: IEEE Photonics Society. Optica. Optonique. COPL. McGill Univeristy
 . Université Laval. Ansys.\n\nRoom: Room 5 Engine\, McGill University\, 3
 450 Rue University \, Montréal\, Quebec\, Canada
LOCATION:Room: Room 5 Engine\, McGill University\, 3450 Rue University \, M
 ontréal\, Quebec\, Canada
ORGANIZER:matthew.t.posner@ieee.org
SEQUENCE:10
SUMMARY:Lancement: les 101 mots de la photonique
URL;VALUE=URI:https://events.vtools.ieee.org/m/442883
X-ALT-DESC:Description: &lt;br /&gt;&lt;p&gt;&amp;nbsp\;&lt;/p&gt;\n&lt;p&gt;&lt;img src=&quot;https://events.v
 tools.ieee.org/vtools_ui/media/display/5370e9be-da18-465f-99ce-f96a495d4c5
 3&quot; width=&quot;722&quot; height=&quot;406&quot;&gt;&lt;/p&gt;\n&lt;p&gt;&amp;nbsp\;&lt;/p&gt;\n&lt;p&gt;We are delighted to a
 nnounce the launch of the French-English lexicon &quot;101 mots de la photoniqu
 e&quot;&lt;/p&gt;\n&lt;p&gt;You can consult the online version here: &lt;a href=&quot;https://dataf
 ranca.org/wiki/Cat%C3%A9gorie:Photonique&quot;&gt;DataFranca Lexique&lt;/a&gt;\, where y
 ou are invited to suggest any missing terms.&lt;/p&gt;\n&lt;p&gt;You can also &lt;a href=
 &quot;https://www.calameo.com/read/007172346eacc04131aa4?page=1.&quot;&gt;leaf through 
 the pages directly here&lt;/a&gt;&lt;/p&gt;\n&lt;p&gt;Attendees will receive a printed copy.
 &lt;/p&gt;\n&lt;p&gt;This glossary represents an effort to highlight the importance of
  advances in photonics engineering\, while introducing younger generations
  to the field. We are pleased to make it available free of charge and plan
  to distribute copies to high schools and c&amp;eacute\;geps (community colleg
 es).&lt;/p&gt;
END:VEVENT
END:VCALENDAR

