BEGIN:VCALENDAR
VERSION:2.0
PRODID:IEEE vTools.Events//EN
CALSCALE:GREGORIAN
BEGIN:VTIMEZONE
TZID:Asia/Kolkata
BEGIN:STANDARD
DTSTART:19451014T230000
TZOFFSETFROM:+0630
TZOFFSETTO:+0530
TZNAME:IST
END:STANDARD
END:VTIMEZONE
BEGIN:VEVENT
DTSTAMP:20241122T064850Z
UID:04B04296-985D-4A15-B889-51469FE0198B
DTSTART;TZID=Asia/Kolkata:20241107T123000
DTEND;TZID=Asia/Kolkata:20241107T133000
DESCRIPTION:Complete content of the mail\n\nGreetings from IEEE Gujarat Sec
 tion IE/IA/PEL Societies Joint Chapter!\n\nWe cordially invite you to the 
 Industry Application Society (IAS) distinguished lecture by Professor Siva
 neasan Bala Krishnan on the topic “Electric Vehicles as Energy Storage i
 n Smart Grids” online mode. The event is scheduled for November 7th at 1
 2:30 PM IST.\n\nAbstract of the lecture:\n\nThe presentation\, &quot;Electric V
 ehicles as Energy Storage in Smart Grids\,&quot; explores the role of electric 
 vehicles (EVs) in decarbonizing the transport sector and how they can be l
 everaged as distributed energy storage systems through Vehicle-to-Grid (V2
 G) technology. The talk covers the impact of EVs on reducing carbon emissi
 ons\, the architecture and communication protocols necessary for V2G integ
 ration\, and the V2G estimation required for demand response and peak load
  management. Case studies illustrate how aggregated EVs can contribute to 
 grid stability through V2G application while ensuring that user mobility n
 eeds are met.\n\nBrief Biography of Professor Sivaneasan Bala Krishnan\n\n
 Dr Sivaneasan received the B.Eng. and Ph.D. degrees in Electrical and Elec
 tronic Engineering from Nanyang Technological University\, Singapore\, in 
 2007 and 2012 respectively. In 2019\, he joined Singapore Institute of Tec
 hnology as an Assistant Professor and subsequently promoted to an Associat
 e Professor in 2023. He also concurrently holds the Deputy Director appoin
 tment for SIT Teaching and Learning Academy. He is registered as Chartered
  Engineer with UK Engineering Council. Dr Sivaneasan conducts research and
  development in the areas of power engineering particularly microgrids\, s
 mart grid technologies and electric vehicle management system.\n\nThe Orga
 nising Committee consists of Dr. Pallavi Bharadwaj\, IIT\, Gandhinagar (Pr
 ogram Chair)\, Dr. Mahmadasraf A. Mulla\, Dr. Amit Ved\, Dr. Priyesh Chauh
 an\, Dr. Anil Kumar Roy\, Dr. Aeidapu M\, Dr. Manisha Shah\, and Dr. Manis
 ha Shukla\, IEEE\, IEEE Gujarat Section\, IAS\, IES\, PELS.\n\nRegistratio
 n Link: http://tiny.cc/v2g\n\nPlease find the attached event poster.\n\nCo
 -sponsored by: Industry Application Society (IAS) Distinguished Lecture \n
 \nVirtual: https://events.vtools.ieee.org/m/442973
LOCATION:Virtual: https://events.vtools.ieee.org/m/442973
ORGANIZER:mamulla@ieee.org
SEQUENCE:4
SUMMARY:IAS DL talk on Electric Vehicles as Energy Storage in Smart Grids
URL;VALUE=URI:https://events.vtools.ieee.org/m/442973
X-ALT-DESC:Description: &lt;br /&gt;&lt;table class=&quot;MsoTableGrid&quot; style=&quot;border-col
 lapse: collapse\; border: none\; mso-border-alt: solid windowtext .5pt\; m
 so-yfti-tbllook: 1184\; mso-padding-alt: 0cm 5.4pt 0cm 5.4pt\;&quot; border=&quot;1&quot;
  cellspacing=&quot;0&quot; cellpadding=&quot;0&quot;&gt;\n&lt;tbody&gt;\n&lt;tr style=&quot;mso-yfti-irow: 0\; 
 mso-yfti-firstrow: yes\; mso-yfti-lastrow: yes\;&quot;&gt;\n&lt;td style=&quot;width: 122.
 4pt\; border: solid windowtext 1.0pt\; mso-border-alt: solid windowtext .5
 pt\; padding: 0cm 5.4pt 0cm 5.4pt\;&quot; valign=&quot;top&quot; width=&quot;163&quot;&gt;\n&lt;p class=&quot;
 MsoNormal&quot; style=&quot;line-height: normal\;&quot;&gt;&lt;span lang=&quot;EN-US&quot;&gt;Complete conte
 nt of the mail&lt;/span&gt;&lt;/p&gt;\n&lt;/td&gt;\n&lt;td style=&quot;width: 428.4pt\; border: soli
 d windowtext 1.0pt\; border-left: none\; mso-border-left-alt: solid window
 text .5pt\; mso-border-alt: solid windowtext .5pt\; padding: 0cm 5.4pt 0cm
  5.4pt\;&quot; valign=&quot;top&quot; width=&quot;571&quot;&gt;\n&lt;p class=&quot;MsoNormal&quot; style=&quot;line-heig
 ht: normal\;&quot;&gt;&lt;span lang=&quot;EN-US&quot;&gt;Greetings from IEEE Gujarat Section IE/IA
 /PEL Societies Joint Chapter!&lt;/span&gt;&lt;/p&gt;\n&lt;p class=&quot;MsoNormal&quot; style=&quot;line
 -height: normal\;&quot;&gt;&lt;span lang=&quot;EN-US&quot;&gt;&amp;nbsp\;&lt;/span&gt;&lt;/p&gt;\n&lt;p class=&quot;MsoNor
 mal&quot; style=&quot;line-height: normal\;&quot;&gt;&lt;span lang=&quot;EN-US&quot;&gt;We cordially invite 
 you to the Industry Application Society (IAS) distinguished lecture by &lt;st
 rong&gt;Professor Sivaneasan Bala Krishnan&lt;/strong&gt; on the topic &lt;strong&gt;&amp;ldq
 uo\;Electric Vehicles as Energy Storage in Smart Grids&amp;rdquo\;&lt;/strong&gt; on
 line mode. The event is scheduled for &lt;strong&gt;November 7th at 12:30 PM IST
 .&lt;/strong&gt;&lt;/span&gt;&lt;/p&gt;\n&lt;p class=&quot;MsoNormal&quot; style=&quot;line-height: normal\;&quot;&gt;
 &lt;span lang=&quot;EN-US&quot;&gt;&amp;nbsp\;&lt;/span&gt;&lt;/p&gt;\n&lt;p class=&quot;MsoNormal&quot; style=&quot;line-he
 ight: normal\;&quot;&gt;&lt;strong&gt;&lt;span lang=&quot;EN-US&quot;&gt;Abstract of the lecture:&lt;/span&gt;
 &lt;/strong&gt;&lt;/p&gt;\n&lt;p class=&quot;MsoNormal&quot; style=&quot;line-height: normal\;&quot;&gt;&lt;span la
 ng=&quot;EN-US&quot;&gt;The presentation\, &quot;Electric Vehicles as Energy Storage in Smar
 t Grids\,&quot; explores the role of electric vehicles (EVs) in decarbonizing t
 he transport sector and how they can be leveraged as distributed energy st
 orage systems through Vehicle-to-Grid (V2G) technology. The talk covers th
 e impact of EVs on reducing carbon emissions\, the architecture and commun
 ication protocols necessary for V2G integration\, and the V2G estimation r
 equired for demand response and peak load management. Case studies illustr
 ate how aggregated EVs can contribute to grid stability through V2G applic
 ation while ensuring that user mobility needs are met.&lt;/span&gt;&lt;/p&gt;\n&lt;p clas
 s=&quot;MsoNormal&quot; style=&quot;line-height: normal\;&quot;&gt;&lt;strong&gt;&lt;span lang=&quot;EN-US&quot;&gt;&amp;nb
 sp\;&lt;/span&gt;&lt;/strong&gt;&lt;/p&gt;\n&lt;p class=&quot;MsoNormal&quot; style=&quot;line-height: normal\
 ;&quot;&gt;&lt;strong&gt;&lt;span lang=&quot;EN-US&quot;&gt;Brief Biography of Professor Sivaneasan Bala
  Krishnan &lt;/span&gt;&lt;/strong&gt;&lt;/p&gt;\n&lt;p class=&quot;MsoNormal&quot; style=&quot;line-height: n
 ormal\;&quot;&gt;&lt;span lang=&quot;EN-US&quot;&gt;Dr Sivaneasan received the B.Eng. and Ph.D. de
 grees in Electrical and Electronic Engineering from Nanyang Technological 
 University\, Singapore\, in 2007 and 2012 respectively. In 2019\, he joine
 d Singapore Institute of Technology as an Assistant Professor and subseque
 ntly promoted to an Associate Professor in 2023. He also concurrently hold
 s the Deputy Director appointment for SIT Teaching and Learning Academy. H
 e is registered as Chartered Engineer with UK Engineering Council. Dr Siva
 neasan conducts research and development in the areas of power engineering
  particularly microgrids\, smart grid technologies and electric vehicle ma
 nagement system.&lt;/span&gt;&lt;/p&gt;\n&lt;p class=&quot;MsoNormal&quot; style=&quot;line-height: norm
 al\;&quot;&gt;&lt;span lang=&quot;EN-US&quot;&gt;&amp;nbsp\;&lt;/span&gt;&lt;/p&gt;\n&lt;p class=&quot;MsoNormal&quot; style=&quot;l
 ine-height: normal\;&quot;&gt;&lt;span lang=&quot;EN-US&quot;&gt;The Organising Committee consists
  of &lt;strong&gt;Dr. Pallavi Bharadwaj&lt;/strong&gt;\, IIT\, Gandhinagar (Program Ch
 air)\, Dr. Mahmadasraf A. Mulla\, Dr. Amit Ved\, Dr. Priyesh Chauhan\, Dr.
  Anil Kumar Roy\, Dr. Aeidapu M\, Dr. Manisha Shah\, and Dr. Manisha Shukl
 a\, IEEE\, IEEE Gujarat Section\, IAS\, IES\, PELS.&lt;/span&gt;&lt;/p&gt;\n&lt;p class=&quot;
 MsoNormal&quot; style=&quot;line-height: normal\;&quot;&gt;&lt;span lang=&quot;EN-US&quot;&gt;&amp;nbsp\;&lt;/span&gt;
 &lt;/p&gt;\n&lt;p class=&quot;MsoNormal&quot; style=&quot;line-height: normal\;&quot;&gt;&lt;span lang=&quot;EN-US
 &quot;&gt;Registration Link: &lt;a href=&quot;http://tiny.cc/v2g&quot;&gt;http://tiny.cc/v2g&lt;/a&gt; &lt;
 /span&gt;&lt;/p&gt;\n&lt;p class=&quot;MsoNormal&quot; style=&quot;line-height: normal\;&quot;&gt;&lt;span lang=
 &quot;EN-US&quot;&gt;&amp;nbsp\;&lt;/span&gt;&lt;/p&gt;\n&lt;p class=&quot;MsoNormal&quot; style=&quot;line-height: norma
 l\;&quot;&gt;&lt;span lang=&quot;EN-US&quot;&gt;Please find the attached event poster.&lt;/span&gt;&lt;/p&gt;\
 n&lt;p class=&quot;MsoNormal&quot; style=&quot;line-height: normal\;&quot;&gt;&lt;span lang=&quot;EN-US&quot;&gt;&amp;nb
 sp\;&lt;/span&gt;&lt;/p&gt;\n&lt;/td&gt;\n&lt;/tr&gt;\n&lt;/tbody&gt;\n&lt;/table&gt;
END:VEVENT
END:VCALENDAR

