BEGIN:VCALENDAR
VERSION:2.0
PRODID:IEEE vTools.Events//EN
CALSCALE:GREGORIAN
BEGIN:VTIMEZONE
TZID:Europe/Zurich
BEGIN:DAYLIGHT
DTSTART:20250330T030000
TZOFFSETFROM:+0100
TZOFFSETTO:+0200
RRULE:FREQ=YEARLY;BYDAY=-1SU;BYMONTH=3
TZNAME:CEST
END:DAYLIGHT
BEGIN:STANDARD
DTSTART:20241027T020000
TZOFFSETFROM:+0200
TZOFFSETTO:+0100
RRULE:FREQ=YEARLY;BYDAY=-1SU;BYMONTH=10
TZNAME:CET
END:STANDARD
END:VTIMEZONE
BEGIN:VEVENT
DTSTAMP:20241208T095647Z
UID:4D27B56E-71E8-4074-8FBE-F86614FC4997
DTSTART;TZID=Europe/Zurich:20241129T090000
DTEND;TZID=Europe/Zurich:20241129T150000
DESCRIPTION:This physical event on Friday 29 November 2024 [sponsored by th
 e IEEE Swiss Circuits and Systems and Electron Devices Chapter](https://ie
 ee.ch/chapters/circuits-and-systems-electron-devices-joint-chapter/) will 
 celebrate the [research in circuits\, systems and devices by researchers f
 rom industry and academia](https://sites.google.com/view/2024-ieee-swiss-c
 as-ed-75th/).\n\nIt includes a standing lunch (registration for lunch is c
 losed) with posters and demos from participants.\nAgenda summary\n\nMornin
 g program:\nIEEE Swiss Electron Devices Session with talks by Abu Sebastia
 n (IBM)\, Mikael Perrin (EMPA) and Frank Gürkaynak (ETH Zürich)\nPoster/
 Demo Blitz\nIEEE Swiss Chair CAS/ED Officer Elections (optional for attend
 ees) (Interested candidates\, please contact the current IEEE CAS Chair by
  22.11)\nAfternoon program:\nIEEE Swiss Circuits and Systems Session with 
 talks by Sandro Carrara (EPFL)\, Mathieu Coustans (FNHW) and Daniele Palos
 si (IDSIA USI-SUPSI &amp; ETH Zürich)\n\nThe event is free and open to everyo
 ne. Registration is closed but interested attendees can still register for
  the event by contacting the IEEE CAS/ED Chair.\n\nPosters\n\nAttendees ar
 e welcome to bring a poster or some gadget to show off. Register your opti
 onal poster when you register for the event. [Program](https://sites.googl
 e.com/view/2024-ieee-swiss-cas-ed-75th/program) posters will be added base
 d on registration.\n\nAgenda: \nProgram summary\n\n9:00 Welcome\n9.15 IEEE
  Swiss Electron Devices Session talks\n10.25 Poster/Demo Blitz\n10.35 IEEE
  Swiss Chair CAS/ED Elections (optional for attendees) (Interested candida
 tes\, please contact the current IEEE CAS Chair by 22.11)\n13:00 IEEE Swis
 s Circuits and Systems Session talks\n15:00 Closing words\n15:30 End of ev
 ent\n\nUpdated program is on the website (https://sites.google.com/view/20
 24-ieee-swiss-cas-ed-75th/program)\n\nRoom: F51\, Bldg: Y35\, University o
 f Zurich\, Irchel Campus\, Winterthurerstrasse 190\, Zurich\, Switzerland\
 , Switzerland\, 8057
LOCATION:Room: F51\, Bldg: Y35\, University of Zurich\, Irchel Campus\, Win
 terthurerstrasse 190\, Zurich\, Switzerland\, Switzerland\, 8057
ORGANIZER:shih@ini.uzh.ch
SEQUENCE:32
SUMMARY:IEEE Swiss CAS/ED 75th CAS Anniversary Workshop
URL;VALUE=URI:https://events.vtools.ieee.org/m/443051
X-ALT-DESC:Description: &lt;br /&gt;&lt;div class=&quot;CjVfdc&quot;&gt;&amp;nbsp\;&lt;/div&gt;\n&lt;h2 id=&quot;h.
 if3tnmkj9ej8_l&quot; class=&quot;zfr3Q JYVBee CDt4Ke &quot; dir=&quot;ltr&quot;&gt;&lt;/h2&gt;\n&lt;p class=&quot;zf
 r3Q CDt4Ke &quot; dir=&quot;ltr&quot;&gt;&lt;span class=&quot;C9DxTc &quot;&gt;This physical event on&amp;nbsp\;
 &lt;/span&gt;&lt;span class=&quot;C9DxTc &quot;&gt;Friday 29 November 2024&lt;/span&gt;&lt;span class=&quot;C9
 DxTc &quot;&gt;&amp;nbsp\;&lt;/span&gt;&lt;a class=&quot;XqQF9c&quot; href=&quot;https://ieee.ch/chapters/circ
 uits-and-systems-electron-devices-joint-chapter/&quot; target=&quot;_blank&quot; rel=&quot;noo
 pener&quot;&gt;&lt;span class=&quot;C9DxTc aw5Odc &quot;&gt;sponsored by the IEEE Swiss Circuits a
 nd Systems and Electron Devices Chapter&lt;/span&gt;&lt;/a&gt;&lt;span class=&quot;C9DxTc &quot;&gt; w
 ill celebrate the&lt;/span&gt;&lt;span class=&quot;C9DxTc &quot;&gt;&amp;nbsp\;&amp;nbsp\;&lt;/span&gt;&lt;a clas
 s=&quot;XqQF9c&quot; href=&quot;https://sites.google.com/view/2024-ieee-swiss-cas-ed-75th
 /&quot;&gt;&lt;span class=&quot;C9DxTc aw5Odc &quot;&gt;research in&amp;nbsp\; circuits\, systems and 
 devices by researchers from industry and academia&lt;/span&gt;&lt;/a&gt;&lt;span class=&quot;C
 9DxTc &quot;&gt;.&amp;nbsp\;&lt;/span&gt;&lt;/p&gt;\n&lt;p class=&quot;zfr3Q CDt4Ke &quot; dir=&quot;ltr&quot;&gt;&lt;span clas
 s=&quot;C9DxTc &quot;&gt;It includes a standing lunch (registration for lunch is closed
 ) with posters and demos from participants.&amp;nbsp\;&lt;/span&gt;&lt;/p&gt;\n&lt;div class=
 &quot;CjVfdc&quot;&gt;&lt;span class=&quot;C9DxTc &quot;&gt;Agenda summary&lt;/span&gt;&lt;/div&gt;\n&lt;div class=&quot;Cj
 Vfdc&quot;&gt;&amp;nbsp\;&lt;/div&gt;\n&lt;div class=&quot;CjVfdc&quot;&gt;&lt;span class=&quot;C9DxTc &quot;&gt;Morning pro
 gram: &lt;/span&gt;&lt;/div&gt;\n&lt;div class=&quot;CjVfdc&quot;&gt;&lt;span class=&quot;C9DxTc &quot;&gt;IEEE Swiss 
 Electron Devices Session with talks by Abu Sebastian (IBM)\, Mikael Perrin
  (EMPA) and Frank G&amp;uuml\;rkaynak (ETH Z&amp;uuml\;rich)&lt;/span&gt;&lt;/div&gt;\n&lt;div cl
 ass=&quot;CjVfdc&quot;&gt;&lt;span class=&quot;C9DxTc &quot;&gt;Poster/Demo Blitz&lt;/span&gt;&lt;/div&gt;\n&lt;div cl
 ass=&quot;CjVfdc&quot;&gt;&lt;span class=&quot;C9DxTc &quot;&gt;IEEE Swiss Chair CAS/ED Officer Electio
 ns (optional for attendees) &lt;strong&gt;(Interested candidates\, please contac
 t the current IEEE CAS Chair by 22.11)&lt;/strong&gt;&lt;/span&gt;&lt;/div&gt;\n&lt;div class=&quot;
 CjVfdc&quot;&gt;&lt;span class=&quot;C9DxTc &quot;&gt;Afternoon program:&lt;/span&gt;&lt;/div&gt;\n&lt;div class=
 &quot;CjVfdc&quot;&gt;&lt;span class=&quot;C9DxTc &quot;&gt;IEEE Swiss Circuits and Systems Session wit
 h talks by Sandro Carrara (EPFL)\, Mathieu Coustans (FNHW) and Daniele Pal
 ossi (IDSIA USI-SUPSI &amp;amp\; ETH Z&amp;uuml\;rich)&lt;/span&gt;&lt;/div&gt;\n&lt;div class=&quot;C
 jVfdc&quot;&gt;&amp;nbsp\;&lt;/div&gt;\n&lt;h2 id=&quot;h.8np9dzbickjn_l&quot; class=&quot;zfr3Q JYVBee CDt4Ke
  &quot; dir=&quot;ltr&quot;&gt;&lt;/h2&gt;\n&lt;p class=&quot;zfr3Q CDt4Ke &quot; dir=&quot;ltr&quot;&gt;&lt;span class=&quot;C9DxTc
  &quot;&gt;The event&amp;nbsp\;&lt;/span&gt;&lt;span class=&quot;C9DxTc &quot;&gt;is&lt;/span&gt;&lt;span class=&quot;C9Dx
 Tc &quot;&gt; free and open to everyone. Registration is closed but interested att
 endees can still register for the event by contacting the IEEE CAS/ED Chai
 r.&lt;/span&gt;&lt;/p&gt;\n&lt;p class=&quot;zfr3Q CDt4Ke &quot; dir=&quot;ltr&quot;&gt;&amp;nbsp\;&lt;/p&gt;\n&lt;div class=
 &quot;CjVfdc&quot;&gt;&lt;span class=&quot;C9DxTc &quot;&gt;Posters&lt;/span&gt;&lt;/div&gt;\n&lt;h2 id=&quot;h.a7ag345snwo
 8_l&quot; class=&quot;zfr3Q JYVBee CDt4Ke &quot; dir=&quot;ltr&quot;&gt;&lt;/h2&gt;\n&lt;p class=&quot;zfr3Q CDt4Ke 
 &quot; dir=&quot;ltr&quot;&gt;&lt;span class=&quot;C9DxTc &quot;&gt;Attendees are&amp;nbsp\;&lt;/span&gt;&lt;span class=&quot;
 C9DxTc &quot;&gt;welcome&lt;/span&gt;&lt;span class=&quot;C9DxTc &quot;&gt;&amp;nbsp\;to bring a poster&lt;/spa
 n&gt;&lt;span class=&quot;C9DxTc &quot;&gt;&amp;nbsp\;or some gadget to show off&lt;/span&gt;&lt;span clas
 s=&quot;C9DxTc &quot;&gt;. Register your optional poster when you&amp;nbsp\;&lt;/span&gt;&lt;span cl
 ass=&quot;C9DxTc aw5Odc &quot;&gt;register&lt;/span&gt;&lt;span class=&quot;C9DxTc &quot;&gt;&amp;nbsp\;for the e
 vent.&amp;nbsp\;&amp;nbsp\;&lt;/span&gt;&lt;a class=&quot;XqQF9c&quot; href=&quot;https://sites.google.com
 /view/2024-ieee-swiss-cas-ed-75th/program&quot;&gt;&lt;span class=&quot;C9DxTc aw5Odc &quot;&gt;Pr
 ogram&lt;/span&gt;&lt;/a&gt;&lt;span class=&quot;C9DxTc &quot;&gt;&amp;nbsp\;posters will be added based o
 n registration.&amp;nbsp\;&lt;/span&gt;&lt;/p&gt;&lt;br /&gt;&lt;br /&gt;Agenda: &lt;br /&gt;&lt;div class=&quot;CjV
 fdc&quot;&gt;&lt;span class=&quot;C9DxTc &quot;&gt;Program summary&lt;/span&gt;&lt;/div&gt;\n&lt;div class=&quot;CjVfd
 c&quot;&gt;&amp;nbsp\;&lt;/div&gt;\n&lt;div class=&quot;CjVfdc&quot;&gt;&lt;span class=&quot;C9DxTc &quot;&gt;9:00 Welcome&lt;/
 span&gt;&lt;/div&gt;\n&lt;div class=&quot;CjVfdc&quot;&gt;&lt;span class=&quot;C9DxTc &quot;&gt;9.15 IEEE Swiss Ele
 ctron Devices Session talks&lt;/span&gt;&lt;/div&gt;\n&lt;div class=&quot;CjVfdc&quot;&gt;&lt;span class=
 &quot;C9DxTc &quot;&gt;10.25 Poster/Demo Blitz&lt;/span&gt;&lt;/div&gt;\n&lt;div class=&quot;CjVfdc&quot;&gt;&lt;span 
 class=&quot;C9DxTc &quot;&gt;10.35 IEEE Swiss Chair CAS/ED Elections (optional for atte
 ndees) &lt;strong&gt;(Interested candidates\, please contact the current IEEE CA
 S Chair by 22.11)&lt;/strong&gt;&lt;/span&gt;&lt;/div&gt;\n&lt;div class=&quot;CjVfdc&quot;&gt;&lt;span class=&quot;
 C9DxTc &quot;&gt;13:00 IEEE Swiss Circuits and Systems Session talks&lt;/span&gt;&lt;/div&gt;\
 n&lt;div class=&quot;CjVfdc&quot;&gt;&lt;span class=&quot;C9DxTc &quot;&gt;15:00 Closing words&lt;/span&gt;&lt;/div
 &gt;\n&lt;div class=&quot;CjVfdc&quot;&gt;&lt;span class=&quot;C9DxTc &quot;&gt;15:30 End of event&lt;/span&gt;&lt;/di
 v&gt;\n&lt;div class=&quot;CjVfdc&quot;&gt;&amp;nbsp\;&lt;/div&gt;\n&lt;div class=&quot;CjVfdc&quot;&gt;&lt;span class=&quot;C9
 DxTc &quot;&gt;Updated program is on the website (&lt;a href=&quot;https://sites.google.co
 m/view/2024-ieee-swiss-cas-ed-75th/program)&quot;&gt;https://sites.google.com/view
 /2024-ieee-swiss-cas-ed-75th/program)&lt;/a&gt;&lt;/span&gt;&lt;/div&gt;
END:VEVENT
END:VCALENDAR

