BEGIN:VCALENDAR
VERSION:2.0
PRODID:IEEE vTools.Events//EN
CALSCALE:GREGORIAN
BEGIN:VTIMEZONE
TZID:America/Los_Angeles
BEGIN:DAYLIGHT
DTSTART:20250309T030000
TZOFFSETFROM:-0800
TZOFFSETTO:-0700
RRULE:FREQ=YEARLY;BYDAY=2SU;BYMONTH=3
TZNAME:PDT
END:DAYLIGHT
BEGIN:STANDARD
DTSTART:20241103T010000
TZOFFSETFROM:-0700
TZOFFSETTO:-0800
RRULE:FREQ=YEARLY;BYDAY=1SU;BYMONTH=11
TZNAME:PST
END:STANDARD
END:VTIMEZONE
BEGIN:VEVENT
DTSTAMP:20250310T173708Z
UID:B08725DD-1496-4849-8F0F-45280C168E32
DTSTART;TZID=America/Los_Angeles:20241122T083000
DTEND;TZID=America/Los_Angeles:20241122T153000
DESCRIPTION:-\n\nFree Exhibits (registration required still) during the eve
 nt and also Happy Hour at 3:30pm\n\nAgenda\n\n- 8:30 AM Light breakfast an
 d registration\n- 9:00 AM Welcome remarks and introductions\n\nSignal and 
 Power Integrity\n\n- 9:10 AM [Chander Ravva] Chander Ravva\, Marvell Techn
 ology\, Inc. IC Packaging for Data Centers Devices: High Speed Interconnec
 ts Powering Data Compute and Data Transfer\n- 9:45 AM[Dr. Victor Khilkevic
 h]Dr. Victor Khilkevich\, New Methods for High-FrequencyCharacterization o
 f PCB Materials Missouri Univ. of Sci. and Tech.\n- 10:20 AM Break and ven
 dor table-top show\n- 10:45 AM[Dr. Hanfeng Wang] Dr. Hanfeng Wang\, Google
  Inc. Introduction to Multi-Module PowerTree Simulation Flow\n- 11:20 AM R
 ound Table Discussion - Future directions and challenges in SIPI\n- 11:50 
 AM Lunch (included)\n\nAI/ML in EMC+SIPI\n\n- 12:50 PM[Dr. Lijun Jiang] Dr
 . Lijun Jiang\, Missouri Univ. of Sci. and Tech. An Outlook of Physical La
 yer Modeling Technologies for Complex Electromagnetics Environments Inspir
 ed by Machine Learning Methods\n- 1:25 PM[Baolong Li] Baolong Li\, Cadence
  Design Systems AI/ML for SIPI\n- 2:00 PM Break and vendor table-top show\
 n- 2:25 PM[Dr. Chulsoon Hwang] Dr. Chulsoon Hwang\, Missouri Univ. of Sci.
  and Tech. Machine Learning-Assisted PDN Design\n- 3:00 PM Round Table Dis
 cussion - Future directions and challenges in AI/ML in EMC+SIPI\n- 3:30 PM
  Happy Hour sponsored by Rhode and Schwarz\n- 4:00 PM End of program\n\nPr
 ices range from $60.00 to $150.00 (price depends on options selected)\n\nS
 peaker(s): Chulsoon Hwang \, Baolong Li \, Dr. Lijun Jiang \, Ravva Chande
 r \,  Victor Khilkevich\, Hanfeng Wang\n\nAgenda: \n- What: Silicon Valley
  Area Workshop on EMC (SV-EMC) – Recent advances in signal and power int
 egrity and AI/ML\n- When: Friday\, Nov. 22\, 2024\n- Where: Rhode &amp; Schwar
 z\, 690 McCarthy Blvd\, Milpitas\, CA-95035\n\n- There will be a total of 
 6 invited speakers. We are still working on who all will speak\, but follo
 wing is our current list. The titles are tentative.\n\n- The morning and a
 fternoon sessions will be followed by a short round table discussion on ma
 jor upcoming problems in the field that should be addressed in the near fu
 ture.\n-  small table top show of companies in the EMC/SIPI area to show o
 ff their wares.\n- There will be a modest charge for admission (around $10
 0-150 with a discount for IEEE and/or EMC Society membership)\n- A light b
 reakfast\, snacks\, and lunch will be provided.\n- Rhode &amp; Schwarz will ho
 st a social hour with drinks after the event.\n\nExhibit is FREE to attend
  but registration is still required.\n\nBldg: Rhode &amp; Schwarz Conf. Center
 \, 690 McCarthy Blvd\, Milpitas\, California\, United States\, 95035 
LOCATION:Bldg: Rhode &amp; Schwarz Conf. Center\, 690 McCarthy Blvd\, Milpitas\
 , California\, United States\, 95035 
ORGANIZER:caroline.chan@lmco.com
SEQUENCE:30
SUMMARY: Recent advances in signal and power integrity and AI/ML -Paid Work
 shops and FREE EXHIBITS - Secure your seat early! Spaces are limited. 
URL;VALUE=URI:https://events.vtools.ieee.org/m/443059
X-ALT-DESC:Description: &lt;br /&gt;&lt;ul style=&quot;margin-top: 0in\;&quot; type=&quot;disc&quot;&gt;\n&lt;
 li class=&quot;MsoListParagraph&quot; style=&quot;margin-left: 0in\; mso-list: l0 level1 
 lfo1\;&quot;&gt;\n&lt;div class=&quot;product-description&quot; style=&quot;box-sizing: border-box\;
  padding-bottom: 25px\; color: rgb(51\, 51\, 51)\; font-family: -apple-sys
 tem\, BlinkMacSystemFont\, &#39;Segoe UI&#39;\, Roboto\, &#39;Helvetica Neue&#39;\, Arial\
 , sans-serif\; font-size: 16px\; font-style: normal\; font-variant-ligatur
 es: normal\; font-variant-caps: normal\; font-weight: 400\; letter-spacing
 : normal\; orphans: 2\; text-align: start\; text-indent: 0px\; text-transf
 orm: none\; widows: 2\; word-spacing: 0px\; -webkit-text-stroke-width: 0px
 \; white-space: normal\; text-decoration-thickness: initial\; text-decorat
 ion-style: initial\; text-decoration-color: initial\;&quot;&gt;\n&lt;h2 style=&quot;box-si
 zing: border-box\; font-family: -apple-system\, BlinkMacSystemFont\, &#39;Sego
 e UI&#39;\, Roboto\, &#39;Helvetica Neue&#39;\, Arial\, sans-serif\; font-weight: 500\
 ; line-height: 1.1\; color: rgb(34\, 34\, 34)\; margin-top: 22px\; margin-
 bottom: 11px\; font-size: 24px\;&quot;&gt;&lt;strong style=&quot;box-sizing: border-box\; 
 font-weight: bold\;&quot;&gt;Free Exhibits (registration required still) during th
 e event and also Happy Hour at 3:30pm&lt;/strong&gt;&lt;/h2&gt;\n&lt;h2 style=&quot;box-sizing
 : border-box\; font-family: -apple-system\, BlinkMacSystemFont\, &#39;Segoe UI
 &#39;\, Roboto\, &#39;Helvetica Neue&#39;\, Arial\, sans-serif\; font-weight: 500\; li
 ne-height: 1.1\; color: rgb(34\, 34\, 34)\; margin-top: 22px\; margin-bott
 om: 11px\; font-size: 24px\;&quot;&gt;&lt;strong style=&quot;box-sizing: border-box\; font
 -weight: bold\;&quot;&gt;Agenda&lt;/strong&gt;&lt;/h2&gt;\n&lt;ul style=&quot;box-sizing: border-box\;
  margin-top: 0px\; margin-bottom: 11px\;&quot;&gt;\n&lt;li style=&quot;box-sizing: border-
 box\;&quot;&gt;8:30 AM&amp;nbsp\;&lt;strong style=&quot;box-sizing: border-box\; font-weight: 
 bold\;&quot;&gt;Light breakfast and registration&lt;/strong&gt;&lt;/li&gt;\n&lt;li style=&quot;box-siz
 ing: border-box\;&quot;&gt;9:00 AM&amp;nbsp\;&lt;strong style=&quot;box-sizing: border-box\; f
 ont-weight: bold\;&quot;&gt;Welcome remarks and introductions&lt;/strong&gt;&lt;/li&gt;\n&lt;/ul&gt;
 \n&lt;h3 style=&quot;box-sizing: border-box\; font-family: -apple-system\, BlinkMa
 cSystemFont\, &#39;Segoe UI&#39;\, Roboto\, &#39;Helvetica Neue&#39;\, Arial\, sans-serif\
 ; font-weight: 500\; line-height: 1.1\; color: rgb(34\, 34\, 34)\; margin-
 top: 22px\; margin-bottom: 11px\; font-size: 20px\;&quot;&gt;&lt;strong style=&quot;box-si
 zing: border-box\; font-weight: bold\;&quot;&gt;Signal and Power Integrity&lt;/strong
 &gt;&lt;/h3&gt;\n&lt;ul style=&quot;box-sizing: border-box\; margin-top: 0px\; margin-botto
 m: 11px\;&quot;&gt;\n&lt;li style=&quot;box-sizing: border-box\;&quot;&gt;9:10 AM&amp;nbsp\;&lt;img style
 =&quot;box-sizing: border-box\; border: 0px\; vertical-align: middle\;&quot; src=&quot;ht
 tps://test.secure.touchnet.net:8443/C20067test_ustores/web/style_images/gu
 id/7/8/a8a868-fb62-4de9-b25f-e609dd321d2d.jpg&quot; alt=&quot;Chander Ravva&quot;&gt;&amp;nbsp\;
 Chander Ravva\, Marvell Technology\, Inc.&amp;nbsp\;&lt;strong style=&quot;box-sizing:
  border-box\; font-weight: bold\;&quot;&gt;IC Packaging for Data Centers Devices: 
 High Speed Interconnects Powering Data Compute and Data Transfer&lt;/strong&gt;&lt;
 /li&gt;\n&lt;li style=&quot;box-sizing: border-box\;&quot;&gt;9:45 AM&lt;img style=&quot;box-sizing: 
 border-box\; border: 0px\; vertical-align: middle\; width: 40px\; height: 
 53px\;&quot; src=&quot;https://test.secure.touchnet.net:8443/C20067test_ustores/web/
 style_images/guid/e/0/9df7bc-b39f-4076-bf18-33a1892a17c1.jpg&quot; alt=&quot;Dr. Vic
 tor Khilkevich&quot;&gt;Dr. Victor Khilkevich\,&amp;nbsp\;&lt;strong style=&quot;box-sizing: b
 order-box\; font-weight: bold\;&quot;&gt;New Methods for High-FrequencyCharacteriz
 ation of PCB Materials Missouri Univ. of Sci. and Tech.&lt;/strong&gt;&lt;/li&gt;\n&lt;li
  style=&quot;box-sizing: border-box\;&quot;&gt;10:20 AM&amp;nbsp\;&lt;strong style=&quot;box-sizing
 : border-box\; font-weight: bold\;&quot;&gt;Break and vendor table-top show&lt;/stron
 g&gt;&lt;/li&gt;\n&lt;li style=&quot;box-sizing: border-box\;&quot;&gt;10:45 AM&lt;img style=&quot;box-sizi
 ng: border-box\; border: 0px\; vertical-align: middle\; width: 40px\; heig
 ht: 53px\;&quot; src=&quot;https://test.secure.touchnet.net:8443/C20067test_ustores/
 web/style_images/guid/1/7/7256e0-764e-423d-a896-f63d32b3f0c7.jpg&quot; alt=&quot;Dr.
  Hanfeng Wang&quot;&gt;&amp;nbsp\;Dr. Hanfeng Wang\, Google Inc.&amp;nbsp\;&lt;strong style=&quot;
 box-sizing: border-box\; font-weight: bold\;&quot;&gt;Introduction to Multi-Module
  PowerTree Simulation Flow&lt;/strong&gt;&lt;/li&gt;\n&lt;li style=&quot;box-sizing: border-bo
 x\;&quot;&gt;11:20 AM&amp;nbsp\;&lt;strong style=&quot;box-sizing: border-box\; font-weight: b
 old\;&quot;&gt;Round Table Discussion - Future directions and challenges in SIPI&lt;/
 strong&gt;&lt;/li&gt;\n&lt;li style=&quot;box-sizing: border-box\;&quot;&gt;11:50 AM&amp;nbsp\;&lt;strong 
 style=&quot;box-sizing: border-box\; font-weight: bold\;&quot;&gt;Lunch (included)&lt;/str
 ong&gt;&lt;/li&gt;\n&lt;/ul&gt;\n&lt;h3 style=&quot;box-sizing: border-box\; font-family: -apple-
 system\, BlinkMacSystemFont\, &#39;Segoe UI&#39;\, Roboto\, &#39;Helvetica Neue&#39;\, Ari
 al\, sans-serif\; font-weight: 500\; line-height: 1.1\; color: rgb(34\, 34
 \, 34)\; margin-top: 22px\; margin-bottom: 11px\; font-size: 20px\;&quot;&gt;&lt;stro
 ng style=&quot;box-sizing: border-box\; font-weight: bold\;&quot;&gt;AI/ML in EMC+SIPI&lt;
 /strong&gt;&lt;/h3&gt;\n&lt;ul style=&quot;box-sizing: border-box\; margin-top: 0px\; margi
 n-bottom: 11px\;&quot;&gt;\n&lt;li style=&quot;box-sizing: border-box\;&quot;&gt;12:50 PM&lt;img styl
 e=&quot;box-sizing: border-box\; border: 0px\; vertical-align: middle\; width: 
 40px\; height: 53px\;&quot; src=&quot;https://test.secure.touchnet.net:8443/C20067te
 st_ustores/web/style_images/guid/7/d/d0a563-39f0-483c-9f85-1c344e98bfee.jp
 g&quot; alt=&quot;Dr. Lijun Jiang&quot;&gt;&amp;nbsp\;Dr. Lijun Jiang\, Missouri Univ. of Sci. a
 nd Tech.&amp;nbsp\;&lt;strong style=&quot;box-sizing: border-box\; font-weight: bold\;
 &quot;&gt;An Outlook of Physical Layer Modeling Technologies for Complex Electroma
 gnetics Environments Inspired by Machine Learning Methods&lt;/strong&gt;&lt;/li&gt;\n&lt;
 li style=&quot;box-sizing: border-box\;&quot;&gt;1:25 PM&lt;img style=&quot;box-sizing: border-
 box\; border: 0px\; vertical-align: middle\; width: 40px\; height: 53px\;&quot;
  src=&quot;https://test.secure.touchnet.net:8443/C20067test_ustores/web/style_i
 mages/guid/3/7/7c9114-f0cc-4458-ae1e-39e4302620a6.jpg&quot; alt=&quot;Baolong Li&quot;&gt;&amp;n
 bsp\;Baolong Li\,&amp;nbsp\;&lt;strong style=&quot;box-sizing: border-box\; font-weigh
 t: bold\;&quot;&gt;Cadence Design Systems AI/ML for SIPI&lt;/strong&gt;&lt;/li&gt;\n&lt;li style=
 &quot;box-sizing: border-box\;&quot;&gt;2:00 PM&amp;nbsp\;&lt;strong style=&quot;box-sizing: border
 -box\; font-weight: bold\;&quot;&gt;Break and vendor table-top show&lt;/strong&gt;&lt;/li&gt;\
 n&lt;li style=&quot;box-sizing: border-box\;&quot;&gt;2:25 PM&lt;img style=&quot;box-sizing: borde
 r-box\; border: 0px\; vertical-align: middle\; width: 40px\; height: 53px\
 ;&quot; src=&quot;https://test.secure.touchnet.net:8443/C20067test_ustores/web/style
 _images/guid/5/2/b5fe44-aa46-4b89-9b7b-9b278df58826.jpg&quot; alt=&quot;Dr. Chulsoon
  Hwang&quot;&gt;&amp;nbsp\;Dr. Chulsoon Hwang\, Missouri Univ. of Sci. and Tech.&lt;stron
 g style=&quot;box-sizing: border-box\; font-weight: bold\;&quot;&gt;&amp;nbsp\;Machine Lear
 ning-Assisted PDN Design&lt;/strong&gt;&lt;/li&gt;\n&lt;li style=&quot;box-sizing: border-box\
 ;&quot;&gt;3:00 PM&amp;nbsp\;&lt;strong style=&quot;box-sizing: border-box\; font-weight: bold
 \;&quot;&gt;Round Table Discussion - Future directions and challenges in AI/ML in 
 EMC+SIPI&lt;/strong&gt;&lt;/li&gt;\n&lt;li style=&quot;box-sizing: border-box\;&quot;&gt;3:30 PM&amp;nbsp\
 ;&lt;strong style=&quot;box-sizing: border-box\; font-weight: bold\;&quot;&gt;Happy Hour s
 ponsored by Rhode and Schwarz&lt;/strong&gt;&lt;/li&gt;\n&lt;li style=&quot;box-sizing: border
 -box\;&quot;&gt;4:00 PM End of program&lt;/li&gt;\n&lt;/ul&gt;\n&lt;/div&gt;\n&lt;div class=&quot;product-fo
 rm&quot; style=&quot;box-sizing: border-box\; color: rgb(51\, 51\, 51)\; font-family
 : -apple-system\, BlinkMacSystemFont\, &#39;Segoe UI&#39;\, Roboto\, &#39;Helvetica Ne
 ue&#39;\, Arial\, sans-serif\; font-size: 16px\; font-style: normal\; font-var
 iant-ligatures: normal\; font-variant-caps: normal\; font-weight: 400\; le
 tter-spacing: normal\; orphans: 2\; text-align: start\; text-indent: 0px\;
  text-transform: none\; widows: 2\; word-spacing: 0px\; -webkit-text-strok
 e-width: 0px\; white-space: normal\; text-decoration-thickness: initial\; 
 text-decoration-style: initial\; text-decoration-color: initial\;&quot;&gt;&lt;form i
 d=&quot;product_detail_form&quot; style=&quot;box-sizing: border-box\;&quot; action=&quot;https://s
 ecure.touchnet.net/C20067_ustores/rsbuyer&quot; method=&quot;post&quot; name=&quot;product_det
 ail_form&quot;&gt;\n&lt;div class=&quot;form-group row&quot; style=&quot;box-sizing: border-box\; ma
 rgin-left: -15px\; margin-right: -15px\; margin-bottom: 15px\;&quot;&gt;\n&lt;div cla
 ss=&quot;col-xs-12&quot; style=&quot;box-sizing: border-box\; position: relative\; min-he
 ight: 1px\; padding-left: 15px\; padding-right: 15px\; float: left\; width
 : 1140px\;&quot;&gt;\n&lt;p style=&quot;box-sizing: border-box\; margin: 0px 0px 11px\; co
 lor: rgb(51\, 51\, 51)\;&quot;&gt;Prices range from $60.00 to $150.00 (price depen
 ds on options selected)&lt;/p&gt;\n&lt;/div&gt;\n&lt;/div&gt;\n&lt;/form&gt;&lt;/div&gt;\n&lt;/li&gt;\n&lt;/ul&gt;&lt;b
 r /&gt;&lt;br /&gt;Agenda: &lt;br /&gt;&lt;ul style=&quot;margin-top: 0in\;&quot; type=&quot;disc&quot;&gt;\n&lt;li cl
 ass=&quot;MsoListParagraph&quot; style=&quot;margin-left: 0in\; mso-list: l0 level1 lfo1\
 ;&quot;&gt;&lt;span style=&quot;font-size: 11.0pt\; mso-fareast-font-family: &#39;Times New Ro
 man&#39;\;&quot;&gt;What: Silicon Valley Area Workshop on EMC (SV-EMC) &amp;ndash\; Recent
  advances in signal and power integrity and AI/ML &lt;/span&gt;&lt;/li&gt;\n&lt;li class=
 &quot;MsoListParagraph&quot; style=&quot;margin-left: 0in\; mso-list: l0 level1 lfo1\;&quot;&gt;&lt;
 span style=&quot;font-size: 11.0pt\; mso-fareast-font-family: &#39;Times New Roman&#39;
 \;&quot;&gt;When: Friday\, Nov. 22\, 2024&lt;/span&gt;&lt;/li&gt;\n&lt;li class=&quot;MsoListParagraph
 &quot; style=&quot;margin-left: 0in\; mso-list: l0 level1 lfo1\;&quot;&gt;&lt;span style=&quot;font-
 size: 11.0pt\; mso-fareast-font-family: &#39;Times New Roman&#39;\;&quot;&gt;Where: Rhode 
 &amp;amp\; Schwarz\, 690 McCarthy Blvd\, Milpitas\, CA-95035 &lt;br&gt;&lt;/span&gt;&lt;/li&gt;\
 n&lt;li class=&quot;MsoListParagraph&quot; style=&quot;margin-left: 0in\; mso-list: l0 level
 1 lfo1\;&quot;&gt;&lt;span style=&quot;font-size: 11.0pt\; mso-fareast-font-family: &#39;Times
  New Roman&#39;\;&quot;&gt;There will be a total of 6 invited speakers.&amp;nbsp\; We are 
 still working on who all will speak\, but following is our current list.&amp;n
 bsp\; The titles are tentative.&lt;/span&gt;&lt;/li&gt;\n&lt;ul style=&quot;margin-top: 0in\;&quot;
  type=&quot;circle&quot;&gt;\n&lt;li class=&quot;MsoListParagraph&quot; style=&quot;margin-left: 0in\; ms
 o-list: l0 level2 lfo1\;&quot;&gt;&lt;span style=&quot;font-size: 11.0pt\; mso-fareast-fon
 t-family: &#39;Times New Roman&#39;\;&quot;&gt;The morning and afternoon sessions will be 
 followed by a short round table discussion on major upcoming problems in t
 he field that should be addressed in the near future.&lt;/span&gt;&lt;/li&gt;\n&lt;li cla
 ss=&quot;MsoListParagraph&quot; style=&quot;margin-left: 0in\; mso-list: l0 level2 lfo1\;
 &quot;&gt;&lt;span style=&quot;font-size: 11.0pt\; mso-fareast-font-family: &#39;Times New Rom
 an&#39;\;&quot;&gt;&amp;nbsp\;small table top show of companies in the EMC/SIPI area to sh
 ow off their wares.&lt;/span&gt;&lt;/li&gt;\n&lt;li class=&quot;MsoListParagraph&quot; style=&quot;margi
 n-left: 0in\; mso-list: l0 level2 lfo1\;&quot;&gt;&lt;span style=&quot;font-size: 11.0pt\;
  mso-fareast-font-family: &#39;Times New Roman&#39;\;&quot;&gt;There will be a modest char
 ge for admission (around $100-150 with a discount for IEEE and/or EMC Soci
 ety membership)&lt;/span&gt;&lt;/li&gt;\n&lt;li class=&quot;MsoListParagraph&quot; style=&quot;margin-le
 ft: 0in\; mso-list: l0 level2 lfo1\;&quot;&gt;&lt;span style=&quot;font-size: 11.0pt\; mso
 -fareast-font-family: &#39;Times New Roman&#39;\;&quot;&gt;A light breakfast\, snacks\, an
 d lunch will be provided.&lt;/span&gt;&lt;/li&gt;\n&lt;li class=&quot;MsoListParagraph&quot; style=
 &quot;margin-left: 0in\; mso-list: l0 level2 lfo1\;&quot;&gt;&lt;span style=&quot;font-size: 11
 .0pt\; mso-fareast-font-family: &#39;Times New Roman&#39;\;&quot;&gt;Rhode &amp;amp\; Schwarz 
 will host a social hour with drinks after the event.&lt;/span&gt;&lt;/li&gt;\n&lt;/ul&gt;\n&lt;
 /ul&gt;\n&lt;p class=&quot;MsoNormal&quot;&gt;&lt;span style=&quot;font-size: 11.0pt\;&quot;&gt;&amp;nbsp\;Exhibi
 t is FREE to attend but registration is still required.&lt;/span&gt;&lt;/p&gt;
END:VEVENT
END:VCALENDAR

