BEGIN:VCALENDAR
VERSION:2.0
PRODID:IEEE vTools.Events//EN
CALSCALE:GREGORIAN
BEGIN:VTIMEZONE
TZID:US/Eastern
BEGIN:DAYLIGHT
DTSTART:20170312T030000
TZOFFSETFROM:-0500
TZOFFSETTO:-0400
RRULE:FREQ=YEARLY;BYDAY=2SU;BYMONTH=3
TZNAME:EDT
END:DAYLIGHT
BEGIN:STANDARD
DTSTART:20171105T010000
TZOFFSETFROM:-0400
TZOFFSETTO:-0500
RRULE:FREQ=YEARLY;BYDAY=1SU;BYMONTH=11
TZNAME:EST
END:STANDARD
END:VTIMEZONE
BEGIN:VEVENT
DTSTAMP:20170317T205119Z
UID:7AD2D272-050A-11E7-A7C6-0050568D7F66
DTSTART;TZID=US/Eastern:20170413T180000
DTEND;TZID=US/Eastern:20170413T200000
DESCRIPTION:In corporations throughout the world\, data is meaningless whil
 e actionable insights are gold. Join us in a talk where we follow a the li
 fe of a sensor data packet as it originates in the belly of a drone and tr
 avels to the coffers of an enterprise data lake – finally becoming an el
 ement for an actionable workflow event. All of this while combining with o
 ther corporate entities and adhering to enterprise grade security rules\, 
 role based access and retention requirements.\n\nIn this talk we will also
  introduce the concept of the “secondary mission” and how it can be ac
 complished by leveraging technologies such as Hadoop\, Complex Event Proce
 ssing (CEP) and the Internet of Things (IoT). Big Data is well suited for 
 processing UAS data in near-real-time. It is also an ideal storage and sec
 urity layer for UAS data. We will review several use cases\, discuss the a
 rchitecture needed to accomplish the secondary mission\, describe how it c
 an be implemented in a cost-effective manner and\, finally\, describe the 
 integration of drone data in to the enterprise.\n\nIf you are involved in 
 enterprise grade IT data processing and are looking to bring Unmanned Aeri
 al Systems (aka drone) data in to the mix then this talk is will be of par
 ticular interest to you.\n\nSpeaker(s): Ken Kranz\, Arnold Stillman\, Ken 
 Kranz\, Arnold Stillman\n\nBldg: LISTnet - Digital Ballpark\, 100 Terminal
  Drive  \, Plainview\, New York\, United States
LOCATION:Bldg: LISTnet - Digital Ballpark\, 100 Terminal Drive  \, Plainvie
 w\, New York\, United States
ORGANIZER:computer@ieeelongisland.org
SEQUENCE:5
SUMMARY:IoT Lecture Series - Drone Enterprise Data - A journey from the sky
  to enterprise workflow
URL;VALUE=URI:https://events.vtools.ieee.org/m/44381
X-ALT-DESC:Description: &lt;br /&gt;&lt;p&gt;In corporations throughout the world\, dat
 a is meaningless while actionable insights are gold. Join us in a talk whe
 re we follow a the life of a sensor data packet as it originates in the be
 lly of a drone and travels to the coffers of an enterprise data lake &amp;ndas
 h\; finally becoming an element for an actionable workflow event. All of t
 his while combining with other corporate entities and adhering to enterpri
 se grade security rules\, role based access and retention requirements.&lt;/p
 &gt;\n&lt;p&gt;In this talk we will also introduce the concept of the &amp;ldquo\;secon
 dary mission&amp;rdquo\; and how it can be accomplished by leveraging technolo
 gies such as Hadoop\, Complex Event Processing (CEP) and the Internet of T
 hings (IoT). Big Data is well suited for processing UAS data in near-real-
 time. It is also an ideal storage and security layer for UAS data. We will
  review several use cases\, discuss the architecture needed to accomplish 
 the secondary mission\, describe how it can be implemented in a cost-effec
 tive manner and\, finally\, describe the integration of drone data in to t
 he enterprise.&lt;/p&gt;\n&lt;p&gt;If you are involved in enterprise grade IT data pro
 cessing and are looking to bring Unmanned Aerial Systems (aka drone) data 
 in to the mix then this talk is will be of particular interest to you.&amp;nbs
 p\;&lt;/p&gt;
END:VEVENT
END:VCALENDAR

