BEGIN:VCALENDAR
VERSION:2.0
PRODID:IEEE vTools.Events//EN
CALSCALE:GREGORIAN
BEGIN:VTIMEZONE
TZID:America/Chicago
BEGIN:DAYLIGHT
DTSTART:20250309T030000
TZOFFSETFROM:-0600
TZOFFSETTO:-0500
RRULE:FREQ=YEARLY;BYDAY=2SU;BYMONTH=3
TZNAME:CDT
END:DAYLIGHT
BEGIN:STANDARD
DTSTART:20241103T010000
TZOFFSETFROM:-0500
TZOFFSETTO:-0600
RRULE:FREQ=YEARLY;BYDAY=1SU;BYMONTH=11
TZNAME:CST
END:STANDARD
END:VTIMEZONE
BEGIN:VEVENT
DTSTAMP:20241209T163716Z
UID:27239A10-0894-4089-A2C2-80A0B3ED048E
DTSTART;TZID=America/Chicago:20241202T080000
DTEND;TZID=America/Chicago:20241205T120000
DESCRIPTION:IEEE Online Forum on Climate Change Technologies\n\nThis online
  forum will highlight recent developments in IEEE technologies and solutio
 ns that promote climate stability. It will provide interesting and relevan
 t keynote talks on technology. Roadmaps\, panels\, and subject-matter expe
 rts will provide vital information about climate change.\n\nIEEE is the gl
 obal voice for engineering\, computing\, and technology information and re
 sources. The IEEE Future Directions Committee has organized this event to 
 provide insights into the technologies being developed at IEEE.\n\nPartici
 pants will learn about IEEE’s use of technology to achieve goals related
  to addressing the challenges posed by adaptation to and mitigation of cli
 mate change\, as well as achieving the UN Sustainable Development Goals (S
 DGs).\n\nVirtual: https://events.vtools.ieee.org/m/443864
LOCATION:Virtual: https://events.vtools.ieee.org/m/443864
ORGANIZER:vaozburn@ieee.org
SEQUENCE:3
SUMMARY:IEEE Online Forum on Climate Change Technologies
URL;VALUE=URI:https://events.vtools.ieee.org/m/443864
X-ALT-DESC:Description: &lt;br /&gt;&lt;h3 class=&quot;home&quot;&gt;IEEE Online Forum on Climate
  Change Technologies&lt;/h3&gt;\n&lt;div class=&quot;wrap&quot;&gt;\n&lt;p&gt;This online forum will h
 ighlight recent developments in IEEE technologies and solutions that promo
 te climate stability. It will provide interesting and relevant keynote tal
 ks on technology. Roadmaps\, panels\, and subject-matter experts will prov
 ide vital information about climate change.&lt;/p&gt;\n&lt;p&gt;IEEE is the global voi
 ce for engineering\, computing\, and technology information and resources.
  The IEEE Future Directions Committee has organized this event to provide 
 insights into the technologies being developed at IEEE.&lt;/p&gt;\n&lt;p&gt;Participan
 ts will learn about IEEE&amp;rsquo\;s use of technology to achieve goals relat
 ed to addressing the challenges posed by adaptation to and mitigation of c
 limate change\, as well as achieving the UN Sustainable Development Goals 
 (SDGs).&lt;/p&gt;\n&lt;p&gt;&amp;nbsp\;&lt;/p&gt;\n&lt;/div&gt;
END:VEVENT
END:VCALENDAR

