BEGIN:VCALENDAR
VERSION:2.0
PRODID:IEEE vTools.Events//EN
CALSCALE:GREGORIAN
BEGIN:VTIMEZONE
TZID:Asia/Kolkata
BEGIN:STANDARD
DTSTART:19451014T230000
TZOFFSETFROM:+0630
TZOFFSETTO:+0530
TZNAME:IST
END:STANDARD
END:VTIMEZONE
BEGIN:VEVENT
DTSTAMP:20241103T113436Z
UID:2B86E22D-4748-4A61-9DE9-1B4AAFF3E260
DTSTART;TZID=Asia/Kolkata:20241010T110000
DTEND;TZID=Asia/Kolkata:20241010T123000
DESCRIPTION:IEEE Day Celebration - Technical Talk Recap\n\nWe were thrilled
  to host an insightful session on Energy Transition &amp; Grid Resilience: Eng
 ineering the Unbreakable Power System on October 10\, 2024\, organized by 
 the IEEE WIE Affinity Group and IAS-PES SBC at the Main Seminar Hall. The 
 event\, aligned with the theme &quot;Empowering Women in Core Engineering: Adva
 ncing Gender Equality in STEM\,&quot; highlighted the critical role of women in
  shaping the future of power systems and sustainable energy solutions.\n\n
 Our expert speaker\, [Dr. Shivani Sharma](https://www.linkedin.com/in/shiv
 anisharma4energy/)\, Principal Consultant at Hitachi Energy\, provided val
 uable insights into energy transitions\, power systems\, and smart grids\,
  inspiring everyone in attendance.\n\nSpeaker(s): Dr Shivani Sharma\, \n\n
 Agenda: \nTo celebrate IEEE Day and the theme of celebration was kept &quot;Emp
 owering Women in Core Engineering: Advancing Gender Equality in STEM&quot; . Th
 e event was celebrated by IEEE WIE SBC AG in Association with IEEE PES SBC
  at Ajay Kumar Garg Engineering College\, Ghaziabad.\n\nRoom: Main Seminar
  Hall \, Bldg: Administrative Block\, Main Seminar Hall\, Ajay Kumar Garg 
 Engineering College\, Ghaziabad\, Uttar Pradesh\, India\, 201009
LOCATION:Room: Main Seminar Hall \, Bldg: Administrative Block\, Main Semin
 ar Hall\, Ajay Kumar Garg Engineering College\, Ghaziabad\, Uttar Pradesh\
 , India\, 201009
ORGANIZER:bhargavavani@akgec.ac.in
SEQUENCE:33
SUMMARY:Energy Transition &amp; Grid Resilience
URL;VALUE=URI:https://events.vtools.ieee.org/m/443973
X-ALT-DESC:Description: &lt;br /&gt;&lt;p&gt;&amp;nbsp\;IEEE Day Celebration - Technical Ta
 lk Recap&lt;br&gt;&lt;br&gt;We were thrilled to host an insightful session on Energy T
 ransition &amp;amp\; Grid Resilience: Engineering the Unbreakable Power System
  on October 10\, 2024\, organized by the IEEE WIE Affinity Group and IAS-P
 ES SBC at the Main Seminar Hall. The event\, aligned with the theme &quot;Empow
 ering Women in Core Engineering: Advancing Gender Equality in STEM\,&quot; high
 lighted the critical role of women in shaping the future of power systems 
 and sustainable energy solutions.&lt;br&gt;&lt;br&gt;Our expert speaker\, &lt;a id=&quot;ember
 969&quot; class=&quot;ember-view&quot; href=&quot;https://www.linkedin.com/in/shivanisharma4en
 ergy/&quot;&gt;Dr. Shivani Sharma&lt;/a&gt;\, Principal Consultant at Hitachi Energy\, p
 rovided valuable insights into energy transitions\, power systems\, and sm
 art grids\, inspiring everyone in attendance.&lt;/p&gt;&lt;br /&gt;&lt;br /&gt;Agenda: &lt;br /
 &gt;&lt;p&gt;To celebrate IEEE Day and the theme of celebration was kept &quot;Empowerin
 g Women in Core Engineering: Advancing Gender Equality in STEM&quot; . The even
 t was celebrated by IEEE WIE SBC AG in Association with IEEE PES SBC at Aj
 ay Kumar Garg Engineering College\, Ghaziabad.&amp;nbsp\;&lt;/p&gt;
END:VEVENT
END:VCALENDAR

