BEGIN:VCALENDAR
VERSION:2.0
PRODID:IEEE vTools.Events//EN
CALSCALE:GREGORIAN
BEGIN:VTIMEZONE
TZID:America/New_York
BEGIN:DAYLIGHT
DTSTART:20250309T030000
TZOFFSETFROM:-0500
TZOFFSETTO:-0400
RRULE:FREQ=YEARLY;BYDAY=2SU;BYMONTH=3
TZNAME:EDT
END:DAYLIGHT
BEGIN:STANDARD
DTSTART:20241103T010000
TZOFFSETFROM:-0400
TZOFFSETTO:-0500
RRULE:FREQ=YEARLY;BYDAY=1SU;BYMONTH=11
TZNAME:EST
END:STANDARD
END:VTIMEZONE
BEGIN:VEVENT
DTSTAMP:20241125T135145Z
UID:A739BCDB-0F5C-491E-8E78-CBA295127F7B
DTSTART;TZID=America/New_York:20241120T120000
DTEND;TZID=America/New_York:20241120T130000
DESCRIPTION:L’utilisation des ondes électromagnétiques\, plus spécifiq
 uement dans le régime des radiofréquences et des micro-ondes\, est au c
 œur de l’exploitation moderne des plateformes orbitales et autres engin
 s spatiaux. Celles-ci nous permettent de communiquer sur de grandes distan
 ces\, de surveiller et étudier notre environnement\, ou encore d’explor
 er les mondes lointains de notre système solaire.\n\nL’Agence Spatiale 
 Canadienne assure le leadership de la présence du Canada dans l’espace.
  Que ce soit dans le domaine de l’utilisation de l’espace pour des app
 lications terrestres\, ou pour l’exploration de la Lune ou Mars\, l’ag
 ence assure le développement de l’architecture des missions spatiales e
 t supervise le développement technologique nécessaire à leur réalisati
 on. Dans cette présentation\, je ferai le survol de quelques activités c
 lefs de l’Agence Spatiale Canadienne pour lesquelles l’exploitation de
 s micro-ondes et des radiofréquences occupent une place prépondérante. 
 En chemin\, je ferai l’exposition du type de travail et de défis auxque
 ls les ingénieur(e)s de l’Agence font face au quotidien\, et dans quel 
 type de milieu ils/elles évoluent. La présentation sera bilingue.\n\nSpe
 aker(s): Dr. Étienne Boulais \n\nRoom: M-2110\, Bldg: Pavillon Lassonde\,
  M-2110\, 2500 Chem. de Polytechnique\, Montréal\, Quebec\, Canada\, H3T 
 1J4
LOCATION:Room: M-2110\, Bldg: Pavillon Lassonde\, M-2110\, 2500 Chem. de Po
 lytechnique\, Montréal\, Quebec\, Canada\, H3T 1J4
ORGANIZER:elham.baladi@polymtl.ca
SEQUENCE:15
SUMMARY:Les Carrières en Électromagnétisme à l’Agence Spatiale Canadi
 enne
URL;VALUE=URI:https://events.vtools.ieee.org/m/444174
X-ALT-DESC:Description: &lt;br /&gt;&lt;p class=&quot;MsoNormal&quot; style=&quot;text-align: justi
 fy\; text-indent: .5in\;&quot;&gt;&lt;span lang=&quot;FR-CA&quot; style=&quot;font-size: 12.0pt\; li
 ne-height: 107%\; font-family: Tenorite\; mso-ansi-language: FR-CA\;&quot;&gt;L&amp;rs
 quo\;utilisation des ondes &amp;eacute\;lectromagn&amp;eacute\;tiques\, plus sp&amp;ea
 cute\;cifiquement dans le r&amp;eacute\;gime des radiofr&amp;eacute\;quences et de
 s micro-ondes\, est au c&amp;oelig\;ur de l&amp;rsquo\;exploitation moderne des pl
 ateformes orbitales et autres engins spatiaux. Celles-ci nous permettent d
 e communiquer sur de grandes distances\, de surveiller et &amp;eacute\;tudier 
 notre environnement\, ou encore d&amp;rsquo\;explorer les mondes lointains de 
 notre syst&amp;egrave\;me solaire.&amp;nbsp\;&lt;/span&gt;&lt;/p&gt;\n&lt;p class=&quot;MsoNormal&quot; sty
 le=&quot;text-align: justify\; text-indent: .5in\;&quot;&gt;&lt;span lang=&quot;FR-CA&quot; style=&quot;f
 ont-size: 12.0pt\; line-height: 107%\; font-family: Tenorite\; mso-ansi-la
 nguage: FR-CA\;&quot;&gt;L&amp;rsquo\;Agence Spatiale Canadienne assure le leadership 
 de la pr&amp;eacute\;sence du Canada dans l&amp;rsquo\;espace. Que ce soit dans le
  domaine de l&amp;rsquo\;utilisation de l&amp;rsquo\;espace pour des applications 
 terrestres\, ou pour l&amp;rsquo\;exploration de la Lune ou Mars\, l&amp;rsquo\;ag
 ence assure le d&amp;eacute\;veloppement de l&amp;rsquo\;architecture des missions
  spatiales et supervise le d&amp;eacute\;veloppement technologique n&amp;eacute\;c
 essaire &amp;agrave\; leur r&amp;eacute\;alisation. Dans cette pr&amp;eacute\;sentatio
 n\, je ferai le survol de quelques activit&amp;eacute\;s clefs de l&amp;rsquo\;Age
 nce Spatiale Canadienne pour lesquelles l&amp;rsquo\;exploitation des micro-on
 des et des radiofr&amp;eacute\;quences occupent une place pr&amp;eacute\;pond&amp;eacu
 te\;rante. En chemin\, je ferai l&amp;rsquo\;exposition du type de travail et 
 de d&amp;eacute\;fis auxquels les ing&amp;eacute\;nieur(e)s de l&amp;rsquo\;Agence fon
 t face au quotidien\, et dans quel type de milieu ils/elles &amp;eacute\;volue
 nt. La pr&amp;eacute\;sentation sera bilingue.&lt;/span&gt;&lt;/p&gt;\n&lt;p class=&quot;MsoNormal
 &quot; style=&quot;text-align: justify\; text-justify: inter-ideograph\; line-height
 : normal\;&quot;&gt;&amp;nbsp\;&lt;/p&gt;
END:VEVENT
END:VCALENDAR

