BEGIN:VCALENDAR
VERSION:2.0
PRODID:IEEE vTools.Events//EN
CALSCALE:GREGORIAN
BEGIN:VTIMEZONE
TZID:America/New_York
BEGIN:DAYLIGHT
DTSTART:20250309T030000
TZOFFSETFROM:-0500
TZOFFSETTO:-0400
RRULE:FREQ=YEARLY;BYDAY=2SU;BYMONTH=3
TZNAME:EDT
END:DAYLIGHT
BEGIN:STANDARD
DTSTART:20241103T010000
TZOFFSETFROM:-0400
TZOFFSETTO:-0500
RRULE:FREQ=YEARLY;BYDAY=1SU;BYMONTH=11
TZNAME:EST
END:STANDARD
END:VTIMEZONE
BEGIN:VEVENT
DTSTAMP:20241111T155418Z
UID:78D398CE-D8DB-48DD-B0C5-33CDAC4FE401
DTSTART;TZID=America/New_York:20241107T143000
DTEND;TZID=America/New_York:20241107T153000
DESCRIPTION:Prof. Kiryung Lee in the ECE department at The Ohio State Unive
 rsity will present a virtual seminar on nonlinear regression problems.\n\n
 Co-sponsored by: American One World Mathematics of INformation\, Data\, an
 d Signals (1W-MINDS) Seminar\n\nSpeaker(s): Kiryung Lee\, \n\nVirtual: htt
 ps://events.vtools.ieee.org/m/444323
LOCATION:Virtual: https://events.vtools.ieee.org/m/444323
ORGANIZER:lee.8763@osu.edu
SEQUENCE:10
SUMMARY:Max-affine regression: Robust regression and variable selection
URL;VALUE=URI:https://events.vtools.ieee.org/m/444323
X-ALT-DESC:Description: &lt;br /&gt;&lt;p&gt;Prof. Kiryung Lee in the ECE department at
  The Ohio State University will present a virtual seminar on nonlinear reg
 ression problems.&amp;nbsp\;&lt;/p&gt;
END:VEVENT
END:VCALENDAR

