BEGIN:VCALENDAR
VERSION:2.0
PRODID:IEEE vTools.Events//EN
CALSCALE:GREGORIAN
BEGIN:VTIMEZONE
TZID:Europe/Zurich
BEGIN:DAYLIGHT
DTSTART:20250330T030000
TZOFFSETFROM:+0100
TZOFFSETTO:+0200
RRULE:FREQ=YEARLY;BYDAY=-1SU;BYMONTH=3
TZNAME:CEST
END:DAYLIGHT
BEGIN:STANDARD
DTSTART:20241027T020000
TZOFFSETFROM:+0200
TZOFFSETTO:+0100
RRULE:FREQ=YEARLY;BYDAY=-1SU;BYMONTH=10
TZNAME:CET
END:STANDARD
END:VTIMEZONE
BEGIN:VEVENT
DTSTAMP:20250225T163412Z
UID:88F1ACCD-0BE9-41A8-94DB-BE94AF08862C
DTSTART;TZID=Europe/Zurich:20241106T160000
DTEND;TZID=Europe/Zurich:20241106T170000
DESCRIPTION:Over the last 25 years the IC Design group of the University of
  Twente in the Netherlands has contributed several new circuit concepts th
 at have become widely used\, e.g. thermal Noise Canceling\, the sub-sampli
 ng PLL and N-path filters and/or mixers.\n\nThis talk will review these ci
 rcuit concepts and some of their development story focusing on key insight
 s (Eureka moments).\n\nSpeaker(s): \, Eric Klumperink\n\nRoom: ETZ J64.1\,
  Bldg: ETZ building\, Gloriastrasse 35\, Zurich\, Switzerland\, Switzerlan
 d\, 8092
LOCATION:Room: ETZ J64.1\, Bldg: ETZ building\, Gloriastrasse 35\, Zurich\,
  Switzerland\, Switzerland\, 8092
ORGANIZER:tkjang@ethz.ch
SEQUENCE:17
SUMMARY:25 Year of IC Design in Twente – some Eureka moments
URL;VALUE=URI:https://events.vtools.ieee.org/m/444338
X-ALT-DESC:Description: &lt;br /&gt;&lt;p class=&quot;MsoNormal&quot;&gt;&lt;span lang=&quot;EN-US&quot; style
 =&quot;font-size: 11.0pt\; mso-fareast-font-family: &#39;Times New Roman&#39;\; mso-bid
 i-font-family: Helvetica\; mso-ansi-language: EN-US\;&quot;&gt;Over the last 25 ye
 ars the IC Design group of the University of Twente in the Netherlands has
  contributed several new circuit concepts that have become widely used\, e
 .g. thermal Noise Canceling\, the sub-sampling PLL and N-path filters and/
 or mixers. &lt;/span&gt;&lt;/p&gt;\n&lt;p class=&quot;MsoNormal&quot;&gt;&lt;span lang=&quot;EN-US&quot; style=&quot;fon
 t-size: 11.0pt\; mso-fareast-font-family: &#39;Times New Roman&#39;\; mso-bidi-fon
 t-family: Helvetica\; mso-ansi-language: EN-US\;&quot;&gt;This talk will review th
 ese circuit concepts and some of their development story focusing on key i
 nsights (Eureka moments).&lt;/span&gt;&lt;/p&gt;
END:VEVENT
END:VCALENDAR

