BEGIN:VCALENDAR
VERSION:2.0
PRODID:IEEE vTools.Events//EN
CALSCALE:GREGORIAN
BEGIN:VTIMEZONE
TZID:America/Los_Angeles
BEGIN:DAYLIGHT
DTSTART:20250309T030000
TZOFFSETFROM:-0800
TZOFFSETTO:-0700
RRULE:FREQ=YEARLY;BYDAY=2SU;BYMONTH=3
TZNAME:PDT
END:DAYLIGHT
BEGIN:STANDARD
DTSTART:20241103T010000
TZOFFSETFROM:-0700
TZOFFSETTO:-0800
RRULE:FREQ=YEARLY;BYDAY=1SU;BYMONTH=11
TZNAME:PST
END:STANDARD
END:VTIMEZONE
BEGIN:VEVENT
DTSTAMP:20241122T002741Z
UID:C4B0D3BF-A619-472C-BBCD-8D3F3B6E5627
DTSTART;TZID=America/Los_Angeles:20241117T140000
DTEND;TZID=America/Los_Angeles:20241117T160000
DESCRIPTION:Join us for an unforgettable evening of golf\, great connection
 s\, and good times at our &quot;Swinging Connections: Networking Fore Success a
 t Top Golf&quot; event!\n\nWhether you&#39;re a golf pro or a first-time swinger\, 
 Top Golf offers an inclusive and entertaining environment for all skill le
 vels. No need to worry about stuffy boardrooms or formal attire - just bri
 ng your enthusiasm and a desire to connect. It&#39;s not just a game\; it&#39;s th
 e ultimate fusion of networking and fun!\n\nExpect a night filled with:\n\
 n-Friendly golfing that will have you cheering and high-fiving\n\n-Opportu
 nity to make meaningful connections with like-minded professionals\n\n-Del
 ectable food and drinks served with a side of lively conversation\n\nThis 
 is not your typical networking event\; it&#39;s a chance to break the ice and 
 create genuine bonds with fellow industry leaders. Don&#39;t miss out on this 
 unique opportunity to network in a relaxed\, exciting atmosphere.\n\nRegis
 tration fees:\nIEEE MEMBERS: $15\n\nNON MEMBERS: $30\n\nSTUDENTS: FREE!\n\
 nRSVP now\, and let&#39;s swing for success together!\n\n780 Logan Ave N\, Ren
 ton\, Washington\, United States\, 98057
LOCATION:780 Logan Ave N\, Renton\, Washington\, United States\, 98057
ORGANIZER:angel.morales@ieee.org
SEQUENCE:22
SUMMARY:Swinging Connections: Networking Fore Success at Top Golf
URL;VALUE=URI:https://events.vtools.ieee.org/m/444357
X-ALT-DESC:Description: &lt;br /&gt;&lt;p&gt;Join us for an unforgettable evening of go
 lf\, great connections\, and good times at our &quot;Swinging Connections: Netw
 orking Fore Success at Top Golf&quot; event!&lt;/p&gt;\n&lt;p&gt;Whether you&#39;re a golf pro 
 or a first-time swinger\, Top Golf offers an inclusive and entertaining en
 vironment for all skill levels. No need to worry about stuffy boardrooms o
 r formal attire - just bring your enthusiasm and a desire to connect. It&#39;s
  not just a game\; it&#39;s the ultimate fusion of networking and fun!&lt;/p&gt;\n&lt;p
 &gt;Expect a night filled with:&lt;/p&gt;\n&lt;p&gt;-Friendly golfing that will have you 
 cheering and high-fiving&lt;/p&gt;\n&lt;p&gt;-Opportunity to make meaningful connectio
 ns with like-minded professionals&lt;/p&gt;\n&lt;p&gt;-Delectable food and drinks serv
 ed with a side of lively conversation&amp;nbsp\;&lt;/p&gt;\n&lt;p&gt;This is not your typi
 cal networking event\; it&#39;s a chance to break the ice and create genuine b
 onds with fellow industry leaders. Don&#39;t miss out on this unique opportuni
 ty to network in a relaxed\, exciting atmosphere.&lt;/p&gt;\n&lt;p&gt;Registration fee
 s:&lt;br&gt;IEEE MEMBERS: $15&lt;/p&gt;\n&lt;p&gt;NON MEMBERS: $30&lt;/p&gt;\n&lt;p&gt;STUDENTS: FREE!&lt;/
 p&gt;\n&lt;p&gt;RSVP now\, and let&#39;s swing for success together!&lt;/p&gt;
END:VEVENT
END:VCALENDAR

