BEGIN:VCALENDAR
VERSION:2.0
PRODID:IEEE vTools.Events//EN
CALSCALE:GREGORIAN
BEGIN:VTIMEZONE
TZID:Europe/Brussels
BEGIN:DAYLIGHT
DTSTART:20250330T030000
TZOFFSETFROM:+0100
TZOFFSETTO:+0200
RRULE:FREQ=YEARLY;BYDAY=-1SU;BYMONTH=3
TZNAME:CEST
END:DAYLIGHT
BEGIN:STANDARD
DTSTART:20241027T020000
TZOFFSETFROM:+0200
TZOFFSETTO:+0100
RRULE:FREQ=YEARLY;BYDAY=-1SU;BYMONTH=10
TZNAME:CET
END:STANDARD
END:VTIMEZONE
BEGIN:VEVENT
DTSTAMP:20250319T210826Z
UID:32E3D22A-7BEA-483B-90BF-DFFB39BD60FD
DTSTART;TZID=Europe/Brussels:20250319T120000
DTEND;TZID=Europe/Brussels:20250319T163000
DESCRIPTION:Reserve this time in your agenda!\n\nRegistration details will 
 follow later.\n\nAdmesy N.V.\, Sleestraat 3\, Ittervoort\, Limburg\, Nethe
 rlands\, 6014 CA
LOCATION:Admesy N.V.\, Sleestraat 3\, Ittervoort\, Limburg\, Netherlands\, 
 6014 CA
ORGANIZER:kvtklooster@gmail.com
SEQUENCE:11
SUMMARY:IEEE Benelux Section LMAG: Visit to ADMESY display\, color and spec
 tral measurement systems\, Ittervoort (NL)
URL;VALUE=URI:https://events.vtools.ieee.org/m/444761
X-ALT-DESC:Description: &lt;br /&gt;&lt;p&gt;Reserve this time in your agenda!&lt;/p&gt;\n&lt;p&gt;
 Registration details will follow later.&lt;/p&gt;
END:VEVENT
END:VCALENDAR

