BEGIN:VCALENDAR
VERSION:2.0
PRODID:IEEE vTools.Events//EN
CALSCALE:GREGORIAN
BEGIN:VTIMEZONE
TZID:Asia/Karachi
BEGIN:STANDARD
DTSTART:20091031T230000
TZOFFSETFROM:+0600
TZOFFSETTO:+0500
TZNAME:PKT
END:STANDARD
END:VTIMEZONE
BEGIN:VEVENT
DTSTAMP:20241109T090553Z
UID:24643568-BA05-418A-8EB7-CF7F3385D86F
DTSTART;TZID=Asia/Karachi:20241006T093000
DTEND;TZID=Asia/Karachi:20241006T133000
DESCRIPTION:IEEE WIE AG UET Taxila attended the event of IEEE Day at HITEC 
 University which included various talks. The [IEEE Region 10 (Asia-Pacific
  Region)](https://www.linkedin.com/company/ieee-region10/) SAC Summit gath
 ered passionate IEEE members to celebrate [IEEE Day](https://www.linkedin.
 com/company/ieeeday/) and exchange knowledge on topics that truly matter.\
 n\nDr. [Nosherwan Shoaib](https://www.linkedin.com/in/nosherwan-shoaib/) s
 hed light on the core principles of the IEEE Code of Ethics and the vision
  behind IEEE Day\, while Mr. [Rizwan Naqvi](https://www.linkedin.com/in/en
 grriz/) shared practical steps for securing funding and grants for our IEE
 E ventures. Mr. [Muhammad Faisal Shaheen](https://www.linkedin.com/in/muha
 mmad-faisal-shaheen-25a853283/)&#39;s talk was a deep dive into personal growt
 h\, showing us what it really means to strive for a better version of ours
 elves. The discussions on IEEE membership and its perks by Mr. [Malik Hasa
 an](https://www.linkedin.com/in/malik-hasaan-71089824a/)\, Mr. [Abdul Waha
 b](https://www.linkedin.com/in/wahab925/)\, and Ms. [Amatullah](https://ww
 w.linkedin.com/in/amatullahbutt/) \, Chairperson IEEE WIE AG\, UET Taxila 
 added further depth to the experience.\n\nAgenda: \nThe agenda was to cele
 brate IEEE DAY also focus on the membership of IEEE and benefits from IEEE
 .\n\nHITEC University\,Taxila\, Taxila\, Punjab\, Pakistan
LOCATION:HITEC University\,Taxila\, Taxila\, Punjab\, Pakistan
ORGANIZER:komal.batool@riphah.edu.pk
SEQUENCE:30
SUMMARY:IEEE DAY at HITEC University
URL;VALUE=URI:https://events.vtools.ieee.org/m/444836
X-ALT-DESC:Description: &lt;br /&gt;&lt;p&gt;IEEE WIE AG UET Taxila attended the event 
 of IEEE Day at HITEC University which included various talks. The &lt;a class
 =&quot;app-aware-link &quot; href=&quot;https://www.linkedin.com/company/ieee-region10/&quot; 
 target=&quot;_self&quot; data-test-app-aware-link=&quot;&quot;&gt;IEEE Region 10 (Asia-Pacific Re
 gion)&lt;/a&gt; SAC Summit gathered passionate IEEE members to celebrate &lt;a clas
 s=&quot;app-aware-link &quot; href=&quot;https://www.linkedin.com/company/ieeeday/&quot; targe
 t=&quot;_self&quot; data-test-app-aware-link=&quot;&quot;&gt;IEEE Day&lt;/a&gt; and exchange knowledge 
 on topics that truly matter.&lt;br&gt;&lt;br&gt;Dr. &lt;a id=&quot;ember1708&quot; class=&quot;ember-vie
 w&quot; href=&quot;https://www.linkedin.com/in/nosherwan-shoaib/&quot;&gt;Nosherwan Shoaib&lt;/
 a&gt; shed light on the core principles of the IEEE Code of Ethics and the vi
 sion behind IEEE Day\, while Mr. &lt;a id=&quot;ember1709&quot; class=&quot;ember-view&quot; href
 =&quot;https://www.linkedin.com/in/engrriz/&quot;&gt;Rizwan Naqvi&lt;/a&gt; shared practical 
 steps for securing funding and grants for our IEEE ventures. Mr. &lt;a id=&quot;em
 ber1710&quot; class=&quot;ember-view&quot; href=&quot;https://www.linkedin.com/in/muhammad-fai
 sal-shaheen-25a853283/&quot;&gt;Muhammad Faisal Shaheen&lt;/a&gt;&#39;s talk was a deep dive
  into personal growth\, showing us what it really means to strive for a be
 tter version of ourselves. The discussions on IEEE membership and its perk
 s by Mr. &lt;a id=&quot;ember1711&quot; class=&quot;ember-view&quot; href=&quot;https://www.linkedin.c
 om/in/malik-hasaan-71089824a/&quot;&gt;Malik Hasaan&lt;/a&gt;\, Mr. &lt;a id=&quot;ember1712&quot; cl
 ass=&quot;ember-view&quot; href=&quot;https://www.linkedin.com/in/wahab925/&quot;&gt;Abdul Wahab&lt;
 /a&gt;\, and&lt;strong&gt; Ms. &lt;a id=&quot;ember1713&quot; class=&quot;ember-view&quot; href=&quot;https://w
 ww.linkedin.com/in/amatullahbutt/&quot;&gt;Amatullah&lt;/a&gt; \, Chairperson IEEE WIE A
 G\, UET Taxila&lt;/strong&gt; added further depth to the experience.&lt;/p&gt;&lt;br /&gt;&lt;b
 r /&gt;Agenda: &lt;br /&gt;&lt;p&gt;The agenda was to celebrate IEEE DAY also focus on th
 e membership of IEEE and benefits from IEEE.&lt;/p&gt;
END:VEVENT
END:VCALENDAR

