BEGIN:VCALENDAR
VERSION:2.0
PRODID:IEEE vTools.Events//EN
CALSCALE:GREGORIAN
BEGIN:VTIMEZONE
TZID:Australia/Adelaide
BEGIN:DAYLIGHT
DTSTART:20241006T030000
TZOFFSETFROM:+0930
TZOFFSETTO:+1030
RRULE:FREQ=YEARLY;BYDAY=1SU;BYMONTH=10
TZNAME:ACDT
END:DAYLIGHT
BEGIN:STANDARD
DTSTART:20250406T020000
TZOFFSETFROM:+1030
TZOFFSETTO:+0930
RRULE:FREQ=YEARLY;BYDAY=1SU;BYMONTH=4
TZNAME:ACST
END:STANDARD
END:VTIMEZONE
BEGIN:VEVENT
DTSTAMP:20241130T034136Z
UID:BCAA1320-C5CE-44FD-8D3C-67086ED19989
DTSTART;TZID=Australia/Adelaide:20241127T124500
DTEND;TZID=Australia/Adelaide:20241127T141500
DESCRIPTION:Operational Experience from a 100% Solar Network\n\nPresenter: 
 Cathryn McDonald\, Network Optimisation Engineer\, SAPN.\n\nThis talk will
  share recent experiences from operating the South Australian distribution
  system  under  high  rooftop  PV  conditions  over  the  2023  and  2024 
  Spring/Summer seasons.  SA  Power  Networks  is  using  innovative  appro
 aches  such  as  the  Flexible Exports program to securely and reliably op
 erate the distribution system at high levels of rooftop solar export\, ena
 bling customers to collectively export significant volumes of energy throu
 gh the distribution system to the transmission system.\n\nSpeaker(s): Cath
 ryn\n\nBldg: 11th Floor\, 108 King William St\, Adelaide\, South Australia
 \, Australia\, 5000
LOCATION:Bldg: 11th Floor\, 108 King William St\, Adelaide\, South Australi
 a\, Australia\, 5000
ORGANIZER:Keith.Kikkert@iinet.net.au
SEQUENCE:17
SUMMARY:Operational Experience from a 100% Solar Network 
URL;VALUE=URI:https://events.vtools.ieee.org/m/444924
X-ALT-DESC:Description: &lt;br /&gt;&lt;p&gt;&lt;!--StartFragment --&gt;&lt;/p&gt;\n&lt;p&gt;&lt;span style=
 &quot;font-family: CIDFontF1\; font-size: 13px\; color: #000000\;&quot;&gt;&lt;!--StartFra
 gment --&gt;&lt;/span&gt;&lt;/p&gt;\n&lt;p&gt;&lt;span style=&quot;font-family: CIDFontF4\; font-size: 
 14px\; color: #0000ff\;&quot;&gt;&lt;!--StartFragment --&gt;&lt;/span&gt;&lt;/p&gt;\n&lt;p&gt;&lt;span style=
 &quot;font-family: CIDFontF7\; font-size: 21px\; color: #ff0000\;&quot;&gt;Operational 
 Experience from a 100% Solar Network &lt;/span&gt;&lt;/p&gt;\n&lt;p&gt;&lt;span style=&quot;font-fam
 ily: CIDFontF4\; font-size: 14px\; color: #0000ff\;&quot;&gt;Presenter: Cathryn Mc
 Donald\, Network Optimisation Engineer\, SAPN.&amp;nbsp\;&lt;/span&gt;&lt;span style=&quot;f
 ont-family: CIDFontF5\; font-size: 12px\; color: #0000ff\;&quot;&gt; &lt;/span&gt;&lt;/p&gt;\n
 &lt;p&gt;&lt;span style=&quot;font-family: CIDFontF1\; font-size: 13px\; color: #000000\
 ;&quot;&gt;This talk will share recent experiences from operating the South Austra
 lian distribution system&amp;nbsp\;&lt;/span&gt;&lt;span style=&quot;font-family: EditContro
 l\; font-size: 13px\; color: #000000\;&quot;&gt; &lt;/span&gt;&lt;span style=&quot;font-family: 
 CIDFontF1\; font-size: 13px\; color: #000000\;&quot;&gt;under &lt;/span&gt;&lt;span style=&quot;
 font-family: EditControl\; font-size: 13px\; color: #000000\;&quot;&gt; &lt;/span&gt;&lt;sp
 an style=&quot;font-family: CIDFontF1\; font-size: 13px\; color: #000000\;&quot;&gt;hig
 h &lt;/span&gt;&lt;span style=&quot;font-family: EditControl\; font-size: 13px\; color: 
 #000000\;&quot;&gt; &lt;/span&gt;&lt;span style=&quot;font-family: CIDFontF1\; font-size: 13px\;
  color: #000000\;&quot;&gt;rooftop &lt;/span&gt;&lt;span style=&quot;font-family: EditControl\; 
 font-size: 13px\; color: #000000\;&quot;&gt; &lt;/span&gt;&lt;span style=&quot;font-family: CIDF
 ontF1\; font-size: 13px\; color: #000000\;&quot;&gt;PV &lt;/span&gt;&lt;span style=&quot;font-fa
 mily: EditControl\; font-size: 13px\; color: #000000\;&quot;&gt; &lt;/span&gt;&lt;span styl
 e=&quot;font-family: CIDFontF1\; font-size: 13px\; color: #000000\;&quot;&gt;conditions
  &lt;/span&gt;&lt;span style=&quot;font-family: EditControl\; font-size: 13px\; color: #
 000000\;&quot;&gt; &lt;/span&gt;&lt;span style=&quot;font-family: CIDFontF1\; font-size: 13px\; 
 color: #000000\;&quot;&gt;over &lt;/span&gt;&lt;span style=&quot;font-family: EditControl\; font
 -size: 13px\; color: #000000\;&quot;&gt; &lt;/span&gt;&lt;span style=&quot;font-family: CIDFontF
 1\; font-size: 13px\; color: #000000\;&quot;&gt;the &lt;/span&gt;&lt;span style=&quot;font-famil
 y: EditControl\; font-size: 13px\; color: #000000\;&quot;&gt; &lt;/span&gt;&lt;span style=&quot;
 font-family: CIDFontF1\; font-size: 13px\; color: #000000\;&quot;&gt;2023 &lt;/span&gt;&lt;
 span style=&quot;font-family: EditControl\; font-size: 13px\; color: #000000\;&quot;
 &gt; &lt;/span&gt;&lt;span style=&quot;font-family: CIDFontF1\; font-size: 13px\; color: #0
 00000\;&quot;&gt;and &lt;/span&gt;&lt;span style=&quot;font-family: EditControl\; font-size: 13p
 x\; color: #000000\;&quot;&gt; &lt;/span&gt;&lt;span style=&quot;font-family: CIDFontF1\; font-s
 ize: 13px\; color: #000000\;&quot;&gt;2024 &lt;/span&gt;&lt;span style=&quot;font-family: EditCo
 ntrol\; font-size: 13px\; color: #000000\;&quot;&gt; &lt;/span&gt;&lt;span style=&quot;font-fami
 ly: CIDFontF1\; font-size: 13px\; color: #000000\;&quot;&gt;Spring/Summer seasons.
  &lt;/span&gt;&lt;span style=&quot;font-family: EditControl\; font-size: 13px\; color: #
 000000\;&quot;&gt; &lt;/span&gt;&lt;span style=&quot;font-family: CIDFontF1\; font-size: 13px\; 
 color: #000000\;&quot;&gt;SA &lt;/span&gt;&lt;span style=&quot;font-family: EditControl\; font-s
 ize: 13px\; color: #000000\;&quot;&gt; &lt;/span&gt;&lt;span style=&quot;font-family: CIDFontF1\
 ; font-size: 13px\; color: #000000\;&quot;&gt;Power &lt;/span&gt;&lt;span style=&quot;font-famil
 y: EditControl\; font-size: 13px\; color: #000000\;&quot;&gt; &lt;/span&gt;&lt;span style=&quot;
 font-family: CIDFontF1\; font-size: 13px\; color: #000000\;&quot;&gt;Networks &lt;/sp
 an&gt;&lt;span style=&quot;font-family: EditControl\; font-size: 13px\; color: #00000
 0\;&quot;&gt; &lt;/span&gt;&lt;span style=&quot;font-family: CIDFontF1\; font-size: 13px\; color
 : #000000\;&quot;&gt;is &lt;/span&gt;&lt;span style=&quot;font-family: EditControl\; font-size: 
 13px\; color: #000000\;&quot;&gt; &lt;/span&gt;&lt;span style=&quot;font-family: CIDFontF1\; fon
 t-size: 13px\; color: #000000\;&quot;&gt;using &lt;/span&gt;&lt;span style=&quot;font-family: Ed
 itControl\; font-size: 13px\; color: #000000\;&quot;&gt; &lt;/span&gt;&lt;span style=&quot;font-
 family: CIDFontF1\; font-size: 13px\; color: #000000\;&quot;&gt;innovative &lt;/span&gt;
 &lt;span style=&quot;font-family: EditControl\; font-size: 13px\; color: #000000\;
 &quot;&gt; &lt;/span&gt;&lt;span style=&quot;font-family: CIDFontF1\; font-size: 13px\; color: #
 000000\;&quot;&gt;approaches &lt;/span&gt;&lt;span style=&quot;font-family: EditControl\; font-s
 ize: 13px\; color: #000000\;&quot;&gt; &lt;/span&gt;&lt;span style=&quot;font-family: CIDFontF1\
 ; font-size: 13px\; color: #000000\;&quot;&gt;such &lt;/span&gt;&lt;span style=&quot;font-family
 : EditControl\; font-size: 13px\; color: #000000\;&quot;&gt; &lt;/span&gt;&lt;span style=&quot;f
 ont-family: CIDFontF1\; font-size: 13px\; color: #000000\;&quot;&gt;as &lt;/span&gt;&lt;spa
 n style=&quot;font-family: EditControl\; font-size: 13px\; color: #000000\;&quot;&gt; &lt;
 /span&gt;&lt;span style=&quot;font-family: CIDFontF1\; font-size: 13px\; color: #0000
 00\;&quot;&gt;the &lt;/span&gt;&lt;span style=&quot;font-family: EditControl\; font-size: 13px\;
  color: #000000\;&quot;&gt; &lt;/span&gt;&lt;span style=&quot;font-family: CIDFontF1\; font-size
 : 13px\; color: #000000\;&quot;&gt;Flexible Exports program to securely and reliab
 ly operate the distribution system at high levels of rooftop solar export\
 , enabling customers to collectively export significant volumes of energy 
 through the distribution system to the transmission system.&lt;/span&gt;&lt;span st
 yle=&quot;font-family: CIDFontF2\; font-size: 13px\; color: #000000\;&quot;&gt; &lt;/span&gt;
 &lt;/p&gt;
END:VEVENT
END:VCALENDAR

