BEGIN:VCALENDAR
VERSION:2.0
PRODID:IEEE vTools.Events//EN
CALSCALE:GREGORIAN
BEGIN:VTIMEZONE
TZID:Australia/Melbourne
BEGIN:DAYLIGHT
DTSTART:20241006T030000
TZOFFSETFROM:+1000
TZOFFSETTO:+1100
RRULE:FREQ=YEARLY;BYDAY=1SU;BYMONTH=10
TZNAME:AEDT
END:DAYLIGHT
BEGIN:STANDARD
DTSTART:20250406T020000
TZOFFSETFROM:+1100
TZOFFSETTO:+1000
RRULE:FREQ=YEARLY;BYDAY=1SU;BYMONTH=4
TZNAME:AEST
END:STANDARD
END:VTIMEZONE
BEGIN:VEVENT
DTSTAMP:20241118T020934Z
UID:94DBCD7F-9D9F-4626-8FDF-155CC3164F0B
DTSTART;TZID=Australia/Melbourne:20241113T080000
DTEND;TZID=Australia/Melbourne:20241114T173000
DESCRIPTION:Introduce novice audience to nuclear reactor core physics\, rea
 ctor safety\, and nuclear stewardship\n\n(Core physics\, reactor safety\, 
 nuclear safety and nuclear stewardship)\n\nhttps://www.swinburne.edu.au/ev
 ents/2024/11/introduction-to-nuclear-reactors-safety-and-stewardship-101.h
 tml/\n\nCo-sponsored by: Swinburne University of Technology\n\nSpeaker(s):
  Farzad Rahnema\, \n\nAgenda: \nhttps://www.swinburne.edu.au/events/2024/1
 1/introduction-to-nuclear-reactors-safety-and-stewardship-101.html/\n\nSwi
 nburne University of Technology\, Wakefield St\, Melbourne\, Victoria\, Au
 stralia\, 3122
LOCATION:Swinburne University of Technology\, Wakefield St\, Melbourne\, Vi
 ctoria\, Australia\, 3122
ORGANIZER:saeid.nahavandi@ieee.org
SEQUENCE:4
SUMMARY:Introduce novice audience to nuclear reactor core physics\, reactor
  safety\, and nuclear stewardship
URL;VALUE=URI:https://events.vtools.ieee.org/m/444943
X-ALT-DESC:Description: &lt;br /&gt;&lt;p&gt;&lt;span lang=&quot;EN-US&quot;&gt;Introduce novice audien
 ce to nuclear reactor core physics\, reactor safety\, and nuclear stewards
 hip&lt;/span&gt;&lt;/p&gt;\n&lt;p&gt;&lt;span lang=&quot;EN-US&quot;&gt;&lt;strong&gt;(Core physics\, reactor safe
 ty\, nuclear safety and nuclear stewardship)&lt;/strong&gt;&lt;/span&gt;&lt;/p&gt;\n&lt;p&gt;&lt;span
  lang=&quot;EN-US&quot;&gt;&lt;strong&gt;&lt;a href=&quot;https://www.swinburne.edu.au/events/2024/11
 /introduction-to-nuclear-reactors-safety-and-stewardship-101.html/&quot;&gt;https:
 //www.swinburne.edu.au/events/2024/11/introduction-to-nuclear-reactors-saf
 ety-and-stewardship-101.html/&lt;/a&gt;&lt;/strong&gt;&lt;/span&gt;&lt;/p&gt;\n&lt;p&gt;&amp;nbsp\;&lt;/p&gt;&lt;br /
 &gt;&lt;br /&gt;Agenda: &lt;br /&gt;&lt;p&gt;&lt;a href=&quot;https://www.swinburne.edu.au/events/2024/
 11/introduction-to-nuclear-reactors-safety-and-stewardship-101.html/&quot;&gt;http
 s://www.swinburne.edu.au/events/2024/11/introduction-to-nuclear-reactors-s
 afety-and-stewardship-101.html/&lt;/a&gt;&lt;/p&gt;\n&lt;p&gt;&amp;nbsp\;&lt;/p&gt;
END:VEVENT
END:VCALENDAR

