BEGIN:VCALENDAR
VERSION:2.0
PRODID:IEEE vTools.Events//EN
CALSCALE:GREGORIAN
BEGIN:VTIMEZONE
TZID:America/Chicago
BEGIN:DAYLIGHT
DTSTART:20250309T030000
TZOFFSETFROM:-0600
TZOFFSETTO:-0500
RRULE:FREQ=YEARLY;BYDAY=2SU;BYMONTH=3
TZNAME:CDT
END:DAYLIGHT
BEGIN:STANDARD
DTSTART:20241103T010000
TZOFFSETFROM:-0500
TZOFFSETTO:-0600
RRULE:FREQ=YEARLY;BYDAY=1SU;BYMONTH=11
TZNAME:CST
END:STANDARD
END:VTIMEZONE
BEGIN:VEVENT
DTSTAMP:20241121T115432Z
UID:6F496CB7-398C-4CDD-B03B-B19293A1F65C
DTSTART;TZID=America/Chicago:20241120T120000
DTEND;TZID=America/Chicago:20241120T130000
DESCRIPTION:Kevin Jacks\, the North American Sales Director for Chloride\, 
 will provide a presentation on UPS and Sodium Metal Chloride Battery Techn
 ology.\n\nThe Uninterruptible Power Supply (UPS) is a critical link in the
  power safety chain that is essential for people and assets security. New 
 battery technologies offer important advantages for industrial application
 s: power availability\, “green” contents and safety.\n\nThe presentati
 on will provide an overview of advancements in UPS technology and the late
 st generation of sodium metal chloride batteries.\n\nAttendees will receiv
 e 1-PDH credit.\n\nSpeaker(s): Kevin Jacks\n\nAgenda: \n12:00 PM Presentat
 ion\n\n12:50 PM Questions\n\n1:00PM Adjourn\n\nVirtual: https://events.vto
 ols.ieee.org/m/445172
LOCATION:Virtual: https://events.vtools.ieee.org/m/445172
ORGANIZER:dhorbaczewski@ieee.org
SEQUENCE:15
SUMMARY:IAS/IES Chicago Technical Meeting - UPS &amp; Sodium Metal Chloride Bat
 tery Technology
URL;VALUE=URI:https://events.vtools.ieee.org/m/445172
X-ALT-DESC:Description: &lt;br /&gt;&lt;p class=&quot;MsoNormal&quot;&gt;Kevin Jacks\, the North 
 American Sales Director for Chloride\, will provide a presentation on UPS 
 and Sodium Metal Chloride Battery Technology.&lt;/p&gt;\n&lt;p class=&quot;MsoNormal&quot;&gt;Th
 e Uninterruptible Power Supply (UPS) is a critical link in the power safet
 y chain that is essential for people and assets security. New battery&amp;nbsp
 \;technologies offer important advantages for industrial applications: pow
 er availability\, &amp;ldquo\;green&amp;rdquo\; contents and safety.&lt;/p&gt;\n&lt;p class
 =&quot;MsoNormal&quot;&gt;The presentation will provide an overview of advancements in 
 UPS technology and the latest generation of sodium metal chloride batterie
 s.&lt;/p&gt;\n&lt;p class=&quot;MsoNormal&quot;&gt;Attendees will receive 1-PDH credit.&lt;/p&gt;\n&lt;p 
 class=&quot;MsoNormal&quot;&gt;&amp;nbsp\;&lt;/p&gt;&lt;br /&gt;&lt;br /&gt;Agenda: &lt;br /&gt;&lt;p&gt;12:00 PM&amp;nbsp\; 
 Presentation&lt;/p&gt;\n&lt;p&gt;12:50 PM Questions&lt;/p&gt;\n&lt;p&gt;1:00PM Adjourn&lt;/p&gt;
END:VEVENT
END:VCALENDAR

