BEGIN:VCALENDAR
VERSION:2.0
PRODID:IEEE vTools.Events//EN
CALSCALE:GREGORIAN
BEGIN:VTIMEZONE
TZID:America/Los_Angeles
BEGIN:DAYLIGHT
DTSTART:20250309T030000
TZOFFSETFROM:-0800
TZOFFSETTO:-0700
RRULE:FREQ=YEARLY;BYDAY=2SU;BYMONTH=3
TZNAME:PDT
END:DAYLIGHT
BEGIN:STANDARD
DTSTART:20241103T010000
TZOFFSETFROM:-0700
TZOFFSETTO:-0800
RRULE:FREQ=YEARLY;BYDAY=1SU;BYMONTH=11
TZNAME:PST
END:STANDARD
END:VTIMEZONE
BEGIN:VEVENT
DTSTAMP:20241206T054846Z
UID:BAE0C3B1-1064-4D3D-B677-7A8C131568C5
DTSTART;TZID=America/Los_Angeles:20241205T183000
DTEND;TZID=America/Los_Angeles:20241205T200000
DESCRIPTION:Article I\, Section 8\, Clause 8\, of the U.S. Constitution giv
 es Congress the power to grant patents to inventors. From there\, it all b
 ecomes murky. What benefits can an individual inventor extract from a pate
 nt? How important is it for a company to build a patent portfolio? What sh
 ould you do with the portfolio once you have it? Can you afford to enforce
  your patents? When should you be scared of other people suing you over pa
 tents? After 40+ years in the patent game as an inventor\, an expert witne
 ss\, and a corporate executive responsible for patent strategy\, I will gi
 ve you a big picture view of the economics of the patent industry and disc
 uss some of the opportunities and pitfalls.\n\nSpeaker(s): Andrew Wolfe\, 
 \n\nRoom: 225\, Bldg: Heafey\, Santa Clara University\, Santa Clara\, Cali
 fornia\, United States\, Virtual: https://events.vtools.ieee.org/m/445568
LOCATION:Room: 225\, Bldg: Heafey\, Santa Clara University\, Santa Clara\, 
 California\, United States\, Virtual: https://events.vtools.ieee.org/m/445
 568
ORGANIZER:edcheng@ieee.org
SEQUENCE:54
SUMMARY:What Good are Patents in the Real World?
URL;VALUE=URI:https://events.vtools.ieee.org/m/445568
X-ALT-DESC:Description: &lt;br /&gt;&lt;p&gt;Article I\, Section 8\, Clause 8\, of the 
 U.S. Constitution gives Congress the power to grant patents to inventors. 
 From there\, it all becomes murky. What benefits can an individual invento
 r extract from a patent? How important is it for a company to build a pate
 nt portfolio? What should you do with the portfolio once you have it? Can 
 you afford to enforce your patents? When should you be scared of other peo
 ple suing you over patents? After 40+ years in the patent game as an inven
 tor\, an expert witness\, and a corporate executive responsible for patent
  strategy\, I will give you a big picture view of the economics of the pat
 ent industry and discuss some of the opportunities and pitfalls.&lt;/p&gt;
END:VEVENT
END:VCALENDAR

