BEGIN:VCALENDAR
VERSION:2.0
PRODID:IEEE vTools.Events//EN
CALSCALE:GREGORIAN
BEGIN:VTIMEZONE
TZID:America/New_York
BEGIN:DAYLIGHT
DTSTART:20250309T030000
TZOFFSETFROM:-0500
TZOFFSETTO:-0400
RRULE:FREQ=YEARLY;BYDAY=2SU;BYMONTH=3
TZNAME:EDT
END:DAYLIGHT
BEGIN:STANDARD
DTSTART:20241103T010000
TZOFFSETFROM:-0400
TZOFFSETTO:-0500
RRULE:FREQ=YEARLY;BYDAY=1SU;BYMONTH=11
TZNAME:EST
END:STANDARD
END:VTIMEZONE
BEGIN:VEVENT
DTSTAMP:20241118T161621Z
UID:534BB825-5C41-4A7E-9440-D66CD30284E1
DTSTART;TZID=America/New_York:20241115T140000
DTEND;TZID=America/New_York:20241115T150000
DESCRIPTION:A modern grid requires modern communications. Connectivity thro
 ugh Private LTE is helping to shape the future of private wireless broadba
 nd networks for utilities with the right tools\, solutions\, cyber securit
 y\, and technology—all on a platform ready to power the grid of the futu
 re\, starting today. Applications typically in only the telecommunications
  and wireless technology are now expanding to the Utility Sector enabling 
 an improved communications landscape capable of meeting the changing needs
  of utility control. That means connectivity for daily operations\, identi
 fying faults\, communication during natural disasters and future smart gri
 d initiatives. Safety\, security\, reliability\, and resiliency are on the
  minds of every utility leader and innovator committed to better serving t
 heir communities and service territories.\n\nSpeaker(s): Jason Mills\, \n\
 n371 Fairfield Way\, ITE 336\, Storrs\, Connecticut\, United States\, 0626
 9-0001
LOCATION:371 Fairfield Way\, ITE 336\, Storrs\, Connecticut\, United States
 \, 06269-0001
ORGANIZER:junbo@uconn.edu
SEQUENCE:9
SUMMARY:Grid Optimization: Private LTE Provides the Optimal Foundation for 
 Smart Grid Devices
URL;VALUE=URI:https://events.vtools.ieee.org/m/445577
X-ALT-DESC:Description: &lt;br /&gt;&lt;p style=&quot;background: white\;&quot;&gt;&lt;span style=&quot;f
 ont-size: 11.0pt\; font-family: &#39;Segoe UI&#39;\,sans-serif\; color: #242424\;&quot;
 &gt;A modern grid requires modern communications. Connectivity through Privat
 e LTE is helping to shape the future of private wireless broadband network
 s for utilities with the right tools\, solutions\, cyber security\, and te
 chnology&amp;mdash\;all on a platform ready to power the grid of the future\, 
 starting today. Applications typically in only the telecommunications and 
 wireless technology are now expanding to the Utility Sector enabling an im
 proved communications landscape capable of meeting the changing needs of u
 tility control. That means connectivity for daily operations\, identifying
  faults\, communication during natural disasters and future smart grid ini
 tiatives. Safety\, security\, reliability\, and resiliency are on the mind
 s of every utility leader and innovator committed to better serving their 
 communities and service territories.&lt;/span&gt;&lt;/p&gt;
END:VEVENT
END:VCALENDAR

