BEGIN:VCALENDAR
VERSION:2.0
PRODID:IEEE vTools.Events//EN
CALSCALE:GREGORIAN
BEGIN:VTIMEZONE
TZID:America/New_York
BEGIN:DAYLIGHT
DTSTART:20250309T030000
TZOFFSETFROM:-0500
TZOFFSETTO:-0400
RRULE:FREQ=YEARLY;BYDAY=2SU;BYMONTH=3
TZNAME:EDT
END:DAYLIGHT
BEGIN:STANDARD
DTSTART:20241103T010000
TZOFFSETFROM:-0400
TZOFFSETTO:-0500
RRULE:FREQ=YEARLY;BYDAY=1SU;BYMONTH=11
TZNAME:EST
END:STANDARD
END:VTIMEZONE
BEGIN:VEVENT
DTSTAMP:20241129T224415Z
UID:E803FBCF-AC60-41EC-851B-6C650C204CFB
DTSTART;TZID=America/New_York:20241126T180000
DTEND;TZID=America/New_York:20241126T190300
DESCRIPTION:IEEE Reliability Society- Joint Boston/New Hampshire/Providence
  Chapter Adcom meeting.\n\nSpeaker(s): \, \, \, \n\nAgenda: \nAhead of thi
 s meeting\, please review Don&#39;s minutes and Justin&#39;s proposal &amp; draft broc
 hure. All are found in the &quot;Media&quot; section in the VTools event for last Ad
 com at https://events.vtools.ieee.org/m/434343\n\nAgenda\n\n-\nCall to Ord
 er\n\n-\nOpening Remarks\n\n-\nChapter Collabratec site: Boston/Providence
 /New Hampshire Jt Sections\, RL07\n\n-\nOfficer Reports\n\n-\nSecretary\n\
 n-\nAdCom Meeting Minutes\n\n-\nTreasurer\n\n-\nAwards\n\n-\nFinancials\n\
 n-\nVice Chair\n\n-\nTechnical Meeting Schedule\n\n-\nPotential Technical 
 Meeting Presentations\n\n-\nNewsletter\n\n-\nWebmaster &amp; Social Media\n\n-
 \nWebsite Status\n\n-\nFurther discussion of Justin&#39;s proposal &lt;https://ev
 ents.vtools.ieee.org/m/434343&gt;\n\n-\nChair Report\n\n-\nRecent Technical M
 eeting Attendance\n\n-\n13-NOV-2024 ESD Costly Controversial Myths byTed D
 angelmayer\n\n-\nUpcoming Technical Meeting Registrations\n\n-\n11-DEC-202
 4 Radiation Effects in Electronics: Brief Overview and History by Ethan Ca
 scio\n\n-\nOld Business\n\n-\nMIT Lincoln Laboratory Appreciation / Thank 
 You Plaque andPresentation\n\n-\nProposed creation of IEEE Boston Reliabil
 ity Chapter brochureTargeting the Younger Demographic - Facebook\, Instagr
 am\, Twitter\n\n-\nChapter banner\n\n-\nNew Business\n\n-\nRSVPs for 11-DE
 C-2024 Radiation Effects in Electronics: Brief Overview and History by Eth
 an Cascio\n\n-\nGary Kushner\n\n-\n&quot;Thank you for the invite. I really app
 reciate them. I cannot make it this year. &quot;\n\n-\nMark Snyder\n\n-\n&quot;It’
 s hard to believe I was chair almost 50 years ago. Unfortunately\, I am un
 able to attend the meeting on 12/11. Please convey my warm regards to all 
 the ‘youngsters’ in the chapter.&quot;\n\n-\nAaron Dermarderosian\n\n-\n&quot;I 
 hope this finds you well! When possible and available virtually\, I contin
 ue to try and attend the Boston Reliability chapter meetings as we definit
 ely have one of the most active chapters in the US!\n\nThanks for the invi
 te\, I am planning to attend this year virtually and am looking forward to
  the talk and seeing others again at the year-end event!\n\nIf I recall\, 
 Charlie Recchia or possibly someone else on the AdCom knew of this program
  as they would share those facilities for modeling &amp; testing single event 
 upsets for computer systems at high altitude&quot;.\n\n-\nOfficer Election – 
 Open October 30 / Close December 4\n\n-\nCommunication from Mehdi Si Mouss
 a (simoussa@ieee.org)\, vice chair of the Worcester County section and Cha
 ir of the Microwave Chapter regarding hosting meetings.\n\n-\nAdd the Worc
 ester Reliability Chapter to the Boston/Providence/RI Reliability Chapter?
 \n\n-\nPolicy Proposal Discussion\n\n-\nShould we create a chapter policy 
 document\, for example to contain the meeting voluntary illness self-repor
 ting notification?\n\n-\nProposed new policy:\n\n&quot;We agree that as Officer
 s and volunteers of the Joint IEEE Reliability Chapter of Boston\, New Ham
 pshire\, &amp; Providence\, we will avoid any real or perceived impression tha
 t we have a political affiliation. Officers and other volunteers may take 
 part in partisan political activities freely on their own personal time\, 
 but they must not do so in the course of their role and responsibilities f
 or the Chapter\, nor should they represent that they are acting for or on 
 behalf of this Chapter\, or give the appearance that they are representing
  the IEEE.&quot;\n\n-\nMenu and Logistics for 11-DEC-2025 Meeting\n\n-\nSchedul
 e Next AdCom Meeting\n\n-\nTBD.\n\n-\nClosing Remarks\n\n-\nAdjournment\n\
 nVirtual: https://events.vtools.ieee.org/m/445583
LOCATION:Virtual: https://events.vtools.ieee.org/m/445583
ORGANIZER:james.yakura@ieee.org
SEQUENCE:75
SUMMARY:Tuesday November 26\, 2024 - IEEE Boston/New Hampshire/Providence R
 eliability Chapter Adcom Meeting
URL;VALUE=URI:https://events.vtools.ieee.org/m/445583
X-ALT-DESC:Description: &lt;br /&gt;&lt;p&gt;IEEE Reliability Society- Joint Boston/New
  Hampshire/Providence Chapter Adcom meeting.&lt;/p&gt;&lt;br /&gt;&lt;br /&gt;Agenda: &lt;br /&gt;
 &lt;p&gt;&lt;strong&gt;&lt;span style=&quot;font-family: times new roman\, serif\;&quot;&gt;&lt;span styl
 e=&quot;font-size: x-large\;&quot;&gt;Ahead of this meeting\, please review Don&#39;s minut
 es and Justin&#39;s proposal &amp;amp\; draft brochure.&amp;nbsp\; All are found in th
 e &quot;Media&quot; section in the VTools event for last Adcom at https://events.vto
 ols.ieee.org/m/434343&lt;/span&gt;&lt;/span&gt;&lt;/strong&gt;&lt;/p&gt;\n&lt;p&gt;&lt;strong&gt;&lt;span style=&quot;
 font-family: times new roman\, serif\;&quot;&gt;&lt;span style=&quot;font-size: x-large\;&quot;
 &gt;Agenda&lt;/span&gt;&lt;/span&gt;&lt;/strong&gt;&lt;/p&gt;\n&lt;ol type=&quot;A&quot;&gt;\n&lt;li&gt;\n&lt;p&gt;Call to Order&lt;
 /p&gt;\n&lt;/li&gt;\n&lt;li&gt;\n&lt;p&gt;Opening Remarks&lt;/p&gt;\n&lt;ol&gt;\n&lt;li&gt;\n&lt;p&gt;Chapter Collabrat
 ec site: Boston/Providence/New Hampshire Jt Sections\, RL07&lt;/p&gt;\n&lt;/li&gt;\n&lt;/
 ol&gt;\n&lt;/li&gt;\n&lt;li&gt;\n&lt;p&gt;Officer Reports&lt;/p&gt;\n&lt;ol&gt;\n&lt;li&gt;\n&lt;p&gt;Secretary&lt;/p&gt;\n&lt;o
 l type=&quot;a&quot;&gt;\n&lt;li&gt;\n&lt;p&gt;AdCom Meeting Minutes&lt;/p&gt;\n&lt;/li&gt;\n&lt;/ol&gt;\n&lt;/li&gt;\n&lt;li&gt;
 \n&lt;p&gt;&lt;span style=&quot;font-family: apple-system\, BlinkMacSystemFont\, Segoe U
 I\, Roboto\, Oxygen\, Ubuntu\, Cantarell\, Open Sans\, Helvetica Neue\, sa
 ns-serif\;&quot;&gt;Treasurer&lt;/span&gt;&lt;/p&gt;\n&lt;ol type=&quot;a&quot;&gt;\n&lt;li&gt;\n&lt;p&gt;Awards&lt;/p&gt;\n&lt;/li
 &gt;\n&lt;li&gt;\n&lt;p&gt;Financials&lt;/p&gt;\n&lt;/li&gt;\n&lt;/ol&gt;\n&lt;/li&gt;\n&lt;li&gt;\n&lt;p&gt;Vice Chair&lt;/p&gt;\n
 &lt;ol type=&quot;a&quot;&gt;\n&lt;li&gt;\n&lt;p&gt;Technical Meeting Schedule&lt;/p&gt;\n&lt;/li&gt;\n&lt;li&gt;\n&lt;p&gt;Po
 tential Technical Meeting Presentations&lt;/p&gt;\n&lt;/li&gt;\n&lt;li&gt;\n&lt;p&gt;Newsletter&lt;/p
 &gt;\n&lt;/li&gt;\n&lt;/ol&gt;\n&lt;/li&gt;\n&lt;li&gt;\n&lt;p&gt;Webmaster &amp;amp\; Social Media&lt;/p&gt;\n&lt;ol ty
 pe=&quot;a&quot;&gt;\n&lt;li&gt;\n&lt;p&gt;Website Status&lt;/p&gt;\n&lt;ol type=&quot;i&quot;&gt;\n&lt;li&gt;\n&lt;p&gt;Further disc
 ussion of Justin&#39;s proposal &amp;lt\;https://events.vtools.ieee.org/m/434343&amp;g
 t\;&lt;/p&gt;\n&lt;/li&gt;\n&lt;/ol&gt;\n&lt;/li&gt;\n&lt;/ol&gt;\n&lt;/li&gt;\n&lt;li&gt;\n&lt;p&gt;Chair Report&lt;/p&gt;\n&lt;ol
  type=&quot;a&quot;&gt;\n&lt;li&gt;\n&lt;p&gt;Recent Technical Meeting Attendance&lt;/p&gt;\n&lt;ol type=&quot;i&quot;
 &gt;\n&lt;li&gt;\n&lt;p&gt;13-NOV-2024 ESD Costly Controversial Myths byTed Dangelmayer&lt;/
 p&gt;\n&lt;/li&gt;\n&lt;/ol&gt;\n&lt;/li&gt;\n&lt;li&gt;\n&lt;p&gt;Upcoming Technical Meeting Registrations
 &lt;/p&gt;\n&lt;ol type=&quot;i&quot;&gt;\n&lt;li&gt;\n&lt;p&gt;11-DEC-2024 Radiation Effects in Electronics
 : Brief Overview and History by Ethan Cascio&lt;/p&gt;\n&lt;/li&gt;\n&lt;/ol&gt;\n&lt;/li&gt;\n&lt;/o
 l&gt;\n&lt;/li&gt;\n&lt;/ol&gt;\n&lt;/li&gt;\n&lt;li&gt;\n&lt;p&gt;Old Business&lt;/p&gt;\n&lt;ol&gt;\n&lt;li&gt;\n&lt;p&gt;MIT Lin
 coln Laboratory Appreciation / Thank You Plaque andPresentation&lt;/p&gt;\n&lt;/li&gt;
 \n&lt;li&gt;\n&lt;p&gt;Proposed creation of IEEE Boston Reliability Chapter brochureTa
 rgeting the Younger Demographic - Facebook\, Instagram\, Twitter&lt;/p&gt;\n&lt;/li
 &gt;\n&lt;li&gt;\n&lt;p&gt;Chapter banner&lt;/p&gt;\n&lt;/li&gt;\n&lt;/ol&gt;\n&lt;/li&gt;\n&lt;li&gt;\n&lt;p&gt;New Business
 &lt;/p&gt;\n&lt;ol&gt;\n&lt;li&gt;\n&lt;p&gt;RSVPs for 11-DEC-2024 Radiation Effects in Electronic
 s: Brief Overview and History by Ethan Cascio&lt;/p&gt;\n&lt;ol type=&quot;a&quot;&gt;\n&lt;li&gt;\n&lt;p
 &gt;Gary Kushner&lt;/p&gt;\n&lt;ol type=&quot;i&quot;&gt;\n&lt;li&gt;\n&lt;p&gt;&quot;Thank you for the invite.&amp;nbsp
 \; I really appreciate them.&amp;nbsp\; I cannot make it this year. &quot;&lt;/p&gt;\n&lt;/l
 i&gt;\n&lt;/ol&gt;\n&lt;/li&gt;\n&lt;li&gt;\n&lt;p&gt;Mark Snyder&lt;/p&gt;\n&lt;ol type=&quot;i&quot;&gt;\n&lt;li&gt;\n&lt;p&gt;&quot;It&amp;rs
 quo\;s hard to believe I was chair almost 50 years ago. &amp;nbsp\;Unfortunate
 ly\, I am unable to attend the meeting on 12/11. &amp;nbsp\;Please convey my w
 arm regards to all the &amp;lsquo\;youngsters&amp;rsquo\; in the chapter.&quot;&lt;/p&gt;\n&lt;/
 li&gt;\n&lt;/ol&gt;\n&lt;/li&gt;\n&lt;li&gt;\n&lt;p&gt;Aaron Dermarderosian&lt;/p&gt;\n&lt;ol type=&quot;i&quot;&gt;\n&lt;li&gt;\
 n&lt;p&gt;&quot;I hope this finds you well! When possible and available virtually\, I
  continue to try and attend the&amp;nbsp\;&lt;span style=&quot;font-family: apple-syst
 em\, BlinkMacSystemFont\, Segoe UI\, Roboto\, Oxygen\, Ubuntu\, Cantarell\
 , Open Sans\, Helvetica Neue\, sans-serif\;&quot;&gt;Boston&lt;/span&gt;&amp;nbsp\;&lt;span sty
 le=&quot;font-family: apple-system\, BlinkMacSystemFont\, Segoe UI\, Roboto\, O
 xygen\, Ubuntu\, Cantarell\, Open Sans\, Helvetica Neue\, sans-serif\;&quot;&gt;Re
 liability&lt;/span&gt; &lt;span style=&quot;font-family: apple-system\, BlinkMacSystemFo
 nt\, Segoe UI\, Roboto\, Oxygen\, Ubuntu\, Cantarell\, Open Sans\, Helveti
 ca Neue\, sans-serif\;&quot;&gt;chapter meetings as we definitely have one of the 
 most active chapters in the US!&amp;nbsp\;&lt;/span&gt;&lt;/p&gt;\n&lt;p&gt;Thanks for the invit
 e\, I am planning to attend this year virtually and am looking forward to 
 the talk and seeing others again at the year-end event!&amp;nbsp\;&lt;/p&gt;\n&lt;p&gt;If 
 I recall\, Charlie Recchia or possibly someone else on the AdCom knew of t
 his program as they would share those facilities for modeling &amp;amp\; testi
 ng single event upsets for computer systems at high altitude&quot;.&lt;/p&gt;\n&lt;/li&gt;\
 n&lt;/ol&gt;\n&lt;/li&gt;\n&lt;/ol&gt;\n&lt;/li&gt;\n&lt;li&gt;\n&lt;p&gt;Officer Election &amp;ndash\; Open Octob
 er 30 / Close December 4&lt;/p&gt;\n&lt;/li&gt;\n&lt;li&gt;\n&lt;p&gt;Communication from Mehdi Si 
 Moussa (&lt;a href=&quot;mailto:simoussa@ieee.org&quot; target=&quot;_blank&quot; rel=&quot;noopener&quot;&gt;
 simoussa@ieee.org&lt;/a&gt;)\, vice chair of the Worcester County section and Ch
 air of the Microwave Chapter regarding hosting meetings.&lt;/p&gt;\n&lt;ol type=&quot;a&quot;
 &gt;\n&lt;li&gt;\n&lt;p&gt;Add the Worcester Reliability Chapter to the Boston/Providence
 /RI Reliability Chapter?&lt;/p&gt;\n&lt;/li&gt;\n&lt;/ol&gt;\n&lt;/li&gt;\n&lt;li&gt;\n&lt;p&gt;Policy Proposa
 l Discussion&lt;/p&gt;\n&lt;ol type=&quot;a&quot;&gt;\n&lt;li&gt;\n&lt;p&gt;Should we create a chapter polic
 y document\, for example to contain the meeting voluntary illness self-rep
 orting notification?&lt;/p&gt;\n&lt;/li&gt;\n&lt;li&gt;\n&lt;p&gt;Proposed new policy:&lt;/p&gt;\n&lt;/li&gt;\
 n&lt;/ol&gt;\n&lt;/li&gt;\n&lt;/ol&gt;\n&lt;/li&gt;\n&lt;/ol&gt;\n&lt;p&gt;&quot;We agree that as Officers and volu
 nteers of the Joint IEEE Reliability Chapter of Boston\, New Hampshire\, &amp;
 amp\; Providence\, we will avoid any real or perceived impression that we 
 have a political affiliation. &amp;nbsp\;Officers and other volunteers may tak
 e part in partisan political activities freely on their own personal time\
 , but they must not do so in the course of their role and responsibilities
  for the Chapter\, nor should they represent that they are acting for or o
 n behalf of this Chapter\, or give the appearance that they are representi
 ng the IEEE.&quot;&lt;/p&gt;\n&lt;ol type=&quot;A&quot;&gt;\n&lt;ol start=&quot;5&quot;&gt;\n&lt;li&gt;\n&lt;p&gt;Menu and Logist
 ics for 11-DEC-2025 Meeting&lt;/p&gt;\n&lt;/li&gt;\n&lt;li&gt;\n&lt;p&gt;Schedule Next AdCom Meeti
 ng&lt;/p&gt;\n&lt;ol type=&quot;a&quot;&gt;\n&lt;li&gt;\n&lt;p&gt;TBD.&lt;/p&gt;\n&lt;/li&gt;\n&lt;/ol&gt;\n&lt;/li&gt;\n&lt;/ol&gt;\n&lt;li&gt;
 \n&lt;p&gt;Closing Remarks&lt;/p&gt;\n&lt;/li&gt;\n&lt;li&gt;\n&lt;p&gt;Adjournment&lt;/p&gt;\n&lt;/li&gt;\n&lt;/ol&gt;\n&lt;
 p&gt;&amp;nbsp\;&lt;/p&gt;
END:VEVENT
END:VCALENDAR

