BEGIN:VCALENDAR
VERSION:2.0
PRODID:IEEE vTools.Events//EN
CALSCALE:GREGORIAN
BEGIN:VTIMEZONE
TZID:America/Chicago
BEGIN:DAYLIGHT
DTSTART:20250309T030000
TZOFFSETFROM:-0600
TZOFFSETTO:-0500
RRULE:FREQ=YEARLY;BYDAY=2SU;BYMONTH=3
TZNAME:CDT
END:DAYLIGHT
BEGIN:STANDARD
DTSTART:20241103T010000
TZOFFSETFROM:-0500
TZOFFSETTO:-0600
RRULE:FREQ=YEARLY;BYDAY=1SU;BYMONTH=11
TZNAME:CST
END:STANDARD
END:VTIMEZONE
BEGIN:VEVENT
DTSTAMP:20241222T201348Z
UID:917F31FF-84DA-48BE-BB66-A5026C30D8A5
DTSTART;TZID=America/Chicago:20241219T120000
DTEND;TZID=America/Chicago:20241219T142200
DESCRIPTION:Monthly IEEE New Orleans Section South Lake Life Member Affinit
 y Group Meeting\n\nCo-sponsored by: Richard Miller\, Chair South Lake Life
  Member Affinity group\n\nAgenda: \n12:00pm 1200hrs Start of meeting with 
 social and order lunch\n\n1:00pm 1300hrs Formal meeting with old business 
 then New business follow up with proposed coming events and if Frances is 
 available presentation on HQ activities\,\n\n2:00pm 1400hrs Adjourn.\n\nBl
 dg: New Orleans Hamburger and Seafood Restaurant\, 4141 St. Charles Ave \,
  4141 Ct Charles Ave.\, New Orleans\, Louisiana\, United States\, 70115
LOCATION:Bldg: New Orleans Hamburger and Seafood Restaurant\, 4141 St. Char
 les Ave \, 4141 Ct Charles Ave.\, New Orleans\, Louisiana\, United States\
 , 70115
ORGANIZER:lighth@bellsouth.net
SEQUENCE:30
SUMMARY:IEEE New Orleans Section - South Lake Life Member Affinity Group Lu
 ncheon Meeting 
URL;VALUE=URI:https://events.vtools.ieee.org/m/445841
X-ALT-DESC:Description: &lt;br /&gt;&lt;p&gt;Monthly IEEE New Orleans Section South Lak
 e Life Member Affinity Group Meeting&lt;/p&gt;&lt;br /&gt;&lt;br /&gt;Agenda: &lt;br /&gt;&lt;p&gt;12:00
 pm 1200hrs Start of meeting with social and order lunch&lt;/p&gt;\n&lt;p&gt;1:00pm 130
 0hrs Formal meeting with old business then New business follow up with pro
 posed coming events and if Frances is available presentation on HQ activit
 ies\,&lt;/p&gt;\n&lt;p&gt;2:00pm 1400hrs Adjourn.&lt;/p&gt;\n&lt;p&gt;&amp;nbsp\; &amp;nbsp\; &amp;nbsp\; &amp;nbs
 p\; &amp;nbsp\; &amp;nbsp\; &amp;nbsp\; &amp;nbsp\; &amp;nbsp\; &amp;nbsp\; &amp;nbsp\; &amp;nbsp\; &amp;nbsp\
 ; &amp;nbsp\;&lt;/p&gt;
END:VEVENT
END:VCALENDAR

