BEGIN:VCALENDAR
VERSION:2.0
PRODID:IEEE vTools.Events//EN
CALSCALE:GREGORIAN
BEGIN:VTIMEZONE
TZID:Asia/Kolkata
BEGIN:STANDARD
DTSTART:19451014T230000
TZOFFSETFROM:+0630
TZOFFSETTO:+0530
TZNAME:IST
END:STANDARD
END:VTIMEZONE
BEGIN:VEVENT
DTSTAMP:20241114T111333Z
UID:47B6BF51-814A-40BA-AB97-0491FE1DBBF3
DTSTART;TZID=Asia/Kolkata:20241021T140000
DTEND;TZID=Asia/Kolkata:20241021T170000
DESCRIPTION:On October 21\, 2024\, IEEE SB hosted an exhilarating photo sca
 venger hunt titled &quot;Hunt and Hype.&quot; This engaging event was designed to ch
 allenge participants’ creativity and teamwork in a fun\, interactive way
 . Running from 2:00 PM to 5:00 PM\, it attracted a large number of enthusi
 astic participants\, making it a highlight of IEEE SB calendar.\n\nTo mana
 ge participants effectively\, the event was divided into two slots. Teams 
 were tasked with deciphering clues and capturing photographs of specific i
 tems or locations within the designated time frame. The atmosphere was cha
 rged with competitive spirit as teams collaborated and strategized to comp
 lete their tasks quickly and accurately.\n\nParticipants formed teams and 
 were provided with a list of clues leading to specific items or locations 
 to find and photograph. The challenge encouraged teamwork and efficient pr
 oblem-solving\, as teams raced against the clock to complete as many tasks
  as possible.\n\nWinners:\n\nThe event concluded with outstanding performa
 nces\, where the team AKR_Squad emerged as the winners\, showcasing except
 ional teamwork and quick thinking. The Dynamic Trio secured the runners-up
  position\, impressing everyone with their problem-solving abilities and e
 ffective coordination.\n\nBangalore Institute Of Technology\, Department O
 f Electronics And Communication\,  Kr Road\, Vv Pura\, Bangalore\, Karnata
 ka\, India\, 560004
LOCATION:Bangalore Institute Of Technology\, Department Of Electronics And 
 Communication\,  Kr Road\, Vv Pura\, Bangalore\, Karnataka\, India\, 56000
 4
ORGANIZER:jalajas@ieee.org
SEQUENCE:7
SUMMARY:Hunt and Hype
URL;VALUE=URI:https://events.vtools.ieee.org/m/445911
X-ALT-DESC:Description: &lt;br /&gt;&lt;p class=&quot;MsoNormal&quot; style=&quot;text-align: justi
 fy\;&quot;&gt;&lt;span style=&quot;font-size: 12.0pt\; line-height: 107%\; font-family: &#39;T
 imes New Roman&#39;\,serif\;&quot;&gt;On October 21\, 2024\, IEEE SB hosted an exhilar
 ating photo scavenger hunt titled &quot;Hunt and Hype.&quot; This engaging event was
  designed to challenge participants&amp;rsquo\; creativity and teamwork in a f
 un\, interactive way. Running from 2:00 PM to 5:00 PM\, it attracted a lar
 ge number of enthusiastic participants\, making it a highlight of IEEE SB 
 calendar.&lt;/span&gt;&lt;/p&gt;\n&lt;p class=&quot;MsoNormal&quot;&gt;&lt;span style=&quot;font-size: 12.0pt\
 ; line-height: 107%\; font-family: &#39;Times New Roman&#39;\,serif\;&quot;&gt;To manage p
 articipants effectively\, the event was divided into two slots. Teams were
  tasked with deciphering clues and capturing photographs of specific items
  or locations within the designated time frame. The atmosphere was charged
  with competitive spirit as teams collaborated and strategized to complete
  their tasks quickly and accurately.&lt;/span&gt;&lt;/p&gt;\n&lt;p class=&quot;MsoNormal&quot;&gt;&lt;spa
 n style=&quot;font-size: 12.0pt\; line-height: 107%\; font-family: &#39;Times New R
 oman&#39;\,serif\;&quot;&gt;Participants formed teams and were provided with a list of
  clues leading to specific items or locations to find and photograph. The 
 challenge encouraged teamwork and efficient problem-solving\, as teams rac
 ed against the clock to complete as many tasks as possible.&lt;/span&gt;&lt;/p&gt;\n&lt;p
  class=&quot;MsoNormal&quot;&gt;&lt;strong&gt;&lt;span style=&quot;font-size: 12.0pt\; line-height: 1
 07%\; font-family: &#39;Times New Roman&#39;\,serif\;&quot;&gt;Winners:&lt;/span&gt;&lt;/strong&gt;&lt;/p
 &gt;\n&lt;p class=&quot;MsoNormal&quot;&gt;&lt;span style=&quot;font-size: 12.0pt\; line-height: 107%
 \; font-family: &#39;Times New Roman&#39;\,serif\;&quot;&gt;The event concluded with outst
 anding performances\, where the team &lt;strong&gt;AKR_Squad&lt;/strong&gt; emerged as
  the winners\, showcasing exceptional teamwork and quick thinking. The &lt;st
 rong&gt;Dynamic Trio &lt;/strong&gt;secured the runners-up position\, impressing ev
 eryone with their problem-solving abilities and effective coordination.&lt;/s
 pan&gt;&lt;/p&gt;\n&lt;p class=&quot;MsoNormal&quot;&gt;&amp;nbsp\;&lt;/p&gt;\n&lt;p class=&quot;MsoNormal&quot;&gt;&lt;span sty
 le=&quot;font-size: 12.0pt\; line-height: 107%\; font-family: &#39;Times New Roman&#39;
 \,serif\;&quot;&gt;&lt;img src=&quot;https://events.vtools.ieee.org/vtools_ui/media/displa
 y/34c8f007-133f-44e8-abcf-ab8a69641b4e&quot;&gt;&lt;img src=&quot;https://events.vtools.ie
 ee.org/vtools_ui/media/display/1ccc6c2c-6db1-499d-99e0-f4275b7ac81c&quot; width
 =&quot;530&quot; height=&quot;450&quot;&gt;&lt;/span&gt;&lt;/p&gt;\n&lt;p class=&quot;MsoNormal&quot;&gt;&lt;span style=&quot;font-si
 ze: 12.0pt\; line-height: 107%\; font-family: &#39;Times New Roman&#39;\,serif\;&quot;&gt;
 &lt;img src=&quot;https://events.vtools.ieee.org/vtools_ui/media/display/03db3831-
 6fa1-47af-9f2f-f83a2e49b7cf&quot;&gt;&lt;/span&gt;&lt;/p&gt;
END:VEVENT
END:VCALENDAR

