BEGIN:VCALENDAR
VERSION:2.0
PRODID:IEEE vTools.Events//EN
CALSCALE:GREGORIAN
BEGIN:VTIMEZONE
TZID:Asia/Kolkata
BEGIN:STANDARD
DTSTART:19451014T230000
TZOFFSETFROM:+0630
TZOFFSETTO:+0530
TZNAME:IST
END:STANDARD
END:VTIMEZONE
BEGIN:VEVENT
DTSTAMP:20241115T124137Z
UID:372BD1B2-D531-4381-B2B0-4EE81E983EEC
DTSTART;TZID=Asia/Kolkata:20240923T163000
DTEND;TZID=Asia/Kolkata:20240923T193000
DESCRIPTION:On 23rd September 2024\, IEEE SB MUST held its annual orientati
 on in Room ABB 01\, starting at 4:30 PM. The orientation aimed to introduc
 e students to the objectives\, opportunities\, and initiatives of the IEEE
  Student Branch at Mody University of Science and Technology (MUST). The s
 ession kicked off with a warm welcome from the core team\, providing an in
 sightful overview of IEEE’s mission and the significance of being part o
 f such a globally recognized organisation. The team highlighted the divers
 e opportunities available through IEEE\, including technical\, leadership\
 , and networking prospects\, which can greatly benefit students in their a
 cademic and professional journeys.\n\nThe session then delved into the str
 ucture of IEEE SB MUST\, featuring its key chapters like Women in Engineer
 ing (WIE)\, Communications Society (ComSoc)\, and Computer Society (CS). C
 hapter leads shared their experiences\, recent projects\, and future plans
 \, encouraging students to actively engage in upcoming activities. A prese
 ntation showcasing the achievements of the student branch over the past ye
 ar followed\, highlighting successful workshops\, hackathons\, and collabo
 rations\, including partnerships with institutions like BITS Pilani. This 
 set the stage for an exciting discussion on the upcoming events and initia
 tives planned for the academic year.\n\nInteractive segments were included
  to engage the new members\, allowing them to ask questions and express th
 eir expectations from IEEE SB MUST. This created an energetic and inclusiv
 e environment\, ensuring that students felt welcomed and informed about ho
 w they can contribute to the branch&#39;s initiatives. The session ended with 
 an invitation for students to join various committees aligned with their i
 nterests\, whether technical\, organisational\, or creative.\n\nOverall\, 
 the IEEE SB MUST Orientation 2024 was an informative and engaging event\, 
 leaving students excited to participate in the diverse activities and oppo
 rtunities offered by the student branch. It successfully set the tone for 
 a collaborative and productive year ahead\, fostering a sense of community
  among both new and returning members.\n\nMody University of science and t
 echnology\, Laxmangarh\, Rajasthan\, India
LOCATION:Mody University of science and technology\, Laxmangarh\, Rajasthan
 \, India
ORGANIZER:ieeemust2024@gmail.com
SEQUENCE:45
SUMMARY:IEEE Student Branch Mody University of Science and Technology Orien
 tation
URL;VALUE=URI:https://events.vtools.ieee.org/m/446158
X-ALT-DESC:Description: &lt;br /&gt;&lt;p dir=&quot;ltr&quot; style=&quot;text-align: justify\;&quot;&gt;On
  23rd September 2024\, IEEE SB MUST held its annual orientation in Room AB
 B 01\, starting at 4:30 PM. The orientation aimed to introduce students to
  the objectives\, opportunities\, and initiatives of the IEEE Student Bran
 ch at Mody University of Science and Technology (MUST). The session kicked
  off with a warm welcome from the core team\, providing an insightful over
 view of IEEE&amp;rsquo\;s mission and the significance of being part of such a
  globally recognized organisation. The team highlighted the diverse opport
 unities available through IEEE\, including technical\, leadership\, and ne
 tworking prospects\, which can greatly benefit students in their academic 
 and professional journeys.&amp;nbsp\;&lt;/p&gt;\n&lt;p style=&quot;text-align: justify\;&quot;&gt;&lt;s
 trong&gt;&amp;nbsp\;&lt;/strong&gt;&lt;/p&gt;\n&lt;p dir=&quot;ltr&quot; style=&quot;text-align: justify\;&quot;&gt;The
  session then delved into the structure of IEEE SB MUST\, featuring its ke
 y chapters like Women in Engineering (WIE)\, Communications Society (ComSo
 c)\, and Computer Society (CS). Chapter leads shared their experiences\, r
 ecent projects\, and future plans\, encouraging students to actively engag
 e in upcoming activities. A presentation showcasing the achievements of th
 e student branch over the past year followed\, highlighting successful wor
 kshops\, hackathons\, and collaborations\, including partnerships with ins
 titutions like BITS Pilani. This set the stage for an exciting discussion 
 on the upcoming events and initiatives planned for the academic year.&lt;/p&gt;\
 n&lt;p style=&quot;text-align: justify\;&quot;&gt;&lt;strong&gt;&amp;nbsp\;&lt;/strong&gt;&lt;/p&gt;\n&lt;p dir=&quot;lt
 r&quot; style=&quot;text-align: justify\;&quot;&gt;Interactive segments were included to eng
 age the new members\, allowing them to ask questions and express their exp
 ectations from IEEE SB MUST. This created an energetic and inclusive envir
 onment\, ensuring that students felt welcomed and informed about how they 
 can contribute to the branch&#39;s initiatives. The session ended with an invi
 tation for students to join various committees aligned with their interest
 s\, whether technical\, organisational\, or creative.&amp;nbsp\;&lt;/p&gt;\n&lt;p style
 =&quot;text-align: justify\;&quot;&gt;&lt;strong&gt;&amp;nbsp\;&lt;/strong&gt;&lt;/p&gt;\n&lt;p dir=&quot;ltr&quot; style=
 &quot;text-align: justify\;&quot;&gt;Overall\, the IEEE SB MUST Orientation 2024 was an
  informative and engaging event\, leaving students excited to participate 
 in the diverse activities and opportunities offered by the student branch.
  It successfully set the tone for a collaborative and productive year ahea
 d\, fostering a sense of community among both new and returning members.&lt;/
 p&gt;\n&lt;p&gt;&lt;strong id=&quot;docs-internal-guid-2f952f9b-7fff-c2d4-4e48-27b64587663e
 &quot;&gt;&lt;br&gt;&lt;img src=&quot;https://lh7-rt.googleusercontent.com/docsz/AD_4nXfUSwbd8Hs
 1DeEg5D3e8gdYUJ3key-3_1RLr_gDxSoru8s331xwqVMwyvnQRVt30IQ0kz9lzVt2y19sQP9Qw
 xQeZPKJ1pM8DA-6Sg5wJfFz__VDRlhahrgYYRd4RFhgaZMwzFbM0T0cicoe8rcFAzkmhjk?key
 =M2Z7JswqUXonvIiYFxvtIA&quot; width=&quot;536&quot; height=&quot;401.2699619771863&quot;&gt;&lt;/strong&gt;&lt;
 /p&gt;
END:VEVENT
END:VCALENDAR

