BEGIN:VCALENDAR
VERSION:2.0
PRODID:IEEE vTools.Events//EN
CALSCALE:GREGORIAN
BEGIN:VTIMEZONE
TZID:US/Eastern
BEGIN:DAYLIGHT
DTSTART:20250309T030000
TZOFFSETFROM:-0500
TZOFFSETTO:-0400
RRULE:FREQ=YEARLY;BYDAY=2SU;BYMONTH=3
TZNAME:EDT
END:DAYLIGHT
BEGIN:STANDARD
DTSTART:20241103T010000
TZOFFSETFROM:-0400
TZOFFSETTO:-0500
RRULE:FREQ=YEARLY;BYDAY=1SU;BYMONTH=11
TZNAME:EST
END:STANDARD
END:VTIMEZONE
BEGIN:VEVENT
DTSTAMP:20250115T183041Z
UID:C9C8537B-14E3-4769-8C75-C63084346581
DTSTART;TZID=US/Eastern:20241123T080000
DTEND;TZID=US/Eastern:20241123T220000
DESCRIPTION:[2024 Technical Symposium\, Awards Banquet\, and Area Tours Reg
 istration - Events - Radio Club of America](https://www.radioclubofamerica
 .org/content.aspx?page_id=4002&amp;club_id=500767&amp;item_id=2319122)\n\nCo-spons
 ored by: IEEE North Jersey Section\n\nSpeaker(s): Dr. Ulrich Rohde\n\nAgen
 da: \n[2024 Technical Symposium\, Awards Banquet\, and Area Tours Registra
 tion - Events - Radio Club of America](https://www.radioclubofamerica.org/
 content.aspx?page_id=4002&amp;club_id=500767&amp;item_id=2319122)\n\nDate and Time
 : Saturday\, November 23\, 2024\, 8:00 AM until 10:00 PM\n\nLocation\n\nWe
 stin Times Square\n270 W 43rd St\nNew York\, NY 10036\nUSA\n[Click &#39;Google
  Maps&#39; for a map and directions to the event](http://maps.google.com/maps?
 q=270%20W%2043rd%20St\,New%20York\,NY\,10036\,USA)\n\nTechnical Symposium 
 + Awards Banquet BUNDLE Registration\n\nRegistration Types &amp; Fees:\n\nNon-
 Member US$ 300.00\nMember US$ 230.00\nMember Guest US$ 230.00\nMember with
  Non-Member Guest US$ 230.00\nNon-Member Guest US$ 300.00\n\nBldg: Westin 
 Times Square\, 270 W 43rd St\, New York\, New Jersey\, United States\, 100
 36
LOCATION:Bldg: Westin Times Square\, 270 W 43rd St\, New York\, New Jersey\
 , United States\, 10036
ORGANIZER:akpoddar@ieee.org
SEQUENCE:16
SUMMARY:Noise in Oscillators with Active Inductors
URL;VALUE=URI:https://events.vtools.ieee.org/m/446249
X-ALT-DESC:Description: &lt;br /&gt;&lt;p&gt;&lt;a href=&quot;https://www.radioclubofamerica.or
 g/content.aspx?page_id=4002&amp;amp\;club_id=500767&amp;amp\;item_id=2319122&quot;&gt;2024
  Technical Symposium\, Awards Banquet\, and Area Tours Registration - Even
 ts - Radio Club of America&lt;/a&gt;&lt;/p&gt;\n&lt;p&gt;&amp;nbsp\;&lt;/p&gt;\n&lt;p&gt;&amp;nbsp\;&lt;/p&gt;\n&lt;p&gt;&amp;nb
 sp\;&lt;/p&gt;\n&lt;p&gt;&amp;nbsp\;&lt;/p&gt;\n&lt;p&gt;&amp;nbsp\;&lt;/p&gt;&lt;br /&gt;&lt;br /&gt;Agenda: &lt;br /&gt;&lt;p&gt;&lt;a hr
 ef=&quot;https://www.radioclubofamerica.org/content.aspx?page_id=4002&amp;amp\;club
 _id=500767&amp;amp\;item_id=2319122&quot;&gt;2024 Technical Symposium\, Awards Banquet
 \, and Area Tours Registration - Events - Radio Club of America&lt;/a&gt;&lt;/p&gt;\n&lt;
 div class=&quot;form-row&quot;&gt;&amp;nbsp\;&lt;/div&gt;\n&lt;div id=&quot;detail_row_2473322&quot;&gt;\n&lt;div cl
 ass=&quot;activity-indent&quot;&gt;\n&lt;div class=&quot;form-row&quot;&gt;\n&lt;div class=&quot;field-label&quot;&gt;D
 ate and Time:&amp;nbsp\;Saturday\, November 23\, 2024\, 8:00 AM until 10:00 PM
 &lt;/div&gt;\n&lt;/div&gt;\n&lt;div class=&quot;form-row&quot;&gt;\n&lt;div class=&quot;content-text&quot;&gt;\n&lt;h3&gt;Lo
 cation&lt;/h3&gt;\n&lt;div class=&quot;form-row&quot;&gt;\n&lt;div class=&quot;event-location-text&quot;&gt;West
 in Times Square&lt;br&gt;270 W 43rd St&lt;br&gt;New York\, NY&amp;nbsp\;&amp;nbsp\;10036&lt;br&gt;US
 A&lt;/div&gt;\n&lt;div class=&quot;map-link&quot;&gt;&lt;a href=&quot;http://maps.google.com/maps?q=270%
 20W%2043rd%20St\,New%20York\,NY\,10036\,USA&quot; target=&quot;_blank&quot; rel=&quot;noopener
 &quot;&gt;&lt;img title=&quot;Click &#39;Google Maps&#39; for a map and directions to the event&quot; s
 rc=&quot;https://www.radioclubofamerica.org/images/shared_images/google-maps-ic
 on.png&quot; border=&quot;0&quot;&gt;&lt;/a&gt;&lt;/div&gt;\n&lt;/div&gt;\n&lt;/div&gt;\n&lt;/div&gt;\n&lt;/div&gt;\n&lt;div class=
 &quot;clear&quot;&gt;&amp;nbsp\;&lt;/div&gt;\n&lt;div class=&quot;clear&quot;&gt;Technical Symposium + Awards Ban
 quet BUNDLE Registration&lt;/div&gt;\n&lt;div class=&quot;activity-indent&quot;&gt;\n&lt;div class=
 &quot;tablerow&quot;&gt;\n&lt;div class=&quot;tablecolumn&quot;&gt;\n&lt;div class=&quot;form-row&quot;&gt;\n&lt;div class
 =&quot;content-text no-wrap registrant-type-title&quot;&gt;Registration Types &amp;amp\; Fe
 es:&lt;/div&gt;\n&lt;div class=&quot;registrants-fees&quot;&gt;\n&lt;div class=&quot;registrant-table&quot;&gt;\
 n&lt;div class=&quot;form-row&quot;&gt;&lt;label&gt;Non-Member&amp;nbsp\; &lt;/label&gt;US$ 300.00&lt;/div&gt;\n
 &lt;div class=&quot;form-row&quot;&gt;&lt;label&gt;Member&amp;nbsp\; &lt;/label&gt;US$ 230.00&lt;/div&gt;\n&lt;div 
 class=&quot;form-row&quot;&gt;&lt;label&gt;Member Guest&amp;nbsp\; &lt;/label&gt;US$ 230.00&lt;/div&gt;\n&lt;div
  class=&quot;form-row&quot;&gt;&lt;label&gt;Member with Non-Member Guest&amp;nbsp\; &lt;/label&gt;US$ 2
 30.00&lt;/div&gt;\n&lt;div class=&quot;form-row&quot;&gt;&lt;label&gt;Non-Member Guest&amp;nbsp\; &lt;/label&gt;
 US$ 300.00&lt;/div&gt;\n&lt;/div&gt;\n&lt;/div&gt;\n&lt;/div&gt;\n&lt;/div&gt;\n&lt;/div&gt;\n&lt;/div&gt;\n&lt;/div&gt;\n
 &lt;p&gt;&amp;nbsp\;&lt;/p&gt;
END:VEVENT
END:VCALENDAR

