BEGIN:VCALENDAR
VERSION:2.0
PRODID:IEEE vTools.Events//EN
CALSCALE:GREGORIAN
BEGIN:VTIMEZONE
TZID:America/Los_Angeles
BEGIN:DAYLIGHT
DTSTART:20250309T030000
TZOFFSETFROM:-0800
TZOFFSETTO:-0700
RRULE:FREQ=YEARLY;BYDAY=2SU;BYMONTH=3
TZNAME:PDT
END:DAYLIGHT
BEGIN:STANDARD
DTSTART:20241103T010000
TZOFFSETFROM:-0700
TZOFFSETTO:-0800
RRULE:FREQ=YEARLY;BYDAY=1SU;BYMONTH=11
TZNAME:PST
END:STANDARD
END:VTIMEZONE
BEGIN:VEVENT
DTSTAMP:20241230T164802Z
UID:BA36A01B-0F55-401F-8C8A-F9AB2A930E66
DTSTART;TZID=America/Los_Angeles:20241211T100000
DTEND;TZID=America/Los_Angeles:20241211T133000
DESCRIPTION:We&#39;re excited to invite you to a special networking event where
  we&#39;ll discuss a new Mentor/Mentee Program designed to connect experienced
  IEEE Life Members with promising young professionals.\n\nFree parking is 
 available for Google Huddle visitors\nShoreline Amphitheatre Parking Lot C
  ([directions](https://www.google.com/maps/place/Parking+Lot+C\,+Mountain+
 View\,+CA+94043/@37.4249572\,-122.0800888\,17.68z/data=!4m14!1m7!3m6!1s0x8
 08fb9f776f5e165:0x1ddf014a1b553f3d!2sShoreline+Amphitheatre!8m2!3d37.42683
 42!4d-122.0807023!16zL20vMDdtajBi!3m5!1s0x808fb9f9b9720177:0xa8d31f85d9a83
 0df!8m2!3d37.4247456!4d-122.0794931!16s%2Fg%2F11c149jv5f?entry=ttu))\nAlta
  Garage ([directions](https://www.google.com/maps/place/Alta+Garage/@37.41
 81335\,-122.0839622\,415m/data=!3m1!1e3!4m14!1m7!3m6!1s0x808fba02425dad8f:
 0x6c296c66619367e0!2sGoogleplex!8m2!3d37.4220604!4d-122.0852343!16zL20vMDN
 iYnkx!3m5!1s0x808fba01d0abcd61:0x2ad7d7b48bc8b14c!8m2!3d37.4182751!4d-122.
 0841189!16s%2Fg%2F11vhxxbg5t?entry=ttu))\nPublic Transportation\nThe VTA R
 oute 40 bus operates daily\, and stops at Charleston and Huff streets near
  the Google Visitor Experience ([schedule](https://www.vta.org/go/routes/4
 0)). You can take Caltrain ([schedule](https://www.caltrain.com/?active_ta
 b=route_explorer_tab)) to the Mountain View Transit Center and then take V
 TA Route 40\nhttps://www.vta.org/go/routes/40\n\nAgenda: \n10:00 AM - 12:0
 0 PM - Free Movie Screening: “The Intern” starring Robert De Niro and 
 Anne Hathaway\n\n12:00 PM - 1:30 PM - Networking and Lunch: Discussion and
  Brain Storm on the Mentor/Mentee Program\n\nRoom: Huddle\, Bldg: Google V
 isitor Experience \, 2000 N Shoreline Blvd\, Mountain View\, California\, 
 United States\, 94043
LOCATION:Room: Huddle\, Bldg: Google Visitor Experience \, 2000 N Shoreline
  Blvd\, Mountain View\, California\, United States\, 94043
ORGANIZER:pzh@ieee.org
SEQUENCE:41
SUMMARY:Mentor/Mentee Program Initiative Event
URL;VALUE=URI:https://events.vtools.ieee.org/m/446593
X-ALT-DESC:Description: &lt;br /&gt;&lt;p class=&quot;p1&quot;&gt;&lt;span class=&quot;s1&quot;&gt;We&#39;re excited 
 to invite you to a special networking event where we&#39;ll discuss a new &lt;str
 ong&gt;Mentor/Mentee Program&lt;/strong&gt; designed to connect experienced IEEE Li
 fe Members with promising young professionals.&lt;/span&gt;&lt;/p&gt;\n&lt;div dir=&quot;ltr&quot;&gt;
 \n&lt;div&gt;Free parking is available for Google Huddle visitors&lt;/div&gt;\n&lt;div&gt;&lt;s
 trong&gt;Shoreline Amphitheatre Parking Lot C&lt;/strong&gt;&amp;nbsp\;(&lt;a href=&quot;https:
 //www.google.com/maps/place/Parking+Lot+C\,+Mountain+View\,+CA+94043/@37.4
 249572\,-122.0800888\,17.68z/data=!4m14!1m7!3m6!1s0x808fb9f776f5e165:0x1dd
 f014a1b553f3d!2sShoreline+Amphitheatre!8m2!3d37.4268342!4d-122.0807023!16z
 L20vMDdtajBi!3m5!1s0x808fb9f9b9720177:0xa8d31f85d9a830df!8m2!3d37.4247456!
 4d-122.0794931!16s%2Fg%2F11c149jv5f?entry=ttu&quot; target=&quot;_blank&quot; rel=&quot;noopen
 er noreferrer&quot; aria-label=&quot;directions&quot;&gt;directions&lt;/a&gt;)&lt;/div&gt;\n&lt;div&gt;&lt;strong
 &gt;Alta Garage&lt;/strong&gt;&amp;nbsp\;(&lt;a href=&quot;https://www.google.com/maps/place/Al
 ta+Garage/@37.4181335\,-122.0839622\,415m/data=!3m1!1e3!4m14!1m7!3m6!1s0x8
 08fba02425dad8f:0x6c296c66619367e0!2sGoogleplex!8m2!3d37.4220604!4d-122.08
 52343!16zL20vMDNiYnkx!3m5!1s0x808fba01d0abcd61:0x2ad7d7b48bc8b14c!8m2!3d37
 .4182751!4d-122.0841189!16s%2Fg%2F11vhxxbg5t?entry=ttu&quot; target=&quot;_blank&quot; re
 l=&quot;noopener noreferrer&quot; aria-label=&quot;directions&quot;&gt;directions&lt;/a&gt;)&lt;/div&gt;\n&lt;di
 v&gt;&amp;nbsp\;&lt;/div&gt;\nPublic Transportation&lt;/div&gt;\n&lt;div dir=&quot;ltr&quot;&gt;The VTA Route
  40 bus operates daily\, and stops at Charleston and Huff streets near the
  Google Visitor Experience (&lt;a href=&quot;https://www.vta.org/go/routes/40&quot; tar
 get=&quot;_blank&quot; rel=&quot;noopener noreferrer&quot;&gt;schedule&lt;/a&gt;). You can take Caltrai
 n (&lt;a href=&quot;https://www.caltrain.com/?active_tab=route_explorer_tab&quot; targe
 t=&quot;_blank&quot; rel=&quot;noopener noreferrer&quot;&gt;schedule&lt;/a&gt;) to the Mountain View Tr
 ansit Center and then take VTA Route 40&lt;/div&gt;\n&lt;div dir=&quot;ltr&quot;&gt;https://www.
 vta.org/go/routes/40&lt;/div&gt;\n&lt;div dir=&quot;ltr&quot;&gt;&amp;nbsp\;&lt;/div&gt;\n&lt;p class=&quot;p1&quot;&gt;&lt;s
 pan class=&quot;s1&quot;&gt;&amp;nbsp\;&lt;/span&gt;&lt;/p&gt;\n&lt;p class=&quot;p1&quot;&gt;&amp;nbsp\;&lt;/p&gt;&lt;br /&gt;&lt;br /&gt;Ag
 enda: &lt;br /&gt;&lt;p&gt;10:00 AM - 12:00 PM - &lt;span class=&quot;s1&quot;&gt;Free Movie Screening
 : &amp;ldquo\;The Intern&amp;rdquo\; starring Robert De Niro and Anne Hathaway&lt;/sp
 an&gt;&lt;/p&gt;\n&lt;p class=&quot;p1&quot;&gt;&lt;span class=&quot;s1&quot;&gt;12:00 PM - 1:30 PM - Networking an
 d Lunch: Discussion and Brain Storm on the Mentor/Mentee Program&lt;/span&gt;&lt;/p
 &gt;
END:VEVENT
END:VCALENDAR

