BEGIN:VCALENDAR
VERSION:2.0
PRODID:IEEE vTools.Events//EN
CALSCALE:GREGORIAN
BEGIN:VTIMEZONE
TZID:America/Halifax
BEGIN:DAYLIGHT
DTSTART:20170312T030000
TZOFFSETFROM:-0400
TZOFFSETTO:-0300
RRULE:FREQ=YEARLY;BYDAY=2SU;BYMONTH=3
TZNAME:ADT
END:DAYLIGHT
BEGIN:STANDARD
DTSTART:20171105T010000
TZOFFSETFROM:-0300
TZOFFSETTO:-0400
RRULE:FREQ=YEARLY;BYDAY=1SU;BYMONTH=11
TZNAME:AST
END:STANDARD
END:VTIMEZONE
BEGIN:VEVENT
DTSTAMP:20170330T144842Z
UID:90D4F05D-0F60-11E7-A7C6-0050568D7F66
DTSTART;TZID=America/Halifax:20170407T160000
DTEND;TZID=America/Halifax:20170407T180000
DESCRIPTION:You are invited to join the IEEE Canadian Atlantic Section Robo
 tics and Automation/Instrumentation &amp; Measurement Society Chapter on Frida
 y\, April 7 from 4:00 - 6:00 PM in Dalhousie&#39;s Sexton Gym.\n\nYou&#39;ll have 
 the opportunity to meet IEEE members and learn to fly a quadcopter! Plus\,
  snacks and drinks will be provided!\n\nFree for IEEE Members and Dalhousi
 e Students. $5 for Non-IEEE (and non-Dal). Registration required if you wi
 sh to be a pilot (Space is limited for pilots).\n\nCo-sponsored by: Amy De
 eb\n\nSpeaker(s): \, \, \, \n\n1360 Barrington St\, Halifax\, Nova Scotia\
 , Canada\, B3H 4R2
LOCATION:1360 Barrington St\, Halifax\, Nova Scotia\, Canada\, B3H 4R2
ORGANIZER:amydeeb@dal.ca
SEQUENCE:3
SUMMARY:Drone Fly-in
URL;VALUE=URI:https://events.vtools.ieee.org/m/44669
X-ALT-DESC:Description: &lt;br /&gt;&lt;p&gt;You are invited to join the IEEE Canadian 
 Atlantic Section Robotics and Automation/Instrumentation &amp;amp\; Measuremen
 t Society Chapter on Friday\, April 7&amp;nbsp\;from 4:00 - 6:00 PM in Dalhous
 ie&#39;s Sexton Gym.&lt;/p&gt;\n&lt;p&gt;&lt;br /&gt;You&#39;ll have the opportunity to meet IEEE me
 mbers and learn to fly a quadcopter! Plus\, &lt;strong&gt;snacks and drinks will
  be provided!&lt;/strong&gt;&lt;/p&gt;\n&lt;p&gt;&amp;nbsp\;&lt;/p&gt;\n&lt;p&gt;Free for IEEE Members and D
 alhousie Students. &amp;nbsp\;$5 for Non-IEEE (and non-Dal). &amp;nbsp\;&lt;strong&gt;&lt;e
 m&gt;Registration required if you wish to be a pilot &lt;/em&gt;&lt;/strong&gt;(Space is 
 limited for pilots).&lt;/p&gt;
END:VEVENT
END:VCALENDAR

