BEGIN:VCALENDAR
VERSION:2.0
PRODID:IEEE vTools.Events//EN
CALSCALE:GREGORIAN
BEGIN:VEVENT
DTSTAMP:20241201T154318Z
UID:03E5869D-E44B-4BDD-85A9-B1FD5A8952C4
DTSTART;TZID=Etc/UTC:20241116T140000
DTEND;TZID=Etc/UTC:20241119T210000
DESCRIPTION:The IEEE CS IIT SBC\, in collaboration with IEEE IIT SB\,\n\nor
 ganized an engaging workshop as part of AIDOLS 2.0. Attendees explored pra
 ctical applications of GPUs for accelerating AI models\, learned performan
 ce optimization techniques\, and gained insights into scalability strategi
 es. The workshop also featured interactive sessions with real-world case s
 tudies\, allowing participants to apply their knowledge effectively and ea
 rn a certified credential from NVIDIA\, enhancing their expertise in AI\n\
 nIIT\, SFAX\, Sfax\, Tunisia
LOCATION:IIT\, SFAX\, Sfax\, Tunisia
ORGANIZER:yossermsalmi02@ieee.org
SEQUENCE:37
SUMMARY:Nvidia Certified Workshop 
URL;VALUE=URI:https://events.vtools.ieee.org/m/446836
X-ALT-DESC:Description: &lt;br /&gt;&lt;table style=&quot;border-collapse: collapse\; wid
 th: 99.961%\;&quot; border=&quot;1&quot;&gt;&lt;colgroup&gt;&lt;col style=&quot;width: 50%\;&quot;&gt;&lt;col style=&quot;
 width: 50%\;&quot;&gt;&lt;/colgroup&gt;\n&lt;tbody&gt;\n&lt;tr&gt;\n&lt;td&gt;\n&lt;p&gt;The IEEE CS IIT SBC\, i
 n collaboration with IEEE IIT SB\,&lt;/p&gt;\n&lt;p&gt;organized an engaging workshop 
 as part of AIDOLS 2.0. Attendees explored practical applications of GPUs f
 or accelerating AI models\, learned performance optimization techniques\, 
 and gained insights into scalability strategies. The workshop also feature
 d interactive sessions with real-world case studies\, allowing participant
 s to apply their knowledge effectively and earn a certified credential fro
 m NVIDIA\, enhancing their expertise in AI&lt;/p&gt;\n&lt;/td&gt;\n&lt;td&gt;&lt;img style=&quot;dis
 play: block\; margin-left: auto\; margin-right: auto\;&quot; src=&quot;https://event
 s.vtools.ieee.org/vtools_ui/media/display/2fab4555-1d84-419e-a585-c087dae5
 8045&quot; width=&quot;328&quot; height=&quot;328&quot;&gt;&lt;/td&gt;\n&lt;/tr&gt;\n&lt;/tbody&gt;\n&lt;/table&gt;\n&lt;p&gt;&amp;nbsp\
 ;&lt;/p&gt;\n&lt;p&gt;&lt;strong id=&quot;docs-internal-guid-25abfad9-7fff-7838-ce95-ef986003a
 1c6&quot;&gt;&amp;nbsp\;&lt;strong id=&quot;docs-internal-guid-4fca5bff-7fff-66e2-a5b7-910d27f
 de022&quot;&gt; &lt;strong id=&quot;docs-internal-guid-57724ee7-7fff-5fd1-83fe-38cd321a003
 5&quot;&gt;&amp;nbsp\;&lt;/strong&gt;&lt;/strong&gt;&lt;/strong&gt;&lt;/p&gt;\n&lt;p&gt;&amp;nbsp\; &amp;nbsp\;&lt;/p&gt;\n&lt;p&gt;&amp;nbs
 p\;&lt;/p&gt;
END:VEVENT
END:VCALENDAR

