BEGIN:VCALENDAR
VERSION:2.0
PRODID:IEEE vTools.Events//EN
CALSCALE:GREGORIAN
BEGIN:VTIMEZONE
TZID:America/Santiago
BEGIN:DAYLIGHT
DTSTART:20240908T010000
TZOFFSETFROM:-0400
TZOFFSETTO:-0300
RRULE:FREQ=YEARLY;BYDAY=2SU;BYMONTH=9
TZNAME:-03
END:DAYLIGHT
BEGIN:STANDARD
DTSTART:20250405T230000
TZOFFSETFROM:-0300
TZOFFSETTO:-0400
RRULE:FREQ=YEARLY;BYDAY=1SA;BYMONTH=4
TZNAME:-04
END:STANDARD
END:VTIMEZONE
BEGIN:VEVENT
DTSTAMP:20241130T215039Z
UID:785549A2-E82D-44E5-8A58-752C0000DF56
DTSTART;TZID=America/Santiago:20241127T083000
DTEND;TZID=America/Santiago:20241127T153000
DESCRIPTION:[Jose M. Saavedra on LinkedIn: Si te interesa el mundo de Visi
 ón por...]\n\nSpeaker(s): Moacir Ponti\, Nicolás Gaggion\n\nRoom: Aula M
 agna\, Bldg: Edificio de Biblioteca\, Monseñor Álvaro del Portillo 12455
 \, Las Condes\, Universidad de los Andes\, Santiago\, Region Metropolitana
 \, Chile
LOCATION:Room: Aula Magna\, Bldg: Edificio de Biblioteca\, Monseñor Álvar
 o del Portillo 12455\, Las Condes\, Universidad de los Andes\, Santiago\, 
 Region Metropolitana\, Chile
ORGANIZER:jfd@uandes.cl
SEQUENCE:37
SUMMARY:III Workshop Visión por Computadora
URL;VALUE=URI:https://events.vtools.ieee.org/m/447065
X-ALT-DESC:Description: &lt;br /&gt;&lt;p&gt;&lt;img src=&quot;https://images-ext-1.discordapp.
 net/external/n1815z9airkvqlZCH-q4cAYeHNYnIQ0TMsISrB8eAw8/%3Fe%3D2147483647
 %26v%3Dbeta%26t%3DKnTBp-Npn4wmo8cfvOmdTcsXGcxOTVglLoca_-mgMO4/https/media.
 licdn.com/dms/image/v2/D4E22AQG3SxaeDiX-9Q/feedshare-shrink_2048_1536/feed
 share-shrink_2048_1536/0/1731341429332?format=webp&amp;amp\;width=1145&amp;amp\;he
 ight=1620&quot; alt=&quot;Jose M. Saavedra on LinkedIn: Si te interesa el mundo de V
 isi&amp;oacute\;n por...&quot;&gt;&lt;/p&gt;
END:VEVENT
END:VCALENDAR

