BEGIN:VCALENDAR
VERSION:2.0
PRODID:IEEE vTools.Events//EN
CALSCALE:GREGORIAN
BEGIN:VTIMEZONE
TZID:America/New_York
BEGIN:DAYLIGHT
DTSTART:20250309T030000
TZOFFSETFROM:-0500
TZOFFSETTO:-0400
RRULE:FREQ=YEARLY;BYDAY=2SU;BYMONTH=3
TZNAME:EDT
END:DAYLIGHT
BEGIN:STANDARD
DTSTART:20241103T010000
TZOFFSETFROM:-0400
TZOFFSETTO:-0500
RRULE:FREQ=YEARLY;BYDAY=1SU;BYMONTH=11
TZNAME:EST
END:STANDARD
END:VTIMEZONE
BEGIN:VEVENT
DTSTAMP:20241202T170825Z
UID:405B1E2F-9230-41B4-B63C-DF970D0083AA
DTSTART;TZID=America/New_York:20241126T170000
DTEND;TZID=America/New_York:20241126T174000
DESCRIPTION:Fostering Impactful Industry Academia Collaborations: The Journ
 ey of SODA ABR Algorithm\n\nIn this talk\, we will present a recently publ
 ished work\, in collaboration with UMass Amherst and Caltech\, on developi
 ng a performant Adaptive Bitrate algorithm called SODA which delivers high
  quality of experience while providing performance guarantees. We will als
 o delve in to the backstory behind this collaboration and finally\, touch 
 upon how academics and students can engage with Prime Video Science throug
 h collaborations and other open opportunities.\n\n[]\n\nCo-sponsored by: I
 EEE Education Society\n\nSpeaker(s): Dr. Zahaib Akhtar\, Dr. Natalie Strob
 ach \n\nVirtual: https://events.vtools.ieee.org/m/447345
LOCATION:Virtual: https://events.vtools.ieee.org/m/447345
ORGANIZER:SABA.RAFIEIAN95@GMAIL.COM
SEQUENCE:22
SUMMARY:Talk 4: Empower Talks: A WIE &amp; Education Series
URL;VALUE=URI:https://events.vtools.ieee.org/m/447345
X-ALT-DESC:Description: &lt;br /&gt;&lt;div&gt;\n&lt;div class=&quot;WordSection1&quot;&gt;\n&lt;div&gt;&lt;stro
 ng&gt;&lt;span style=&quot;font-size: 12.0pt\; font-family: &#39;Aptos&#39;\,sans-serif\; mso
 -fareast-font-family: &#39;Times New Roman&#39;\; mso-bidi-font-family: Aptos\; ms
 o-ansi-language: EN-CA\; mso-fareast-language: EN-US\; mso-bidi-language: 
 AR-SA\;&quot;&gt;Fostering Impactful Industry Academia Collaborations: The Journey
  of SODA ABR Algorithm&lt;/span&gt;&lt;/strong&gt;&lt;/div&gt;\n&lt;div&gt;&amp;nbsp\;&lt;/div&gt;\n&lt;div&gt;In 
 this talk\, we will present a recently published work\, in collaboration w
 ith UMass Amherst and Caltech\, on developing a performant Adaptive Bitrat
 e algorithm called SODA which delivers high quality of experience while pr
 oviding performance guarantees. We will also delve in to the backstory beh
 ind this collaboration and finally\, touch upon how academics and students
  can engage with Prime Video Science through collaborations and other open
  opportunities.&lt;/div&gt;\n&lt;div&gt;&amp;nbsp\;&lt;/div&gt;\n&lt;div&gt;&amp;nbsp\;&lt;/div&gt;\n&lt;div&gt;&lt;img s
 rc=&quot;https://events.vtools.ieee.org/vtools_ui/media/display/b6c99b0a-af58-4
 f20-b805-ca3e13841790&quot; alt=&quot;&quot; width=&quot;826&quot; height=&quot;467&quot;&gt;&lt;/div&gt;\n&lt;/div&gt;\n&lt;/d
 iv&gt;
END:VEVENT
END:VCALENDAR

