BEGIN:VCALENDAR
VERSION:2.0
PRODID:IEEE vTools.Events//EN
CALSCALE:GREGORIAN
BEGIN:VTIMEZONE
TZID:Europe/Paris
BEGIN:DAYLIGHT
DTSTART:20240331T030000
TZOFFSETFROM:+0100
TZOFFSETTO:+0200
RRULE:FREQ=YEARLY;BYDAY=-1SU;BYMONTH=3
TZNAME:CEST
END:DAYLIGHT
BEGIN:STANDARD
DTSTART:20241027T020000
TZOFFSETFROM:+0200
TZOFFSETTO:+0100
RRULE:FREQ=YEARLY;BYDAY=-1SU;BYMONTH=10
TZNAME:CET
END:STANDARD
END:VTIMEZONE
BEGIN:VEVENT
DTSTAMP:20241122T074308Z
UID:7ABADA9A-6CE0-4997-8C00-1DAF0DB4336D
DTSTART;TZID=Europe/Paris:20240918T114100
DTEND;TZID=Europe/Paris:20241119T114100
DESCRIPTION:The 2024 IEEE International Forum on Research and Technologies 
 for Society and Industry (RTSI 2024) is set to take place at Politecnico d
 i Milano\, Polo Territoriale di Lecco\, in Lecco\, Italy\, from September 
 18 to 20\, 2024. The event will also host an IEEE Counselors&#39; Training Pro
 gram\, a dedicated session aimed at training and supporting IEEE counselor
 s. Notably\, travel for this event will be financially supported by IEEE R
 8 SAC (Student Activities Committee).\n\nDuring the IEEE Counselors&#39; Train
 ing Program\, Dr. Yousuf Al Husaini attended the workshop &quot;Working with Se
 ction to Develop Effective Annual Plans for SB.&quot;\n\nCo-sponsored by: IEEE 
 R8\n\nLECCO\, Lombardia\, Italy
LOCATION:LECCO\, Lombardia\, Italy
ORGANIZER:200222@aou.edu.om
SEQUENCE:1
SUMMARY:Working with Section to Develop Effective Annual Plans for SB
URL;VALUE=URI:https://events.vtools.ieee.org/m/447634
X-ALT-DESC:Description: &lt;br /&gt;&lt;p&gt;The &lt;strong&gt;2024 IEEE International Forum 
 on Research and Technologies for Society and Industry (RTSI 2024)&lt;/strong&gt;
  is set to take place at &lt;strong&gt;Politecnico di Milano\, Polo Territoriale
  di Lecco\, in Lecco\, Italy\, from September 18 to 20\, 2024&lt;/strong&gt;. Th
 e event will also host an &lt;strong&gt;IEEE Counselors&#39; Training Program&lt;/stron
 g&gt;\, a dedicated session aimed at training and supporting IEEE counselors.
  Notably\, travel for this event will be financially supported by &lt;strong&gt;
 IEEE R8 SAC (Student Activities Committee)&lt;/strong&gt;.&lt;/p&gt;\n&lt;p&gt;During the IE
 EE Counselors&#39; Training Program\, &lt;strong&gt;Dr. Yousuf Al Husaini attended t
 he workshop &quot;Working with Section to Develop Effective Annual Plans for SB
 .&quot;&lt;/strong&gt;&lt;/p&gt;
END:VEVENT
END:VCALENDAR

