BEGIN:VCALENDAR
VERSION:2.0
PRODID:IEEE vTools.Events//EN
CALSCALE:GREGORIAN
BEGIN:VTIMEZONE
TZID:Europe/Skopje
BEGIN:DAYLIGHT
DTSTART:20250330T030000
TZOFFSETFROM:+0100
TZOFFSETTO:+0200
RRULE:FREQ=YEARLY;BYDAY=-1SU;BYMONTH=3
TZNAME:CEST
END:DAYLIGHT
BEGIN:STANDARD
DTSTART:20241027T020000
TZOFFSETFROM:+0200
TZOFFSETTO:+0100
RRULE:FREQ=YEARLY;BYDAY=-1SU;BYMONTH=10
TZNAME:CET
END:STANDARD
END:VTIMEZONE
BEGIN:VEVENT
DTSTAMP:20241209T024303Z
UID:5AA2ADB0-3C28-4F73-8FF3-4F8FF50187EE
DTSTART;TZID=Europe/Skopje:20241127T140000
DTEND;TZID=Europe/Skopje:20241127T153000
DESCRIPTION:The IEEE North Macedonia Section will organise a Local Student 
 Paper Competition (LSPC).\nWe aim to raise the academic excellence and inn
 ovation to a higher level by encouraging students to engage in cutting-edg
 e research and contribute to advancements in technology. As a symbol of ac
 ademic and professional growth\, this competition aims to provide engineer
 ing students the opportunity to engage with peers\, educators and industry
  leaders. By participating in the competition\, students and young enginee
 rs can improve their research skills and expand their professional network
 . The competition also aims to inspire students to continue developing inn
 ovations that have the potential to make a significant impact on society. 
 We strongly believe that this is a great opportunity for students to prese
 nt their latest research achievements and innovative ideas in the rapidly 
 evolving fields\, as well as to get valuable feedback from distinguished r
 esearchers.\n\nThis Student Paper Contest is intended for IEEE North Maced
 onia Section student members or graduate student members who have not yet 
 started their Ph. D. studies.\n\nTopics:\n\nThe call is focused\, but not 
 limited to the following topics:\n\n- Signal Processing\n- Image Processin
 g\n- Human-machine Interface Theories and Methods\n- Human-machine Interfa
 ce\n- Adaptive User Interfaces\n- Computational Intelligence and Artificia
 l Intelligence\n- Data Science and Machine learning\n- Artificial Intellig
 ence in the Audiovisual Sector\n- Artificial Intelligence and IoT\n- Expla
 inable AI and Human Centered AI\n- Extended Reality\, Augmented Reality\, 
 Virtual Reality\, and Mixed Reality\n- Artificial Intelligence in Video Ga
 me Programming\n- Biomedical Signal and Image Processing\n- Intelligent Ap
 plications in Healthcare\n- Biomedical Engineering\n- Communication Techno
 logies and Networks\n- Information and Encoding Theory\n- IoT and Blockcha
 in – Smart Living Technologies\n- Power Electronics and Control\n- Renew
 able Energy Systems\n- Energy Storage Systems\n- Advances in Power and Ene
 rgy Systems\n\nhttps://r8.ieee.org/northmacedonia/spc/\n\nCo-sponsored by:
  FCSE\, FEEIT\, EuroCC2\, ICT-ACT\n\nBldg: AMF - FCSE\, Faculty of Compute
 r Science and Engineering\, Ss. Cyril and Methodius University in Skopje\,
  Rudzer Boshkovikj 16\, Skopje\, Macedonia\, Macedonia\, 1000
LOCATION:Bldg: AMF - FCSE\, Faculty of Computer Science and Engineering\, S
 s. Cyril and Methodius University in Skopje\, Rudzer Boshkovikj 16\, Skopj
 e\, Macedonia\, Macedonia\, 1000
ORGANIZER:stefann@feit.ukim.edu.mk
SEQUENCE:20
SUMMARY:LOCAL STUDENT PAPER COMPETITION 2024: Advancements in Technology: I
 nnovations\, Challenges and Future Directions - IEEE North Macedonia Secti
 on
URL;VALUE=URI:https://events.vtools.ieee.org/m/447779
X-ALT-DESC:Description: &lt;br /&gt;&lt;p&gt;&lt;span style=&quot;font-family: -apple-system\, 
 BlinkMacSystemFont\, &#39;Segoe UI&#39;\, Roboto\, Oxygen\, Ubuntu\, Cantarell\, &#39;
 Open Sans&#39;\, &#39;Helvetica Neue&#39;\, sans-serif\;&quot;&gt;The IEEE North Macedonia Sec
 tion will organise a Local Student Paper Competition (LSPC).&lt;br&gt;We aim to 
 raise the academic excellence and innovation to a higher level by encourag
 ing students to engage in cutting-edge research and contribute to advancem
 ents in technology. As a symbol of academic and professional growth\, this
  competition aims to provide engineering students the opportunity to engag
 e with peers\, educators and industry leaders. By participating in the com
 petition\, students and young engineers can improve their research skills 
 and expand their professional network. The competition also aims to inspir
 e students to continue developing innovations that have the potential to m
 ake a significant impact on society. We strongly believe that this is a gr
 eat opportunity for students to present their latest research achievements
  and innovative ideas in the rapidly evolving fields\, as well as to get v
 aluable feedback from distinguished researchers.&lt;/span&gt;&lt;/p&gt;\n&lt;p&gt;&lt;span styl
 e=&quot;font-family: -apple-system\, BlinkMacSystemFont\, &#39;Segoe UI&#39;\, Roboto\,
  Oxygen\, Ubuntu\, Cantarell\, &#39;Open Sans&#39;\, &#39;Helvetica Neue&#39;\, sans-serif
 \;&quot;&gt;This Student Paper Contest is intended for IEEE North Macedonia Sectio
 n student members or graduate student members who have not yet started the
 ir Ph. D. studies.&amp;nbsp\;&lt;/span&gt;&lt;/p&gt;\n&lt;p&gt;&lt;strong&gt;&lt;span style=&quot;font-size: 1
 4pt\;&quot;&gt;Topics:&lt;/span&gt;&lt;/strong&gt;&lt;/p&gt;\n&lt;p&gt;&lt;span style=&quot;font-weight: 400\;&quot;&gt;Th
 e call is focused\, but not limited to the following topics:&lt;/span&gt;&lt;/p&gt;\n&lt;
 ul&gt;\n&lt;li&gt;Signal Processing&lt;/li&gt;\n&lt;li&gt;Image Processing&lt;/li&gt;\n&lt;li&gt;Human-mach
 ine Interface Theories and Methods&lt;/li&gt;\n&lt;li&gt;Human-machine Interface&lt;/li&gt;\
 n&lt;li&gt;Adaptive User Interfaces&lt;/li&gt;\n&lt;li&gt;Computational Intelligence and Art
 ificial Intelligence&lt;/li&gt;\n&lt;li&gt;Data Science and Machine learning&lt;/li&gt;\n&lt;li
 &gt;Artificial Intelligence in the Audiovisual Sector&lt;/li&gt;\n&lt;li&gt;Artificial In
 telligence and IoT&lt;/li&gt;\n&lt;li&gt;Explainable AI and Human Centered AI&lt;/li&gt;\n&lt;l
 i&gt;Extended Reality\, Augmented Reality\, Virtual Reality\, and Mixed Reali
 ty&lt;/li&gt;\n&lt;li&gt;Artificial Intelligence in Video Game Programming&lt;/li&gt;\n&lt;li&gt;B
 iomedical Signal and Image Processing&lt;/li&gt;\n&lt;li&gt;Intelligent Applications i
 n Healthcare&lt;/li&gt;\n&lt;li&gt;Biomedical Engineering&lt;/li&gt;\n&lt;li&gt;Communication Tech
 nologies and Networks&lt;/li&gt;\n&lt;li&gt;Information and Encoding Theory&lt;/li&gt;\n&lt;li&gt;
 IoT and Blockchain &amp;ndash\; Smart Living Technologies&lt;/li&gt;\n&lt;li&gt;Power Elec
 tronics and Control&lt;/li&gt;\n&lt;li&gt;Renewable Energy Systems&lt;/li&gt;\n&lt;li&gt;Energy St
 orage Systems&lt;/li&gt;\n&lt;li&gt;Advances in Power and Energy Systems&amp;nbsp\;&lt;/li&gt;\n
 &lt;/ul&gt;\n&lt;p&gt;&lt;a href=&quot;https://r8.ieee.org/northmacedonia/spc/&quot;&gt;https://r8.iee
 e.org/northmacedonia/spc/&lt;/a&gt;&amp;nbsp\;&lt;/p&gt;
END:VEVENT
END:VCALENDAR

