BEGIN:VCALENDAR
VERSION:2.0
PRODID:IEEE vTools.Events//EN
CALSCALE:GREGORIAN
BEGIN:VTIMEZONE
TZID:America/Chicago
BEGIN:DAYLIGHT
DTSTART:20250309T030000
TZOFFSETFROM:-0600
TZOFFSETTO:-0500
RRULE:FREQ=YEARLY;BYDAY=2SU;BYMONTH=3
TZNAME:CDT
END:DAYLIGHT
BEGIN:STANDARD
DTSTART:20241103T010000
TZOFFSETFROM:-0500
TZOFFSETTO:-0600
RRULE:FREQ=YEARLY;BYDAY=1SU;BYMONTH=11
TZNAME:CST
END:STANDARD
END:VTIMEZONE
BEGIN:VEVENT
DTSTAMP:20250131T132020Z
UID:6F8A66C7-6DC2-43A1-8B28-AB799174B8EA
DTSTART;TZID=America/Chicago:20241210T163000
DTEND;TZID=America/Chicago:20241210T173000
DESCRIPTION:In this session\, Abhishek Alladi will delve into the fascinati
 ng world of large language models and their transformative impact on softw
 are engineering. The presentation will highlight various practical example
 s such as defect summarization\, test generation\, and code generation. At
 tendees will gain insights into how these models can be seamlessly integra
 ted into different phases of the software life cycle\, fostering continuou
 s evolution and improvement. I will introduce autonomy use cases within th
 e aerospace domain\, and by the end of the session\, the audience will hav
 e a basic understanding of the potential and practical applications of lar
 ge language models\, empowering them to harness these advanced tools in th
 eir own projects.\n\nSpeaker(s): AbhishekAbhishek.Alladi@honeywell.com\, \
 n\nVirtual: https://events.vtools.ieee.org/m/447972
LOCATION:Virtual: https://events.vtools.ieee.org/m/447972
ORGANIZER:aseetpatel21@gmail.com
SEQUENCE:36
SUMMARY:LEVERAGING LARGE LANGUAGE MODELS IN SOFTWARE ENGINEERING
URL;VALUE=URI:https://events.vtools.ieee.org/m/447972
X-ALT-DESC:Description: &lt;br /&gt;&lt;p style=&quot;text-align: justify\;&quot;&gt;In this sess
 ion\, Abhishek Alladi will delve into the fascinating world of large langu
 age models and their transformative impact on software engineering. The pr
 esentation will highlight various practical examples such as defect summar
 ization\, test generation\, and code generation.&amp;nbsp\;Attendees will gain
  insights into how these models can be seamlessly integrated into differen
 t&amp;nbsp\;phases of the software life cycle\, fostering continuous evolution
  and improvement. I will&amp;nbsp\;introduce autonomy use cases within the aer
 ospace domain\, and by the end of the session\, the audience will have a b
 asic understanding of the potential and practical applications of large la
 nguage models\, empowering them to harness these advanced tools in their o
 wn projects.&lt;/p&gt;\n&lt;p style=&quot;text-align: justify\;&quot;&gt;&amp;nbsp\;&lt;/p&gt;\n&lt;p style=&quot;
 text-align: justify\;&quot;&gt;&amp;nbsp\;&lt;/p&gt;
END:VEVENT
END:VCALENDAR

