BEGIN:VCALENDAR
VERSION:2.0
PRODID:IEEE vTools.Events//EN
CALSCALE:GREGORIAN
BEGIN:VTIMEZONE
TZID:America/Argentina/Buenos_Aires
BEGIN:DAYLIGHT
DTSTART:20380119T001407
TZOFFSETFROM:-0300
TZOFFSETTO:-0300
RRULE:FREQ=YEARLY;BYDAY=3TU;BYMONTH=1
TZNAME:-03
END:DAYLIGHT
BEGIN:STANDARD
DTSTART:20090314T230000
TZOFFSETFROM:-0200
TZOFFSETTO:-0300
RRULE:FREQ=YEARLY;BYDAY=2SA;BYMONTH=3
TZNAME:-03
END:STANDARD
END:VTIMEZONE
BEGIN:VEVENT
DTSTAMP:20241231T041603Z
UID:8B7F20A3-F6DC-4877-9586-47D3509D0380
DTSTART;TZID=America/Argentina/Buenos_Aires:20241206T213000
DTEND;TZID=America/Argentina/Buenos_Aires:20241207T043000
DESCRIPTION:Dinner for Electronic Engineering students and professionals an
 d guests to say goodbye to the 2024 academic year where students\, teacher
 s and professionals in the area meet once a year to share food\, drinks\, 
 desserts and games\n\nAv. Gdor. Francisco Galindez 523\, San Fernando del 
 Valle de Catamarca \, Catamarca\, Argentina\, 4700
LOCATION:Av. Gdor. Francisco Galindez 523\, San Fernando del Valle de Catam
 arca \, Catamarca\, Argentina\, 4700
ORGANIZER:candelaseco@ieee.org
SEQUENCE:24
SUMMARY:New Year&#39;s Eve Dinner 2024
URL;VALUE=URI:https://events.vtools.ieee.org/m/448298
X-ALT-DESC:Description: &lt;br /&gt;&lt;p&gt;Dinner&amp;nbsp\;for&amp;nbsp\;Electronic&amp;nbsp\;En
 gineering&amp;nbsp\;students&amp;nbsp\;and&amp;nbsp\;professionals&amp;nbsp\;and&amp;nbsp\;gue
 sts&amp;nbsp\;to&amp;nbsp\;say&amp;nbsp\;goodbye&amp;nbsp\;to&amp;nbsp\;the&amp;nbsp\;2024&amp;nbsp\;a
 cademic&amp;nbsp\;year&amp;nbsp\;where&amp;nbsp\;students\, teachers&amp;nbsp\;and&amp;nbsp\;p
 rofessionals&amp;nbsp\;in&amp;nbsp\;the&amp;nbsp\;area&amp;nbsp\;meet&amp;nbsp\;once&amp;nbsp\;a&amp;n
 bsp\;year&amp;nbsp\;to&amp;nbsp\;share&amp;nbsp\;food\, drinks\, desserts&amp;nbsp\;and&amp;nb
 sp\;games &amp;nbsp\; &amp;nbsp\; &amp;nbsp\; &amp;nbsp\; &amp;nbsp\;&lt;/p&gt;
END:VEVENT
END:VCALENDAR

