BEGIN:VCALENDAR
VERSION:2.0
PRODID:IEEE vTools.Events//EN
CALSCALE:GREGORIAN
BEGIN:VTIMEZONE
TZID:Europe/Paris
BEGIN:DAYLIGHT
DTSTART:20250330T030000
TZOFFSETFROM:+0100
TZOFFSETTO:+0200
RRULE:FREQ=YEARLY;BYDAY=-1SU;BYMONTH=3
TZNAME:CEST
END:DAYLIGHT
BEGIN:STANDARD
DTSTART:20241027T020000
TZOFFSETFROM:+0200
TZOFFSETTO:+0100
RRULE:FREQ=YEARLY;BYDAY=-1SU;BYMONTH=10
TZNAME:CET
END:STANDARD
END:VTIMEZONE
BEGIN:VEVENT
DTSTAMP:20241227T115306Z
UID:4E993526-59E3-4110-A64B-ED011726DEB2
DTSTART;TZID=Europe/Paris:20241127T180000
DTEND;TZID=Europe/Paris:20241127T193000
DESCRIPTION:Following the success of our IEEE CS DVP R8 Webinar Series\, we
  are thrilled to invite you to our upcoming webinar on : Fortifying Cybers
 ecurity for the Next Computing Revolution.\n\nWe are honored to host Dr. M
 alek BEN SALEM\, Managing Director for Emerging Tech Security at Accenture
 . With over 20 years of experience\, Dr. Ben Salem is a renowned expert in
  artificial intelligence\, cybersecurity\, quantum computing\, and space t
 echnologies. She holds a Ph.D. in Computer Science from Columbia Universit
 y and has advised Fortune 500 companies on leveraging emerging technologie
 s securely to drive innovation and growth.\n\nDr. Ben Salem will lead this
  insightful session tomorrow\, Wednesday\, November 27\, at 6 PM (France T
 ime\, GMT+1).\n\nThe program includes:\n-An informative session about the 
 Distinguished Visitor Program (DVP) by our -DVP ACA Representative\n-A pre
 sentation on Fortifying Cybersecurity for the Next Computing Revolution by
  Dr. Ben Salem\n-Q&amp;A\n-Information about upcoming sessions\n\nWe look forw
 ard to your participation! Join us tomorrow to explore these exciting\n\nA
 genda: \n[]\n\nVirtual: https://events.vtools.ieee.org/m/448572
LOCATION:Virtual: https://events.vtools.ieee.org/m/448572
ORGANIZER:islamhalim@ieee.org
SEQUENCE:2
SUMMARY:IEEE CS DVP R8 Webinar Series - Dr. Malek BEN SALEM
URL;VALUE=URI:https://events.vtools.ieee.org/m/448572
X-ALT-DESC:Description: &lt;br /&gt;&lt;div class=&quot;xdj266r x11i5rnm xat24cr x1mh8g0r
  x1vvkbs x126k92a&quot;&gt;\n&lt;div dir=&quot;auto&quot;&gt;Following the success of our IEEE CS 
 DVP R8 Webinar Series\, we are thrilled to invite you to our upcoming webi
 nar on : Fortifying Cybersecurity for the Next Computing Revolution.&lt;/div&gt;
 \n&lt;/div&gt;\n&lt;div class=&quot;x11i5rnm xat24cr x1mh8g0r x1vvkbs xtlvy1s x126k92a&quot;&gt;
 \n&lt;div dir=&quot;auto&quot;&gt;We are honored to host Dr. Malek BEN SALEM\, Managing Di
 rector for Emerging Tech Security at Accenture. With over 20 years of expe
 rience\, Dr. Ben Salem is a renowned expert in artificial intelligence\, c
 ybersecurity\, quantum computing\, and space technologies. She holds a Ph.
 D. in Computer Science from Columbia University and has advised Fortune 50
 0 companies on leveraging emerging technologies securely to drive innovati
 on and growth.&lt;/div&gt;\n&lt;/div&gt;\n&lt;div class=&quot;x11i5rnm xat24cr x1mh8g0r x1vvkb
 s xtlvy1s x126k92a&quot;&gt;\n&lt;div dir=&quot;auto&quot;&gt;Dr. Ben Salem will lead this insight
 ful session tomorrow\, Wednesday\, November 27\, at 6 PM (France Time\, GM
 T+1).&lt;/div&gt;\n&lt;/div&gt;\n&lt;div class=&quot;x11i5rnm xat24cr x1mh8g0r x1vvkbs xtlvy1s
  x126k92a&quot;&gt;\n&lt;div dir=&quot;auto&quot;&gt;The program includes:&lt;/div&gt;\n&lt;div dir=&quot;auto&quot;&gt;
 -An informative session about the Distinguished Visitor Program (DVP) by o
 ur -DVP ACA Representative&lt;/div&gt;\n&lt;div dir=&quot;auto&quot;&gt;-A presentation on Forti
 fying Cybersecurity for the Next Computing Revolution by Dr. Ben Salem&lt;/di
 v&gt;\n&lt;div dir=&quot;auto&quot;&gt;-Q&amp;amp\;A&lt;/div&gt;\n&lt;div dir=&quot;auto&quot;&gt;-Information about up
 coming sessions&lt;/div&gt;\n&lt;/div&gt;\n&lt;div class=&quot;x11i5rnm xat24cr x1mh8g0r x1vvk
 bs xtlvy1s x126k92a&quot;&gt;\n&lt;div dir=&quot;auto&quot;&gt;We look forward to your participati
 on! Join us tomorrow to explore these exciting&lt;/div&gt;\n&lt;/div&gt;&lt;br /&gt;&lt;br /&gt;Ag
 enda: &lt;br /&gt;&lt;p&gt;&lt;img src=&quot;https://events.vtools.ieee.org/vtools_ui/media/di
 splay/44b5b494-ba56-4fea-8b8a-89324d585254&quot; alt=&quot;&quot; width=&quot;1200&quot; height=&quot;12
 00&quot;&gt;&lt;/p&gt;
END:VEVENT
END:VCALENDAR

