BEGIN:VCALENDAR
VERSION:2.0
PRODID:IEEE vTools.Events//EN
CALSCALE:GREGORIAN
BEGIN:VTIMEZONE
TZID:Europe/Istanbul
BEGIN:DAYLIGHT
DTSTART:20380119T061407
TZOFFSETFROM:+0300
TZOFFSETTO:+0300
RRULE:FREQ=YEARLY;BYDAY=3TU;BYMONTH=1
TZNAME:+03
END:DAYLIGHT
BEGIN:STANDARD
DTSTART:20160907T000000
TZOFFSETFROM:+0300
TZOFFSETTO:+0300
RRULE:FREQ=YEARLY;BYDAY=1WE;BYMONTH=9
TZNAME:+03
END:STANDARD
END:VTIMEZONE
BEGIN:VEVENT
DTSTAMP:20241129T014443Z
UID:F3642935-2C53-458A-B077-5DED51BE27FA
DTSTART;TZID=Europe/Istanbul:20241011T114000
DTEND;TZID=Europe/Istanbul:20241011T115500
DESCRIPTION:We organized a meeting with our new members to meet them with I
 EEE and held a presentation about what IEEE does and what our club does. A
 lso\, we introduced them societies and spread the word IEEE.\n\nIstanbul\,
  Istanbul\, Türkiye
LOCATION:Istanbul\, Istanbul\, Türkiye
ORGANIZER:caganislam@gmail.com
SEQUENCE:7
SUMMARY:IEEE-DAY Event
URL;VALUE=URI:https://events.vtools.ieee.org/m/448954
X-ALT-DESC:Description: &lt;br /&gt;&lt;p&gt;We organized a meeting with our new member
 s to meet them with IEEE and held a presentation about what IEEE does and 
 what our club does. Also\, we introduced them societies and spread the wor
 d IEEE.&lt;/p&gt;
END:VEVENT
END:VCALENDAR

