BEGIN:VCALENDAR
VERSION:2.0
PRODID:IEEE vTools.Events//EN
CALSCALE:GREGORIAN
BEGIN:VTIMEZONE
TZID:Europe/London
BEGIN:DAYLIGHT
DTSTART:20240331T020000
TZOFFSETFROM:+0000
TZOFFSETTO:+0100
RRULE:FREQ=YEARLY;BYDAY=-1SU;BYMONTH=3
TZNAME:BST
END:DAYLIGHT
BEGIN:STANDARD
DTSTART:20241027T010000
TZOFFSETFROM:+0100
TZOFFSETTO:+0000
RRULE:FREQ=YEARLY;BYDAY=-1SU;BYMONTH=10
TZNAME:GMT
END:STANDARD
END:VTIMEZONE
BEGIN:VEVENT
DTSTAMP:20241129T193007Z
UID:F91E3F51-1605-4E74-AA1C-C2D465BF0DAD
DTSTART;TZID=Europe/London:20241004T130000
DTEND;TZID=Europe/London:20241004T140000
DESCRIPTION:We hosted an engaging booth at Sup&#39;Com from 13H to 14H. Visitor
 s had the chance to dive into the essence of IEEE Day\, exploring exciting
  opportunities and learning about its focus on teambuilding and interactiv
 e activities. The event offered a vibrant atmosphere for networking and di
 scovering the many benefits of being part of IEEE.\n\n[Peut être une imag
 e de 9 personnes\, personnes souriantes et texte]\n\nBldg: Sup&#39;Com\, El Gh
 azela\, Ariana\, Tunisia\, 2083
LOCATION:Bldg: Sup&#39;Com\, El Ghazela\, Ariana\, Tunisia\, 2083
ORGANIZER:ahmed.essouaied@ieee.org
SEQUENCE:7
SUMMARY:IEEE Day Booth
URL;VALUE=URI:https://events.vtools.ieee.org/m/449167
X-ALT-DESC:Description: &lt;br /&gt;&lt;p&gt;We hosted an engaging booth at Sup&#39;Com fro
 m 13H to 14H. Visitors had the chance to dive into the essence of IEEE Day
 \, exploring exciting opportunities and learning about its focus on teambu
 ilding and interactive activities. The event offered a vibrant atmosphere 
 for networking and discovering the many benefits of being part of IEEE.&lt;/p
 &gt;\n&lt;p&gt;&lt;img src=&quot;https://scontent.ftun15-1.fna.fbcdn.net/v/t39.30808-6/4621
 34429_956784626482190_4216167345672440816_n.jpg?_nc_cat=109&amp;amp\;ccb=1-7&amp;a
 mp\;_nc_sid=127cfc&amp;amp\;_nc_ohc=ujwmR_2SO4AQ7kNvgFoCJAC&amp;amp\;_nc_zt=23&amp;amp
 \;_nc_ht=scontent.ftun15-1.fna&amp;amp\;_nc_gid=AtHaEeZjXDHWslNv8SEQj_U&amp;amp\;o
 h=00_AYC0qi36qLhpE9jKmBxWK8hYbODnsW1iLbHpXxisz0X6Gw&amp;amp\;oe=674FD81F&quot; alt=
 &quot;Peut &amp;ecirc\;tre une image de 9 personnes\, personnes souriantes et texte
 &quot; width=&quot;966&quot; height=&quot;644&quot;&gt;&lt;/p&gt;
END:VEVENT
END:VCALENDAR

