BEGIN:VCALENDAR
VERSION:2.0
PRODID:IEEE vTools.Events//EN
CALSCALE:GREGORIAN
BEGIN:VTIMEZONE
TZID:America/Lima
BEGIN:DAYLIGHT
DTSTART:20380118T221407
TZOFFSETFROM:-0500
TZOFFSETTO:-0500
RRULE:FREQ=YEARLY;BYDAY=3MO;BYMONTH=1
TZNAME:-05
END:DAYLIGHT
BEGIN:STANDARD
DTSTART:19940331T230000
TZOFFSETFROM:-0400
TZOFFSETTO:-0500
RRULE:FREQ=YEARLY;BYDAY=-1TH;BYMONTH=3
TZNAME:-05
END:STANDARD
END:VTIMEZONE
BEGIN:VEVENT
DTSTAMP:20241202T001042Z
UID:62933828-22C4-450A-8925-BFDBE597627B
DTSTART;TZID=America/Lima:20240323T160000
DTEND;TZID=America/Lima:20240324T140000
DESCRIPTION:Se realizó una fogata de integración para los participantes e
 n el lanzamiento del globosonda con muestras de papas y componentes electr
 ónicos para una investicación de los efectos de condiciones adversas en 
 ellos.\n\nChilca\, Chilca\, Lima\, Peru
LOCATION:Chilca\, Chilca\, Lima\, Peru
ORGANIZER:ieeeaess.fiee@unmsm.edu.pe
SEQUENCE:19
SUMMARY:Fogata de contraternidad con la Asociación Peruana de Astrobiolog
 ía
URL;VALUE=URI:https://events.vtools.ieee.org/m/450001
X-ALT-DESC:Description: &lt;br /&gt;&lt;p&gt;Se realiz&amp;oacute\; una fogata de integraci
 &amp;oacute\;n para los participantes en el lanzamiento del globosonda con mue
 stras de papas y componentes electr&amp;oacute\;nicos para una investicaci&amp;oac
 ute\;n de los efectos de condiciones adversas en ellos.&lt;/p&gt;\n&lt;p&gt;&lt;img src=&quot;
 https://events.vtools.ieee.org/vtools_ui/media/display/0a21ee7a-87b2-4751-
 ae96-7eb4e3bc44ef&quot;&gt;&lt;/p&gt;
END:VEVENT
END:VCALENDAR

