BEGIN:VCALENDAR
VERSION:2.0
PRODID:IEEE vTools.Events//EN
CALSCALE:GREGORIAN
BEGIN:VTIMEZONE
TZID:Asia/Kolkata
BEGIN:STANDARD
DTSTART:19451014T230000
TZOFFSETFROM:+0630
TZOFFSETTO:+0530
TZNAME:IST
END:STANDARD
END:VTIMEZONE
BEGIN:VEVENT
DTSTAMP:20241203T141654Z
UID:85E35DB6-9913-4004-993A-407A2E2B61FD
DTSTART;TZID=Asia/Kolkata:20241003T100000
DTEND;TZID=Asia/Kolkata:20241003T130000
DESCRIPTION:Human Resource Development Cell (HRDC) of Uttaranchal Universit
 y organized a guest lecture on “Faculty Wellbeing &amp; Mindfulness in Educa
 tion: Motivation at workplace on 3 October 2024 at Swami Vivekanand Audito
 rium. Mr. S.K.Mehta\, Entrepreneur and Motivation Speaker\, was the keynot
 e speaker of the day\, who enthralled the faculty members through his pers
 onal anecdotes. His life journey commenced as a waiter at a café\, delive
 red newspapers and milk and then grew successful to run businessman in 22 
 countries\, in the Oil &amp; Gas sector\, buying his first Ferrari and Private
  Jet in Houston\, U.K. This stands as a testament to his enthusiastic spir
 it and perseverance in life. He in his discourse motivated the teachers of
  their role in shaping the future of the students. He instilled inspiratio
 n in the students\, making them realize the importance of their parents’
  role in their life\, loyalty to one’s profession\, and to evolve with t
 ime by upskilling and reskilling oneself.\n\nThe event commenced with the 
 felicitation of Guest speaker by Mrs. Anuradha Joshi\, Vice Chairperson\, 
 followed by the lighting of lamp and University Kulgeet. Prof. Anil Dixit\
 , Coordinator HRDC\, rendered the Welcome address and the event was cordia
 lly moderated by Ms. Ritu Baloni. Ms. Ankita Joshi\, Vice President\, Utta
 ranchal University\, Prof. Abhishek Joshi\, Director Student Affairs &amp; IT 
 Services\, Prof. Sonam Sharma\, Prof. M.P.Singh\, Dr. Amit Bhatt\, Campus 
 Director\, Dr. Tillotamma \, Head UIM\, Dr. Radhey Shyam Jha\, Head Law\, 
 Dr. Rajendra Prasad\, Head Agriculture and faculty members of various depa
 rtments were the dignitaries present. The event culminated with the Vote o
 f Thanks by Prof. Anil Dixit\, followed by the National Anthem.\n\nSpeaker
 (s): Mr. S.K. Mehta\, \n\nSwami Vivekanand Auditorium\,Uttaranchal univers
 ity \, Arcadia Grant\, Premnagar\, Dehradun\, Dehradun\, Uttaranchal\, Ind
 ia\, 248007
LOCATION:Swami Vivekanand Auditorium\,Uttaranchal university \, Arcadia Gra
 nt\, Premnagar\, Dehradun\, Dehradun\, Uttaranchal\, India\, 248007
ORGANIZER:drrajeshsingh004@gmail.com
SEQUENCE:23
SUMMARY:Faculty Wellbeing &amp; Mindfulness in Education: Motivation at workpla
 ce
URL;VALUE=URI:https://events.vtools.ieee.org/m/450307
X-ALT-DESC:Description: &lt;br /&gt;&lt;p&gt;Human Resource Development Cell (HRDC) of 
 Uttaranchal University organized a guest lecture on &amp;ldquo\;Faculty Wellbe
 ing &amp;amp\; Mindfulness in Education: Motivation at workplace on 3 October 
 2024 at Swami Vivekanand Auditorium. Mr. S.K.Mehta\, Entrepreneur and Moti
 vation Speaker\, was the keynote speaker of the day\, who enthralled the f
 aculty members through his personal anecdotes. His life journey commenced 
 as a waiter at a caf&amp;eacute\;\, delivered newspapers and milk and then gre
 w successful to run businessman in 22 countries\, in the Oil &amp;amp\; Gas se
 ctor\, buying his first Ferrari and Private Jet in Houston\, U.K. This sta
 nds as a testament to his enthusiastic spirit and perseverance in life. He
  in his discourse motivated the teachers of their role in shaping the futu
 re of the students. He instilled inspiration in the students\, making them
  realize the importance of their parents&amp;rsquo\; role in their life\, loya
 lty to one&amp;rsquo\;s profession\, and to evolve with time by upskilling and
  reskilling oneself.&lt;br&gt;&lt;br&gt;The event commenced with the felicitation of G
 uest speaker by Mrs. Anuradha Joshi\, Vice Chairperson\, followed by the l
 ighting of lamp and University Kulgeet. Prof. Anil Dixit\, Coordinator HRD
 C\, rendered the Welcome address and the event was cordially moderated by 
 Ms. Ritu Baloni. Ms. Ankita Joshi\, Vice President\, Uttaranchal Universit
 y\, Prof. Abhishek Joshi\, Director Student Affairs &amp;amp\; IT Services\, P
 rof. Sonam Sharma\, Prof. M.P.Singh\, Dr. Amit Bhatt\, Campus Director\, D
 r. Tillotamma \, Head UIM\, Dr. Radhey Shyam Jha\, Head Law\, Dr. Rajendra
  Prasad\, Head Agriculture and faculty members of various departments were
  the dignitaries present. The event culminated with the Vote of Thanks by 
 Prof. Anil Dixit\, followed by the National Anthem.&lt;/p&gt;\n&lt;p&gt;&lt;img src=&quot;http
 s://events.vtools.ieee.org/vtools_ui/media/display/3c579706-94c4-492d-ac08
 -1469d1797c73&quot; width=&quot;483&quot; height=&quot;395&quot;&gt; &amp;nbsp\;&lt;img src=&quot;https://events.v
 tools.ieee.org/vtools_ui/media/display/87e1673c-5950-41a6-b933-4449257c543
 3&quot; width=&quot;483&quot; height=&quot;395&quot;&gt;&lt;/p&gt;\n&lt;p&gt;&lt;img src=&quot;https://events.vtools.ieee.
 org/vtools_ui/media/display/99f6ccc9-d678-4d27-abc1-3ebd205e2919&quot; width=&quot;4
 85&quot; height=&quot;396&quot;&gt; &amp;nbsp\;&lt;img src=&quot;https://events.vtools.ieee.org/vtools_u
 i/media/display/44f6cd74-320f-4a6e-9bec-44c017cc8354&quot; width=&quot;486&quot; height=&quot;
 397&quot;&gt;&lt;/p&gt;\n&lt;p&gt;&lt;img src=&quot;https://events.vtools.ieee.org/vtools_ui/media/dis
 play/d20ac752-4ccf-46c1-81f5-6fe630e9496f&quot; width=&quot;482&quot; height=&quot;394&quot;&gt; &amp;nbsp
 \;&lt;img src=&quot;https://events.vtools.ieee.org/vtools_ui/media/display/aaa7d52
 1-aa6c-46a0-8582-c301e09270d8&quot; width=&quot;478&quot; height=&quot;391&quot;&gt;&lt;/p&gt;\n&lt;p&gt;&amp;nbsp\;&lt;/
 p&gt;
END:VEVENT
END:VCALENDAR

