BEGIN:VCALENDAR
VERSION:2.0
PRODID:IEEE vTools.Events//EN
CALSCALE:GREGORIAN
BEGIN:VTIMEZONE
TZID:Asia/Kuala_Lumpur
BEGIN:DAYLIGHT
DTSTART:20380119T111407
TZOFFSETFROM:+0800
TZOFFSETTO:+0800
RRULE:FREQ=YEARLY;BYDAY=3TU;BYMONTH=1
TZNAME:+08
END:DAYLIGHT
BEGIN:STANDARD
DTSTART:19820101T000000
TZOFFSETFROM:+0730
TZOFFSETTO:+0800
RRULE:FREQ=YEARLY;BYDAY=1FR;BYMONTH=1
TZNAME:+08
END:STANDARD
END:VTIMEZONE
BEGIN:VEVENT
DTSTAMP:20241215T122906Z
UID:1A4A343A-5041-4D3A-8671-603531D96422
DTSTART;TZID=Asia/Kuala_Lumpur:20240604T140000
DTEND;TZID=Asia/Kuala_Lumpur:20240604T163000
DESCRIPTION:The main goal of the 5MFYP program is to provide students with 
 a valuable opportunity to present their final year projects succinctly\, w
 ithin a strict 5-minute timeframe\, while being evaluated by a distinguish
 ed panel of judges from the Industry Advisory Panel (IAP). The students re
 ceived constructive feedback and comments\, aimed at enhancing their prese
 ntation skills and encouraging bold\, innovative approaches to their work.
  IEEE UiTM Shah Alam Student Branch successfully managed to co-organized t
 his program with the help of EduSociety. They were 20 students coming from
  Electrical and Electronics program who were participating in this 5MFYP p
 rogram which were also held on 2 different locations which were held at tw
 o locations namely Al-Haytham and Al-Hidayah seminar rooms. The winners in
  each category were awarded cash prizes\, with the first place receiving R
 M100\, second place RM75\, and third place RM50. Additionally\, all partic
 ipants were awarded e-certificates in recognition of their hard work and d
 edication. The 5MFYP program not only celebrated the students&#39; achievement
 s but also provided a platform for them to gain valuable insights from ind
 ustry professionals. This event underscores the commitment of UiTM Shah Al
 am and the IEEE Student Branch to nurturing talent and promoting academic 
 excellence.\n\nBldg: BILIK SEMINAR AL-HAYTHAM \, SHAH ALAM\, Selangor\, Ma
 laysia\, 40450
LOCATION:Bldg: BILIK SEMINAR AL-HAYTHAM \, SHAH ALAM\, Selangor\, Malaysia\
 , 40450
ORGANIZER:marianah@uitm.edu.my
SEQUENCE:208
SUMMARY:5 MINUTES FYP COMPETITION (5MFYP) ELECTRICAL 
URL;VALUE=URI:https://events.vtools.ieee.org/m/451342
X-ALT-DESC:Description: &lt;br /&gt;&lt;p&gt;&lt;span class=&quot;OYPEnA font-feature-liga-off 
 font-feature-clig-off font-feature-calt-off text-decoration-none text-stri
 kethrough-none&quot;&gt;The main goal of the 5MFYP program is to provide students 
 with a valuable opportunity to present their final year projects succinctl
 y\, within a strict 5-minute timeframe\, while being evaluated by a distin
 guished panel of judges from the Industry Advisory Panel (IAP). The studen
 ts received constructive feedback and comments\, aimed at enhancing their 
 presentation skills and encouraging bold\, innovative approaches to their 
 work. IEEE UiTM Shah Alam Student Branch successfully managed to co-organi
 zed this program with the help of EduSociety. They were 20 students coming
  from Electrical and Electronics program who were participating in this 5M
 FYP program which were also held on 2 different locations which were held 
 at two locations namely Al-Haytham and Al-Hidayah seminar rooms. The winne
 rs in each category were awarded cash prizes\, with the first place receiv
 ing RM100\, second place RM75\, and third place RM50. Additionally\, all p
 articipants were awarded e-certificates in recognition of their hard work 
 and dedication. The 5MFYP program not only celebrated the students&#39; achiev
 ements but also provided a platform for them to gain valuable insights fro
 m industry professionals. This event underscores the commitment of UiTM Sh
 ah Alam and the IEEE Student Branch to nurturing talent and promoting acad
 emic excellence.&lt;/span&gt;&lt;/p&gt;
END:VEVENT
END:VCALENDAR

