BEGIN:VCALENDAR
VERSION:2.0
PRODID:IEEE vTools.Events//EN
CALSCALE:GREGORIAN
BEGIN:VTIMEZONE
TZID:US/Michigan
BEGIN:DAYLIGHT
DTSTART:20250309T030000
TZOFFSETFROM:-0500
TZOFFSETTO:-0400
RRULE:FREQ=YEARLY;BYDAY=2SU;BYMONTH=3
TZNAME:EDT
END:DAYLIGHT
BEGIN:STANDARD
DTSTART:20241103T010000
TZOFFSETFROM:-0400
TZOFFSETTO:-0500
RRULE:FREQ=YEARLY;BYDAY=1SU;BYMONTH=11
TZNAME:EST
END:STANDARD
END:VTIMEZONE
BEGIN:VEVENT
DTSTAMP:20250217T124641Z
UID:BF5C49FB-CFB4-4CD3-8A99-B3E3AB5ABC81
DTSTART;TZID=US/Michigan:20250213T110000
DTEND;TZID=US/Michigan:20250213T120000
DESCRIPTION:SEM Chapter 8 Officers AdCom meeting:\n\nContact Scott Lytle: s
 .r.lytle@ieee.org for details and Teleconference phone information.\n\nhtt
 ps://us02web.zoom.us/j/81576058578?pwd=QVdKTm8wN2p3RVh6QXQ0NTIyb0V4dz09\n\
 n- [Southeastern Michigan Section C](mailto:s.r.lytle@ieee.org?subject=Ch8
 :%20AdCom%20Teleconference%20-%20Southeastern%20Michigan%20Section%20Chapt
 er\,%20EMC27)\n\nCo-sponsored by: Scott Lytle\n\nAgenda: \nAgenda on-line:
  Contact Steve Tomba steve@epictek-llc.com for details.\n\nVirtual: https:
 //events.vtools.ieee.org/m/451643
LOCATION:Virtual: https://events.vtools.ieee.org/m/451643
ORGANIZER:s.r.lytle@ieee.org
SEQUENCE:4
SUMMARY:Ch8: AdCom Teleconference
URL;VALUE=URI:https://events.vtools.ieee.org/m/451643
X-ALT-DESC:Description: &lt;br /&gt;&lt;p&gt;&lt;strong&gt;&lt;span style=&quot;font-size: 14pt\;&quot;&gt;SE
 M Chapter 8 Officers AdCom meeting:&lt;/span&gt;&lt;/strong&gt;&lt;/p&gt;\n&lt;p&gt;&lt;strong&gt;&lt;span 
 style=&quot;font-size: 14pt\;&quot;&gt;Contact Scott Lytle: &amp;nbsp\;&amp;nbsp\;&lt;span style=&quot;
 color: #0000ff\;&quot;&gt;s.r.lytle@ieee.org&lt;/span&gt; &amp;nbsp\;for details and Telecon
 ference phone&amp;nbsp\;information. &amp;nbsp\;&lt;/span&gt;&lt;/strong&gt;&lt;/p&gt;\n&lt;div class=&quot;
 col-sm-3 ieee_bright_orange_bl2&quot;&gt;\n&lt;p&gt;&lt;a href=&quot;https://us02web.zoom.us/j/8
 1576058578?pwd=QVdKTm8wN2p3RVh6QXQ0NTIyb0V4dz09&quot;&gt;https://us02web.zoom.us/j
 /81576058578?pwd=QVdKTm8wN2p3RVh6QXQ0NTIyb0V4dz09&lt;/a&gt;&lt;/p&gt;\n&lt;p&gt;&amp;nbsp\;&lt;/p&gt;\
 n&lt;/div&gt;\n&lt;div class=&quot;col-sm-3 ieee_bright_orange_bl2&quot;&gt;\n&lt;ul class=&quot;list-un
 styled&quot;&gt;\n&lt;li&gt;&lt;a href=&quot;mailto:s.r.lytle@ieee.org?subject=Ch8:%20AdCom%20Te
 leconference%20-%20Southeastern%20Michigan%20Section%20Chapter\,%20EMC27&quot;&gt;
 Southeastern Michigan Section C&lt;/a&gt;&lt;/li&gt;\n&lt;/ul&gt;\n&lt;/div&gt;&lt;br /&gt;&lt;br /&gt;Agenda:
  &lt;br /&gt;&lt;p&gt;&lt;span style=&quot;font-size: 14pt\;&quot;&gt;Agenda on-line: &amp;nbsp\;Contact S
 teve Tomba &amp;nbsp\; &lt;span style=&quot;color: #0000ff\;&quot;&gt;steve@epictek-llc.com&lt;/s
 pan&gt;&amp;nbsp\;for details.&amp;nbsp\;&lt;/span&gt;&lt;/p&gt;
END:VEVENT
END:VCALENDAR

