BEGIN:VCALENDAR
VERSION:2.0
PRODID:IEEE vTools.Events//EN
CALSCALE:GREGORIAN
BEGIN:VTIMEZONE
TZID:America/Bogota
BEGIN:DAYLIGHT
DTSTART:20380118T221407
TZOFFSETFROM:-0500
TZOFFSETTO:-0500
RRULE:FREQ=YEARLY;BYDAY=3MO;BYMONTH=1
TZNAME:-05
END:DAYLIGHT
BEGIN:STANDARD
DTSTART:19930206T230000
TZOFFSETFROM:-0400
TZOFFSETTO:-0500
RRULE:FREQ=YEARLY;BYDAY=1SA;BYMONTH=2
TZNAME:-05
END:STANDARD
END:VTIMEZONE
BEGIN:VEVENT
DTSTAMP:20241223T144633Z
UID:B626276E-C431-4108-9E90-06B8FC7FA3C6
DTSTART;TZID=America/Bogota:20241218T180000
DTEND;TZID=America/Bogota:20241218T210000
DESCRIPTION:IEEE Jamaica Section Social 18 December\, 2024 @6pm\n\nCo-spons
 ored by: IEEE Jamaica Section and IEEE Utech Students Branch\n\nSOE Confer
 ence Room\, University of Technology\, 237 Old Hope Road876\, Kington 6\, 
 Kingston\, Jamaica\, 876
LOCATION:SOE Conference Room\, University of Technology\, 237 Old Hope Road
 876\, Kington 6\, Kingston\, Jamaica\, 876
ORGANIZER:udeaghac@gmail.com
SEQUENCE:3
SUMMARY:&quot;IEEE Jamaica Section Social 2024&quot;
URL;VALUE=URI:https://events.vtools.ieee.org/m/451728
X-ALT-DESC:Description: &lt;br /&gt;&lt;p&gt;IEEE Jamaica Section Social 18 December\, 
 2024 @6pm&lt;/p&gt;
END:VEVENT
END:VCALENDAR

