BEGIN:VCALENDAR
VERSION:2.0
PRODID:IEEE vTools.Events//EN
CALSCALE:GREGORIAN
BEGIN:VTIMEZONE
TZID:America/New_York
BEGIN:DAYLIGHT
DTSTART:20250309T030000
TZOFFSETFROM:-0500
TZOFFSETTO:-0400
RRULE:FREQ=YEARLY;BYDAY=2SU;BYMONTH=3
TZNAME:EDT
END:DAYLIGHT
BEGIN:STANDARD
DTSTART:20241103T010000
TZOFFSETFROM:-0400
TZOFFSETTO:-0500
RRULE:FREQ=YEARLY;BYDAY=1SU;BYMONTH=11
TZNAME:EST
END:STANDARD
END:VTIMEZONE
BEGIN:VEVENT
DTSTAMP:20250110T164911Z
UID:FEC6930A-5ABA-45C9-A42D-FBBD3DA80F1A
DTSTART;TZID=America/New_York:20241220T180000
DTEND;TZID=America/New_York:20241220T200000
DESCRIPTION:Please attend IEEE SEM Life Affinity Group meeting on Friday\, 
 December 20th\, 2024 at 6:00 pm at\n\nRaj Palace Indian Cuisine\, 37116 Si
 x Mile Road\, LIVONIA\, MI 48152\,\n\nTelephone: (734) 462-1111\n\nSpeaker
 (s): Dr. Narayan\, \n\nAgenda: \nWelcome &amp; Introduction\n\nBldg: Raj Palac
 e Indian Cuisine\, 37116 Six Mile Road\, LIVONIA\, Michigan\, United State
 s\, 48152
LOCATION:Bldg: Raj Palace Indian Cuisine\, 37116 Six Mile Road\, LIVONIA\, 
 Michigan\, United States\, 48152
ORGANIZER:arunhundiwal@yahoo.com
SEQUENCE:30
SUMMARY:Life Affinity Group Get-together
URL;VALUE=URI:https://events.vtools.ieee.org/m/451747
X-ALT-DESC:Description: &lt;br /&gt;&lt;p&gt;&lt;span style=&quot;font-size: 18pt\;&quot;&gt;Please att
 end IEEE SEM Life Affinity Group meeting on Friday\, December 20th\, 2024 
 at 6:00 pm at&lt;/span&gt;&lt;/p&gt;\n&lt;p&gt;&lt;span style=&quot;font-size: 18pt\;&quot;&gt;Raj Palace In
 dian Cuisine\,&amp;nbsp\;37116 Six Mile Road\, LIVONIA\, MI 48152\,&lt;/span&gt;&lt;/p&gt;
 \n&lt;p&gt;&lt;span style=&quot;font-size: 18pt\;&quot;&gt;Telephone: (734) 462-1111&lt;/span&gt;&lt;/p&gt;&lt;
 br /&gt;&lt;br /&gt;Agenda: &lt;br /&gt;&lt;p&gt;Welcome &amp;amp\; Introduction&lt;/p&gt;\n&lt;p&gt;&amp;nbsp\;&lt;/p
 &gt;
END:VEVENT
END:VCALENDAR

