BEGIN:VCALENDAR
VERSION:2.0
PRODID:IEEE vTools.Events//EN
CALSCALE:GREGORIAN
BEGIN:VTIMEZONE
TZID:Asia/Kolkata
BEGIN:STANDARD
DTSTART:19451014T230000
TZOFFSETFROM:+0630
TZOFFSETTO:+0530
TZNAME:IST
END:STANDARD
END:VTIMEZONE
BEGIN:VEVENT
DTSTAMP:20241212T031429Z
UID:F38686C2-CCCB-4E6E-AA6D-469C9556B234
DTSTART;TZID=Asia/Kolkata:20241211T130000
DTEND;TZID=Asia/Kolkata:20241212T143000
DESCRIPTION:A workshop was conducted for the teachers of the Good Samaritan
  School\, Jsola\, New Delhi-110025\, to introduce them to the TRYEngineeri
 ng initiative and explore the possibility of preparing a STEM project prop
 osal for submission to IEEE. The workshop aimed to encourage teachers to e
 ngage in innovative educational practices and collaborate with students on
  exciting STEM projects.\n\nThe session commenced with an opening address 
 by Dr. Ananthi Jebasingh\, FOUNDER AND DIRECTOR OF THE GOOD SAMARITAN SCHO
 OLS\, who highlighted the importance of fostering innovation and technical
  skills in students. The Principal emphasized the significance of collabor
 ating with global platforms like IEEE to enhance the school’s educationa
 l offerings and provide students with real-world\, hands-on learning exper
 iences.\n\nProf. A Q Ansari\, the keynote speaker\, then introduced the TR
 YEngineering program. He explained that IEEE&#39;s TRYEngineering initiative i
 s designed to inspire and engage students in the fields of Science\, Techn
 ology\, Engineering\, and Mathematics (STEM). Through this program\, teach
 ers and students have the opportunity to submit project proposals that ali
 gn with engineering education and innovation. Prof. Ansari detailed the pr
 ocess for submitting STEM project proposals\, which would allow participan
 ts to create solutions to real-world problems while showcasing their skill
 s in engineering and technology.\n\nProf. Ansari also explained the object
 ives and benefits of participating in such a program\, stressing the impor
 tance of creating projects that are both educational and impactful. He enc
 ouraged teachers to collaborate with students in developing ideas and prop
 osals that would not only fulfill the criteria of the program but also pro
 mote creativity\, critical thinking\, and problem-solving skills.\n\nThe t
 eachers actively participated in the discussion\, asking insightful questi
 ons and showing a keen interest in how they could prepare STEM proposals f
 or both students and themselves. It was agreed that the preparation of the
  STEM project proposals would be a collaborative effort\, with teachers pl
 aying an active role in guiding students throughout the process.\n\nThe wo
 rkshop concluded with a vote of thanks by the Principal for facilitating t
 he event\, and to Prof. Ansari for his informative session. The teachers e
 xpressed their enthusiasm for exploring the potential of the TRYEngineerin
 g program and were motivated to start working on STEM project proposals fo
 r submission to IEEE.\n\nOverall\, the workshop was a success\, providing 
 teachers with valuable insights into the TRYEngineering initiative and ins
 piring them to engage in meaningful STEM projects with their students.\n\n
 Persons in attendance:\n\n- Dr. Ananthi Jebasingh\, Principal\n- Mr. S. K.
  Thangam\, Vice Principal\n- Ms. Anita Kerketta\n- Ms. Deepika\n- Ms. Ojas
 vi\n- Ms. Thangalkshmi\n- Ms. Blessy\n- Azhar - Student\n- Abdul Basit - S
 tudent\n- Prof. ABDUL QUAIYUM ANSARI\, Chair\, IEEE Delhi Section and Chai
 r\, Delhi Section SIGHT\n\nCo-sponsored by: Good Samaritan School\, Jasola
 \, New Delhi-110025\n\nSpeaker(s): Prof. Abdul Q Ansari\, Dr. Ananthi Jeba
 singh\n\nRoom: Board Room\, Good Samaritan School\, Jasola\, New Delhi\, D
 elhi\, India\, 110025
LOCATION:Room: Board Room\, Good Samaritan School\, Jasola\, New Delhi\, De
 lhi\, India\, 110025
ORGANIZER:aqansari@ieee.org
SEQUENCE:56
SUMMARY:Workshop for Teachers on TRYEngineering and STEM Project Proposal S
 ubmission to IEEE
URL;VALUE=URI:https://events.vtools.ieee.org/m/452212
X-ALT-DESC:Description: &lt;br /&gt;&lt;p&gt;A workshop was conducted for the teachers 
 of the Good Samaritan School\, Jsola\, New Delhi-110025\, to introduce the
 m to the TRYEngineering initiative and explore the possibility of preparin
 g a STEM project proposal for submission to IEEE. The workshop aimed to en
 courage teachers to engage in innovative educational practices and collabo
 rate with students on exciting STEM projects.&lt;/p&gt;\n&lt;p&gt;The session commence
 d with an opening address by Dr. Ananthi Jebasingh\, FOUNDER AND DIRECTOR 
 OF THE GOOD SAMARITAN SCHOOLS\, who highlighted the importance of fosterin
 g innovation and technical skills in students. The Principal emphasized th
 e significance of collaborating with global platforms like IEEE to enhance
  the school&amp;rsquo\;s educational offerings and provide students with real-
 world\, hands-on learning experiences.&lt;/p&gt;\n&lt;p&gt;Prof. A Q Ansari\, the keyn
 ote speaker\, then introduced the TRYEngineering program. He explained tha
 t IEEE&#39;s TRYEngineering initiative is designed to inspire and engage stude
 nts in the fields of Science\, Technology\, Engineering\, and Mathematics 
 (STEM). Through this program\, teachers and students have the opportunity 
 to submit project proposals that align with engineering education and inno
 vation. Prof. Ansari detailed the process for submitting STEM project prop
 osals\, which would allow participants to create solutions to real-world p
 roblems while showcasing their skills in engineering and technology.&lt;/p&gt;\n
 &lt;p&gt;Prof. Ansari also explained the objectives and benefits of participatin
 g in such a program\, stressing the importance of creating projects that a
 re both educational and impactful. He encouraged teachers to collaborate w
 ith students in developing ideas and proposals that would not only fulfill
  the criteria of the program but also promote creativity\, critical thinki
 ng\, and problem-solving skills.&lt;/p&gt;\n&lt;p&gt;The teachers actively participate
 d in the discussion\, asking insightful questions and showing a keen inter
 est in how they could prepare STEM proposals for both students and themsel
 ves. It was agreed that the preparation of the STEM project proposals woul
 d be a collaborative effort\, with teachers playing an active role in guid
 ing students throughout the process.&lt;/p&gt;\n&lt;p&gt;The workshop concluded with a
  vote of thanks by the Principal for facilitating the event\, and to Prof.
  Ansari for his informative session. The teachers expressed their enthusia
 sm for exploring the potential of the TRYEngineering program and were moti
 vated to start working on STEM project proposals for submission to IEEE.&lt;/
 p&gt;\n&lt;p&gt;Overall\, the workshop was a success\, providing teachers with valu
 able insights into the TRYEngineering initiative and inspiring them to eng
 age in meaningful STEM projects with their students.&lt;/p&gt;\n&lt;p&gt;&lt;img src=&quot;htt
 ps://events.vtools.ieee.org/vtools_ui/media/display/9d4b7227-5dd6-4a5e-900
 7-6354cb6cabdb&quot; width=&quot;477&quot; height=&quot;268&quot;&gt;&lt;/p&gt;\n&lt;p&gt;&lt;img src=&quot;https://events
 .vtools.ieee.org/vtools_ui/media/display/74a96b7d-03b0-4cc1-856f-9d987a36f
 3a3&quot; width=&quot;477&quot; height=&quot;268&quot;&gt;&lt;/p&gt;\n&lt;p&gt;Persons in attendance:&lt;/p&gt;\n&lt;ol&gt;\n&lt;
 li&gt;Dr. Ananthi Jebasingh\, Principal&lt;/li&gt;\n&lt;li&gt;Mr. S. K. Thangam\, Vice Pr
 incipal&lt;/li&gt;\n&lt;li&gt;Ms. Anita Kerketta&lt;/li&gt;\n&lt;li&gt;Ms. Deepika&lt;/li&gt;\n&lt;li&gt;Ms. O
 jasvi&lt;/li&gt;\n&lt;li&gt;Ms. Thangalkshmi&lt;/li&gt;\n&lt;li&gt;Ms. Blessy&lt;/li&gt;\n&lt;li&gt;Azhar - St
 udent&lt;/li&gt;\n&lt;li&gt;Abdul Basit - Student&lt;/li&gt;\n&lt;li&gt;Prof. ABDUL QUAIYUM ANSARI
 \, Chair\, IEEE Delhi Section and Chair\, Delhi Section SIGHT&lt;/li&gt;\n&lt;/ol&gt;\
 n&lt;p&gt;&amp;nbsp\;&lt;/p&gt;
END:VEVENT
END:VCALENDAR

