BEGIN:VCALENDAR
VERSION:2.0
PRODID:IEEE vTools.Events//EN
CALSCALE:GREGORIAN
BEGIN:VTIMEZONE
TZID:America/Los_Angeles
BEGIN:DAYLIGHT
DTSTART:20250309T030000
TZOFFSETFROM:-0800
TZOFFSETTO:-0700
RRULE:FREQ=YEARLY;BYDAY=2SU;BYMONTH=3
TZNAME:PDT
END:DAYLIGHT
BEGIN:STANDARD
DTSTART:20241103T010000
TZOFFSETFROM:-0700
TZOFFSETTO:-0800
RRULE:FREQ=YEARLY;BYDAY=1SU;BYMONTH=11
TZNAME:PST
END:STANDARD
END:VTIMEZONE
BEGIN:VEVENT
DTSTAMP:20250109T044817Z
UID:941ECE27-ABA8-4307-83E0-35136DD5FC37
DTSTART;TZID=America/Los_Angeles:20250108T200000
DTEND;TZID=America/Los_Angeles:20250108T204500
DESCRIPTION:EXCOM Meeting for IEEE PES Seattle Officers\n\nVirtual: https:/
 /events.vtools.ieee.org/m/452307
LOCATION:Virtual: https://events.vtools.ieee.org/m/452307
ORGANIZER:xichenjiang@gmail.com
SEQUENCE:5
SUMMARY:IEEE PES SEATTLE EXCOM MEETING
URL;VALUE=URI:https://events.vtools.ieee.org/m/452307
X-ALT-DESC:Description: &lt;br /&gt;&lt;p&gt;EXCOM Meeting for IEEE PES Seattle Officer
 s&amp;nbsp\;&lt;/p&gt;
END:VEVENT
END:VCALENDAR

