BEGIN:VCALENDAR
VERSION:2.0
PRODID:IEEE vTools.Events//EN
CALSCALE:GREGORIAN
BEGIN:VTIMEZONE
TZID:Asia/Kolkata
BEGIN:STANDARD
DTSTART:19451014T230000
TZOFFSETFROM:+0630
TZOFFSETTO:+0530
TZNAME:IST
END:STANDARD
END:VTIMEZONE
BEGIN:VEVENT
DTSTAMP:20241212T184449Z
UID:A03097C8-B375-4894-94EE-193B6BEC700F
DTSTART;TZID=Asia/Kolkata:20241206T160000
DTEND;TZID=Asia/Kolkata:20241206T190000
DESCRIPTION:Dr. Tanu Jain and Dr. Gaurav Gupta at IEEE JUIT&#39;s Enigma Event\
 n\nDecember 6\, 2024 | IEEE JUIT SB\, Himachal Pradesh –The IEEE JUIT St
 udent Branch proudly hosted its much-anticipated mini flagship event\, Eni
 gma\, an enriching experience designed to inspire and empower students to 
 excel in both their academic and professional journeys. This dynamic event
  took place at the university campus and featured two distinguished guest 
 speakers\, Dr. Tanu Jain and Dr. Gaurav Gupta. Their presence brought a we
 alth of knowledge\, personal insights\, and motivation to the attendees.Dr
 . Tanu Jain\, a renowned former bureaucrat and motivational speaker\, deli
 vered an energising speech for students\, particularly those pursuing comp
 etitive exams. Dr. Jain shared her personal journey and spoke on the impor
 tance of resilience\, dedication\, and self-belief in overcoming obstacles
 . She offered invaluable insights on how to stay focused and manage the ch
 allenges of preparing for high-stakes exams\, emphasizing the role of disc
 ipline\, time management\, and maintaining mental well-being. Her words re
 sonated deeply with the students\, inspiring them to pursue their dreams w
 ith determination and a positive mindset.\n\nDr. Gaurav Gupta\, the first 
 Indian to earn a doctorate in Digital Forensics\, Dr. Gupta has dedicated 
 his career to raising awareness about technological frauds and cybercrimes
 . During his talk\, he highlighted the growing threats of digital frauds a
 nd the importance of digital security in today’s technological landscape
 . Dr. Gupta’s words resonated with the students\, urging them to conside
 r careers in digital forensics and to be proactive in identifying and prev
 enting technological crimes.\n\nRoom: LT-2\, Bldg: Academic Block\, Jaypee
  University Of Information Technology\, Solan\, Himachal Pradesh\, India\,
  173234
LOCATION:Room: LT-2\, Bldg: Academic Block\, Jaypee University Of Informati
 on Technology\, Solan\, Himachal Pradesh\, India\, 173234
ORGANIZER:ieee.juit@juitsolan.in
SEQUENCE:7
SUMMARY:Inaugral Ceremony-ENIGMA
URL;VALUE=URI:https://events.vtools.ieee.org/m/452433
X-ALT-DESC:Description: &lt;br /&gt;&lt;p class=&quot;MsoNormal&quot; style=&quot;margin-bottom: .0
 001pt\; text-align: center\; line-height: 115%\;&quot; align=&quot;center&quot;&gt;&lt;strong s
 tyle=&quot;mso-bidi-font-weight: normal\;&quot;&gt;&lt;u&gt;&lt;span lang=&quot;EN-US&quot; style=&quot;font-si
 ze: 12.0pt\; line-height: 115%\; font-family: &#39;Times New Roman&#39;\,&#39;serif&#39;\;
  mso-fareast-font-family: &#39;Times New Roman&#39;\;&quot;&gt;Dr. Tanu Jain and Dr. Gaura
 v Gupta at IEEE JUIT&#39;s Enigma Event&lt;/span&gt;&lt;/u&gt;&lt;/strong&gt;&lt;/p&gt;\n&lt;p class=&quot;Mso
 Normal&quot; style=&quot;margin-bottom: .0001pt\; line-height: 150%\;&quot;&gt;&lt;em style=&quot;ms
 o-bidi-font-style: normal\;&quot;&gt;&lt;span lang=&quot;EN-US&quot; style=&quot;font-size: 12.0pt\;
  line-height: 150%\; font-family: &#39;Times New Roman&#39;\,&#39;serif&#39;\; mso-fareast
 -font-family: &#39;Times New Roman&#39;\;&quot;&gt;December 6\, 2024 | IEEE JUIT SB\, Hima
 chal Pradesh&lt;/span&gt;&lt;/em&gt;&lt;span lang=&quot;EN-US&quot; style=&quot;font-size: 12.0pt\; line
 -height: 150%\; font-family: &#39;Times New Roman&#39;\,&#39;serif&#39;\; mso-fareast-font
 -family: &#39;Times New Roman&#39;\;&quot;&gt; &amp;ndash\;The IEEE JUIT Student Branch proudl
 y hosted its much-anticipated mini flagship event\, &lt;em style=&quot;mso-bidi-fo
 nt-style: normal\;&quot;&gt;Enigma&lt;/em&gt;\, an enriching experience designed to insp
 ire and empower students to excel in both their academic and professional 
 journeys. This dynamic event took place at the university campus and featu
 red two distinguished guest speakers\, Dr. Tanu Jain and Dr. Gaurav Gupta.
  Their presence brought a wealth of knowledge\, personal insights\, and mo
 tivation to the attendees.&lt;/span&gt;&lt;span lang=&quot;EN-US&quot; style=&quot;font-size: 12.0
 pt\; line-height: 150%\; font-family: &#39;Times New Roman&#39;\,&#39;serif&#39;\; mso-far
 east-font-family: &#39;Times New Roman&#39;\;&quot;&gt;Dr. Tanu Jain\, a renowned former b
 ureaucrat and motivational speaker\, delivered an energising speech for st
 udents\, particularly those pursuing competitive exams. Dr. Jain shared he
 r personal journey and spoke on the importance of resilience\, dedication\
 , and self-belief in overcoming obstacles. She offered invaluable insights
  on how to stay focused and manage the challenges of preparing for high-st
 akes exams\, emphasizing the role of discipline\, time management\, and ma
 intaining mental well-being. Her words resonated deeply with the students\
 , inspiring them to pursue their dreams with determination and a positive 
 mindset.&lt;/span&gt;&lt;/p&gt;\n&lt;p class=&quot;MsoNormal&quot; style=&quot;margin-bottom: .0001pt\; 
 line-height: 150%\;&quot;&gt;&lt;span lang=&quot;EN-US&quot; style=&quot;font-size: 12.0pt\; line-he
 ight: 150%\; font-family: &#39;Times New Roman&#39;\,&#39;serif&#39;\; mso-fareast-font-fa
 mily: &#39;Times New Roman&#39;\;&quot;&gt;Dr. Gaurav Gupta\, the first Indian to earn a d
 octorate in Digital Forensics\, Dr. Gupta has dedicated his career to rais
 ing awareness about technological frauds and cybercrimes. During his talk\
 , he highlighted the growing threats of digital frauds and the importance 
 of digital security in today&amp;rsquo\;s technological landscape. Dr. Gupta&amp;r
 squo\;s words resonated with the students\, urging them to consider career
 s in digital forensics and to be proactive in identifying and preventing t
 echnological crimes. &amp;nbsp\; &amp;nbsp\;&lt;img src=&quot;https://events.vtools.ieee.o
 rg/vtools_ui/media/display/01e689be-d3f1-460a-8ce3-bc1a4447af86&quot; width=&quot;15
 7&quot; height=&quot;105&quot;&gt; &amp;nbsp\; &lt;img src=&quot;https://events.vtools.ieee.org/vtools_u
 i/media/display/2cf5aa06-94b8-4adc-bf1e-3e4905d92dd2&quot; width=&quot;152&quot; height=&quot;
 101&quot;&gt; &amp;nbsp\; &lt;img src=&quot;https://events.vtools.ieee.org/vtools_ui/media/dis
 play/7ab180f9-f3de-402c-a15c-2b15a617e977&quot; width=&quot;168&quot; height=&quot;112&quot;&gt;&lt;/span
 &gt;&lt;/p&gt;\n&lt;p class=&quot;MsoNormal&quot; style=&quot;margin-bottom: .0001pt\; line-height: 1
 50%\;&quot;&gt;&lt;span lang=&quot;EN-US&quot; style=&quot;font-size: 12.0pt\; line-height: 150%\; f
 ont-family: &#39;Times New Roman&#39;\,&#39;serif&#39;\; mso-fareast-font-family: &#39;Times N
 ew Roman&#39;\;&quot;&gt;&amp;nbsp\;&lt;/span&gt;&lt;/p&gt;
END:VEVENT
END:VCALENDAR

