BEGIN:VCALENDAR
VERSION:2.0
PRODID:IEEE vTools.Events//EN
CALSCALE:GREGORIAN
BEGIN:VTIMEZONE
TZID:Asia/Karachi
BEGIN:STANDARD
DTSTART:20091031T230000
TZOFFSETFROM:+0600
TZOFFSETTO:+0500
TZNAME:PKT
END:STANDARD
END:VTIMEZONE
BEGIN:VEVENT
DTSTAMP:20241213T080603Z
UID:24629A6D-09C2-4E11-A390-93D86ACA56A0
DTSTART;TZID=Asia/Karachi:20231209T180000
DTEND;TZID=Asia/Karachi:20231209T200000
DESCRIPTION:Ayaz Khan and Engr. Khadija Khan\, esteemed speakers and\nschol
 arship recipients\, conducted an engaging session guiding\nstudents on sch
 olarship applications. The webinar drew active\nparticipation\, with stude
 nts seeking insights on the application\nprocess\, required documents\, an
 d optimal submission timelines.\nBoth speakers addressed queries and share
 d valuable tips on\napplication timing\, documentation\, and successful st
 rategies. The\nstudents&#39; enthusiastic engagement reflected a genuine inter
 est in\nseeking financial aid for their studies.\n\nAgenda: \nThe primary 
 objective of the webinar was to offer guidance and\nadvice to current stud
 ents on the application process for\nscholarships. Both speakers\, being s
 uccessful candidates\, shared\ntheir experiences and knowledge\, intending
  to empower students to\npursue and secure scholarships for their academic
  pursuits.\n\nVirtual: https://events.vtools.ieee.org/m/452562
LOCATION:Virtual: https://events.vtools.ieee.org/m/452562
ORGANIZER:reehabahmedraja@gmail.com
SEQUENCE:16
SUMMARY:Scholarship Webinar
URL;VALUE=URI:https://events.vtools.ieee.org/m/452562
X-ALT-DESC:Description: &lt;br /&gt;&lt;p&gt;&amp;nbsp\;&lt;/p&gt;\n&lt;p&gt;Ayaz Khan and Engr. Khadij
 a Khan\, esteemed speakers and&lt;br&gt;scholarship recipients\, conducted an en
 gaging session guiding&lt;br&gt;students on scholarship applications. The webina
 r drew active&lt;br&gt;participation\, with students seeking insights on the app
 lication&lt;br&gt;process\, required documents\, and optimal submission timeline
 s.&lt;br&gt;Both speakers addressed queries and shared valuable tips on&lt;br&gt;appli
 cation timing\, documentation\, and successful strategies. The&lt;br&gt;students
 &#39; enthusiastic engagement reflected a genuine interest in&lt;br&gt;seeking finan
 cial aid for their studies.&lt;/p&gt;&lt;br /&gt;&lt;br /&gt;Agenda: &lt;br /&gt;&lt;p&gt;The primary ob
 jective of the webinar was to offer guidance and&lt;br&gt;advice to current stud
 ents on the application process for&lt;br&gt;scholarships. Both speakers\, being
  successful candidates\, shared&lt;br&gt;their experiences and knowledge\, inten
 ding to empower students to&lt;br&gt;pursue and secure scholarships for their ac
 ademic pursuits.&lt;/p&gt;
END:VEVENT
END:VCALENDAR

