BEGIN:VCALENDAR
VERSION:2.0
PRODID:IEEE vTools.Events//EN
CALSCALE:GREGORIAN
BEGIN:VTIMEZONE
TZID:Europe/Paris
BEGIN:DAYLIGHT
DTSTART:20250330T030000
TZOFFSETFROM:+0100
TZOFFSETTO:+0200
RRULE:FREQ=YEARLY;BYDAY=-1SU;BYMONTH=3
TZNAME:CEST
END:DAYLIGHT
BEGIN:STANDARD
DTSTART:20251026T020000
TZOFFSETFROM:+0200
TZOFFSETTO:+0100
RRULE:FREQ=YEARLY;BYDAY=-1SU;BYMONTH=10
TZNAME:CET
END:STANDARD
END:VTIMEZONE
BEGIN:VEVENT
DTSTAMP:20250913T115536Z
UID:62E10271-9F70-4804-BECF-D2B0BBC41AC5
DTSTART;TZID=Europe/Paris:20250410T130000
DTEND;TZID=Europe/Paris:20250410T140000
DESCRIPTION:Meeting&#39;s Content:\n\nDuring this Assembly\, members of the PES
 xPELS chapter will be introduced to NRTF.\n\nThe EXcom alongside the NRTF 
 committee will explain NRTF&#39;s axes and objectives for the 2025 edition.\n\
 nEach member of the NRTF committee will introduce themselves and explain t
 heir responsibilities.\n\nThe project manager of NRTF will explain this ye
 ar&#39;s vision for the event\n\nAgenda: \n- NRTF Introduction\n- Introduction
  of the event&#39;s committee\n- Discussion of this year&#39;s edition: the rebran
 ding and the new vision\n\nRue La Cité des Sciences à Tunis\, Tunis 1082
 \, Tunis\, Tunis\, Tunisia\, 7098
LOCATION:Rue La Cité des Sciences à Tunis\, Tunis 1082\, Tunis\, Tunis\, 
 Tunisia\, 7098
ORGANIZER:Ieeepesinsat@gmail.com
SEQUENCE:17
SUMMARY:Meeting:NRTF General Assembly
URL;VALUE=URI:https://events.vtools.ieee.org/m/452568
X-ALT-DESC:Description: &lt;br /&gt;&lt;p&gt;&lt;strong&gt;Meeting&#39;s Content:&amp;nbsp\;&lt;/strong&gt;
 &lt;/p&gt;\n&lt;p&gt;During this Assembly\, members of the PESxPELS chapter will be in
 troduced to NRTF.&amp;nbsp\;&lt;/p&gt;\n&lt;p&gt;The EXcom alongside the NRTF committee wi
 ll explain NRTF&#39;s axes and objectives for the 2025 edition.&lt;/p&gt;\n&lt;p&gt;Each m
 ember of the NRTF committee will introduce themselves and explain their re
 sponsibilities.&lt;/p&gt;\n&lt;p&gt;The project manager of NRTF will explain this year
 &#39;s vision for the event&amp;nbsp\;&lt;/p&gt;&lt;br /&gt;&lt;br /&gt;Agenda: &lt;br /&gt;&lt;ol&gt;\n&lt;li&gt;NRTF
  Introduction&lt;/li&gt;\n&lt;li&gt;Introduction of the event&#39;s committee&lt;/li&gt;\n&lt;li&gt;Di
 scussion of this year&#39;s edition: the rebranding and the new vision&lt;/li&gt;\n&lt;
 /ol&gt;
END:VEVENT
END:VCALENDAR

