BEGIN:VCALENDAR
VERSION:2.0
PRODID:IEEE vTools.Events//EN
CALSCALE:GREGORIAN
BEGIN:VTIMEZONE
TZID:America/Chicago
BEGIN:DAYLIGHT
DTSTART:20250309T030000
TZOFFSETFROM:-0600
TZOFFSETTO:-0500
RRULE:FREQ=YEARLY;BYDAY=2SU;BYMONTH=3
TZNAME:CDT
END:DAYLIGHT
BEGIN:STANDARD
DTSTART:20251102T010000
TZOFFSETFROM:-0500
TZOFFSETTO:-0600
RRULE:FREQ=YEARLY;BYDAY=1SU;BYMONTH=11
TZNAME:CST
END:STANDARD
END:VTIMEZONE
BEGIN:VEVENT
DTSTAMP:20250423T171835Z
UID:5C8E1715-EB9F-4D11-A8C4-1AEDC5C53922
DTSTART;TZID=America/Chicago:20250328T180000
DTEND;TZID=America/Chicago:20250330T170000
DESCRIPTION:The 2025 IEEE Region 5 Annual Business Meeting and Student Comp
 etitions will be held in Wichita\, Kansas between the 28th – 30th of Mar
 ch\, 2025. On Friday\, March 28\, there will be a reception from 6 PM onwa
 rds.\n\nStudent Competitions\n\nFor more information about the competition
 \, visit the [Student Competitions webpage](https://r5conferences.org/stud
 ent-activities/). Student Teams interested in competing will also need to 
 complete the Intent to Compete forms from the competition of their choice.
 \n\nCo-sponsored by: Region 5\n\nBldg: Woolsey Hall\, Wichita State Univer
 sity\, Wichita\, Kansas\, United States\, 67208
LOCATION:Bldg: Woolsey Hall\, Wichita State University\, Wichita\, Kansas\,
  United States\, 67208
ORGANIZER:r.graham@ieee.org
SEQUENCE:22
SUMMARY:IEEE Region 5 Conferences 2025 - Student Competitions
URL;VALUE=URI:https://events.vtools.ieee.org/m/452698
X-ALT-DESC:Description: &lt;br /&gt;&lt;p&gt;The 2025 IEEE Region 5 Annual Business Mee
 ting and Student Competitions will be held in Wichita\, Kansas between the
  28th &amp;ndash\; 30th of March\, 2025. On Friday\, March 28\, there will be 
 a reception from 6 PM onwards.&lt;/p&gt;\n&lt;p&gt;&amp;nbsp\;&lt;/p&gt;\n&lt;p&gt;&lt;strong&gt;Student Com
 petitions&lt;/strong&gt;&lt;/p&gt;\n&lt;p&gt;For more information about the competition\, vi
 sit the&amp;nbsp\;&lt;span style=&quot;color: rgb(0\, 0\, 0)\;&quot;&gt;&lt;a style=&quot;color: rgb(0
 \, 0\, 0)\;&quot; href=&quot;https://r5conferences.org/student-activities/&quot; target=&quot;
 _blank&quot; rel=&quot;noopener&quot;&gt;Student Competitions webpage&lt;/a&gt;.&lt;/span&gt;&amp;nbsp\; Stu
 dent Teams interested in competing will also need to complete the Intent t
 o Compete forms from the competition of their choice.&lt;/p&gt;
END:VEVENT
END:VCALENDAR

