BEGIN:VCALENDAR
VERSION:2.0
PRODID:IEEE vTools.Events//EN
CALSCALE:GREGORIAN
BEGIN:VTIMEZONE
TZID:America/New_York
BEGIN:DAYLIGHT
DTSTART:20250309T030000
TZOFFSETFROM:-0500
TZOFFSETTO:-0400
RRULE:FREQ=YEARLY;BYDAY=2SU;BYMONTH=3
TZNAME:EDT
END:DAYLIGHT
BEGIN:STANDARD
DTSTART:20241103T010000
TZOFFSETFROM:-0400
TZOFFSETTO:-0500
RRULE:FREQ=YEARLY;BYDAY=1SU;BYMONTH=11
TZNAME:EST
END:STANDARD
END:VTIMEZONE
BEGIN:VEVENT
DTSTAMP:20241221T131644Z
UID:29B8015F-2DF0-4777-88B1-E51124D38F30
DTSTART;TZID=America/New_York:20241218T103000
DTEND;TZID=America/New_York:20241218T113000
DESCRIPTION:Speaker: Dr. Jun Yan\, Associate Professor\, Concordia Universi
 ty\, Montréal\, Canada\n\nHost: Dept. of Electrical Engineering and Compu
 ter Science\, Florida Atlantic University\, Boca Raton\, FL\nhttps://eecs.
 fau.edu\n\nAI-powered technologies and solutions are increasingly transfor
 ming the energy landscape for researchers\, industries\, and consumers ali
 ke. In the pursuit of affordable\, reliable\, and sustainable electricity\
 , AI presents both exciting opportunities and critical barriers across the
  generation\, consumption\, storage\, and transaction\, leading towards a 
 decentralized energy autonomy tailored to diverse local contexts and prior
 ities. The talk will look at these solutions and challenges through the le
 ns of Agentic AI\, a novel perspective inspired by recent breakthroughs of
  foundation models. By exploring this frontier\, we will discuss emerging 
 paradigms and pivotal questions shaping the future of AI-powered energy sy
 stems. The discussion will spotlight recent research projects and initiati
 ves in areas such as security automation\, digital twinning\, knowledge in
 tegration\, and cross-disciplinary education to foster further discussions
  and collaborations.\n\nRegister here: https://fau-edu.zoom.us/meeting/reg
 ister/tZwkceihqjwoG9aMG0t6ImhqKrQsQryWzwXh\n\n[]\n\nCo-sponsored by: Dept 
 of Electrical Engineering and Computer Science\, Florida Atlantic Universi
 ty\; Institute for Sensing and Embedded Network Systems Engineering  (I-SE
 NSE)\, Florida Atlantic University\n\nSpeaker(s): Jun Yan\n\nVirtual: http
 s://events.vtools.ieee.org/m/452760
LOCATION:Virtual: https://events.vtools.ieee.org/m/452760
ORGANIZER:hkalva@fau.edu
SEQUENCE:12
SUMMARY:Energy Autonomy through Agentic AI: Challenges and Opportunities 
URL;VALUE=URI:https://events.vtools.ieee.org/m/452760
X-ALT-DESC:Description: &lt;br /&gt;&lt;p class=&quot;xmsonormal&quot; style=&quot;text-align: cent
 er\;&quot; align=&quot;center&quot;&gt;&lt;strong&gt;&lt;span style=&quot;font-size: 12.0pt\; font-family:
  &#39;Times New Roman&#39;\,serif\;&quot;&gt;Speaker:&lt;/span&gt;&lt;/strong&gt;&lt;span style=&quot;font-siz
 e: 12.0pt\; font-family: &#39;Times New Roman&#39;\,serif\;&quot;&gt; Dr. Jun Yan\, &lt;span 
 style=&quot;font-size: 11.0pt\; font-family: &#39;Times New Roman&#39;\,serif\; mso-far
 east-font-family: &#39;Times New Roman&#39;\; mso-font-kerning: 0pt\; mso-ligature
 s: none\; mso-ansi-language: EN-US\; mso-fareast-language: EN-US\; mso-bid
 i-language: AR-SA\;&quot;&gt;Associate Professor\, Concordia University\, Montr&amp;ea
 cute\;al\, Canada&lt;/span&gt;&lt;/span&gt;&lt;/p&gt;\n&lt;p class=&quot;MsoNormal&quot; style=&quot;backgroun
 d: white\; vertical-align: baseline\; text-align: center\;&quot;&gt;&lt;span style=&quot;f
 ont-family: &#39;Times New Roman&#39;\,serif\; color: black\; mso-color-alt: windo
 wtext\;&quot;&gt;&lt;strong&gt;Host: Dept. of Electrical Engineering and Computer Scienc
 e\, Florida Atlantic University\, Boca Raton\, FL&lt;/strong&gt;&lt;br&gt;&lt;a href=&quot;htt
 ps://eecs.fau.edu&quot;&gt;https://eecs.fau.edu&lt;/a&gt;&amp;nbsp\;&lt;/span&gt;&lt;/p&gt;\n&lt;p class=&quot;M
 soNormal&quot;&gt;AI-powered technologies and solutions are increasingly transform
 ing the energy landscape for researchers\, industries\, and consumers alik
 e. In the pursuit of affordable\, reliable\, and sustainable electricity\,
  AI presents both exciting opportunities and critical barriers across the 
 generation\, consumption\, storage\, and transaction\, leading towards a d
 ecentralized energy autonomy tailored to diverse local contexts and priori
 ties. The talk will look at these solutions and challenges through the len
 s of Agentic AI\, a novel perspective inspired by recent breakthroughs of 
 foundation models. By exploring this frontier\, we will discuss emerging p
 aradigms and pivotal questions shaping the future of AI-powered energy sys
 tems. The discussion will spotlight recent research projects and initiativ
 es in areas such as security automation\, digital twinning\, knowledge int
 egration\, and cross-disciplinary education to foster further discussions 
 and collaborations.&lt;/p&gt;\n&lt;p class=&quot;MsoNormal&quot; style=&quot;background: white\; v
 ertical-align: baseline\; text-align: center\;&quot;&gt;&lt;span style=&quot;font-size: 11
 .0pt\; line-height: 115%\; font-family: &#39;Times New Roman&#39;\,serif\; mso-far
 east-font-family: Calibri\; mso-fareast-theme-font: minor-latin\; mso-ansi
 -language: EN-US\; mso-fareast-language: EN-US\; mso-bidi-language: AR-SA\
 ;&quot;&gt;Register here: &lt;a href=&quot;https://fau-edu.zoom.us/meeting/register/tZwkce
 ihqjwoG9aMG0t6ImhqKrQsQryWzwXh&quot;&gt;https://fau-edu.zoom.us/meeting/register/t
 ZwkceihqjwoG9aMG0t6ImhqKrQsQryWzwXh&lt;/a&gt;&amp;nbsp\;&lt;/span&gt;&lt;/p&gt;\n&lt;p class=&quot;MsoNo
 rmal&quot; style=&quot;background: white\; vertical-align: baseline\;&quot;&gt;&lt;span style=&quot;
 font-size: 11.0pt\; line-height: 115%\; font-family: &#39;Times New Roman&#39;\,se
 rif\; mso-fareast-font-family: Calibri\; mso-fareast-theme-font: minor-lat
 in\; mso-ansi-language: EN-US\; mso-fareast-language: EN-US\; mso-bidi-lan
 guage: AR-SA\;&quot;&gt;&lt;span style=&quot;font-size: 11.0pt\; line-height: 115%\; font-
 family: &#39;Calibri&#39;\,sans-serif\; mso-ascii-theme-font: minor-latin\; mso-fa
 reast-font-family: Calibri\; mso-fareast-theme-font: minor-latin\; mso-han
 si-theme-font: minor-latin\; mso-bidi-font-family: Arial\; mso-bidi-theme-
 font: minor-bidi\; mso-ansi-language: EN-US\; mso-fareast-language: EN-US\
 ; mso-bidi-language: AR-SA\;&quot;&gt;&lt;strong&gt;&lt;span style=&quot;font-size: 12.0pt\; lin
 e-height: 115%\; font-family: &#39;Times New Roman&#39;\,serif\;&quot;&gt;&lt;img style=&quot;disp
 lay: block\; margin-left: auto\; margin-right: auto\;&quot; src=&quot;https://events
 .vtools.ieee.org/vtools_ui/media/display/4cf26f6c-4503-448a-837f-e072f9de0
 130&quot; alt=&quot;&quot; width=&quot;274&quot; height=&quot;175&quot;&gt;&lt;/span&gt;&lt;/strong&gt;&lt;/span&gt;&lt;/span&gt;&lt;/p&gt;
END:VEVENT
END:VCALENDAR

