BEGIN:VCALENDAR
VERSION:2.0
PRODID:IEEE vTools.Events//EN
CALSCALE:GREGORIAN
BEGIN:VTIMEZONE
TZID:Europe/Paris
BEGIN:DAYLIGHT
DTSTART:20240331T030000
TZOFFSETFROM:+0100
TZOFFSETTO:+0200
RRULE:FREQ=YEARLY;BYDAY=-1SU;BYMONTH=3
TZNAME:CEST
END:DAYLIGHT
BEGIN:STANDARD
DTSTART:20241027T020000
TZOFFSETFROM:+0200
TZOFFSETTO:+0100
RRULE:FREQ=YEARLY;BYDAY=-1SU;BYMONTH=10
TZNAME:CET
END:STANDARD
END:VTIMEZONE
BEGIN:VEVENT
DTSTAMP:20241215T221842Z
UID:AFE1DC0D-ED62-4B9C-9AFF-304124CE9C3E
DTSTART;TZID=Europe/Paris:20240919T203000
DTEND;TZID=Europe/Paris:20240919T220000
DESCRIPTION:After discovering the importance of photovoltaic (PV) technolog
 y and how we can harness solar power from space in the second session of o
 ur event\, Tec Week 1.0\, we continued with Mrs. Wejden Boudhina\, an ener
 getic engineer and the communication team leader at the Tunisian Space Ass
 ociation. In this session\, which focused on power-based solar panels\, Mr
 s. Boudhina discussed the environmental and economic aspects of space-base
 d solar power.\n\nSfax\, Sfax\, Tunisia\, 3016
LOCATION:Sfax\, Sfax\, Tunisia\, 3016
ORGANIZER:rana.naifar@ieee.org
SEQUENCE:19
SUMMARY:TecWeek 1.0 Session :Continuing the Exploration of Space-Based Sola
 r Panels
URL;VALUE=URI:https://events.vtools.ieee.org/m/453419
X-ALT-DESC:Description: &lt;br /&gt;&lt;p&gt;After discovering the importance of photov
 oltaic (PV) technology and how we can harness solar power from space in th
 e second session of our event\, &lt;span style=&quot;color: rgb(186\, 55\, 42)\;&quot;&gt;
 &lt;strong&gt;&lt;em&gt;Tec Week 1.0&lt;/em&gt;&lt;/strong&gt;&lt;/span&gt;\, we continued with Mrs. Wej
 den Boudhina\, an energetic engineer and the communication team leader at 
 the Tunisian Space Association. In this session\, which focused on power-b
 ased solar panels\, Mrs. Boudhina discussed the environmental and economic
  aspects of space-based solar power.&lt;/p&gt;\n&lt;p&gt;&lt;img style=&quot;display: block\; 
 margin-left: auto\; margin-right: auto\;&quot; src=&quot;https://events.vtools.ieee.
 org/vtools_ui/media/display/b9fa2f23-631c-4a59-a734-6b2507b35a70&quot; width=&quot;4
 59&quot; height=&quot;258&quot;&gt;&lt;/p&gt;
END:VEVENT
END:VCALENDAR

