BEGIN:VCALENDAR
VERSION:2.0
PRODID:IEEE vTools.Events//EN
CALSCALE:GREGORIAN
BEGIN:VTIMEZONE
TZID:America/Guatemala
BEGIN:STANDARD
DTSTART:20060930T230000
TZOFFSETFROM:-0500
TZOFFSETTO:-0600
TZNAME:CST
END:STANDARD
END:VTIMEZONE
BEGIN:VEVENT
DTSTAMP:20241216T011353Z
UID:6EE6B129-FE10-4A1C-AAE2-7217D1F1B5CF
DTSTART;TZID=America/Guatemala:20241016T170000
DTEND;TZID=America/Guatemala:20241016T200000
DESCRIPTION:Se abordaran los aspectos fundamentales sobre los transientes\,
  normativa en la cual se basan los supresores\, conceptos relevantes para 
 la seleccción\, clasificación\, tipos y recomendaciones de instalación.
 \n\nCo-sponsored by: GreenTec y ABB\n\nVirtual: https://events.vtools.ieee
 .org/m/453438
LOCATION:Virtual: https://events.vtools.ieee.org/m/453438
ORGANIZER:honduras@ieee.org
SEQUENCE:0
SUMMARY:SOLUCIONES PARA PERTURBACIONES TRANSITORIAS
URL;VALUE=URI:https://events.vtools.ieee.org/m/453438
X-ALT-DESC:Description: &lt;br /&gt;&lt;p&gt;Se abordaran los aspectos fundamentales so
 bre los transientes\, normativa en la cual se basan los supresores\, conce
 ptos relevantes para la seleccci&amp;oacute\;n\, clasificaci&amp;oacute\;n\, tipos
  y recomendaciones de instalaci&amp;oacute\;n.&lt;/p&gt;
END:VEVENT
END:VCALENDAR

